BEGIN:VCALENDAR
VERSION:2.0
PRODID:-//Concerts &amp; events at Kikar Hamusica - ECPv6.15.20//NONSGML v1.0//EN
CALSCALE:GREGORIAN
METHOD:PUBLISH
X-WR-CALNAME:Concerts &amp; events at Kikar Hamusica
X-ORIGINAL-URL:https://kikar-hamusica.com/shows/en
X-WR-CALDESC:Events for Concerts &amp; events at Kikar Hamusica
REFRESH-INTERVAL;VALUE=DURATION:PT1H
X-Robots-Tag:noindex
X-PUBLISHED-TTL:PT1H
BEGIN:VTIMEZONE
TZID:Asia/Jerusalem
BEGIN:DAYLIGHT
TZOFFSETFROM:+0200
TZOFFSETTO:+0300
TZNAME:IDT
DTSTART:20250328T000000
END:DAYLIGHT
BEGIN:STANDARD
TZOFFSETFROM:+0300
TZOFFSETTO:+0200
TZNAME:IST
DTSTART:20251025T230000
END:STANDARD
BEGIN:DAYLIGHT
TZOFFSETFROM:+0200
TZOFFSETTO:+0300
TZNAME:IDT
DTSTART:20260327T000000
END:DAYLIGHT
BEGIN:STANDARD
TZOFFSETFROM:+0300
TZOFFSETTO:+0200
TZNAME:IST
DTSTART:20261024T230000
END:STANDARD
BEGIN:DAYLIGHT
TZOFFSETFROM:+0200
TZOFFSETTO:+0300
TZNAME:IDT
DTSTART:20270326T000000
END:DAYLIGHT
BEGIN:STANDARD
TZOFFSETFROM:+0300
TZOFFSETTO:+0200
TZNAME:IST
DTSTART:20271030T230000
END:STANDARD
END:VTIMEZONE
BEGIN:VEVENT
DTSTART;TZID=Asia/Jerusalem:20260525T200000
DTEND;TZID=Asia/Jerusalem:20260525T220000
DTSTAMP:20260419T170757
CREATED:20260416T121344Z
LAST-MODIFIED:20260416T121344Z
UID:8957-1779739200-1779746400@kikar-hamusica.com
SUMMARY:Beat Coin
DESCRIPTION:The group “Beat Coin” performs the best Israeli and foreign music of all time. Musicians: Eli Touboul – drums Avi Ben Yosef – vocals and acoustic guitar Hilik Gino – guitar\, vocals and musical direction So leave everything … it will be cheerful and joyful
URL:https://kikar-hamusica.com/shows/en/event/beat-coin-2/
CATEGORIES:Israeli music,Pop music
ATTACH;FMTTYPE=image/webp:https://kikar-hamusica.com/shows/en/wp-content/uploads/2024/07/beat-coin-kikar-hamusica.webp
END:VEVENT
END:VCALENDAR