BEGIN:VCALENDAR
VERSION:2.0
PRODID:-//Concerts &amp; events at Kikar Hamusica - ECPv6.15.20//NONSGML v1.0//EN
CALSCALE:GREGORIAN
METHOD:PUBLISH
X-ORIGINAL-URL:https://kikar-hamusica.com/shows/en
X-WR-CALDESC:Events for Concerts &amp; events at Kikar Hamusica
REFRESH-INTERVAL;VALUE=DURATION:PT1H
X-Robots-Tag:noindex
X-PUBLISHED-TTL:PT1H
BEGIN:VTIMEZONE
TZID:Asia/Jerusalem
BEGIN:DAYLIGHT
TZOFFSETFROM:+0200
TZOFFSETTO:+0300
TZNAME:IDT
DTSTART:20250328T000000
END:DAYLIGHT
BEGIN:STANDARD
TZOFFSETFROM:+0300
TZOFFSETTO:+0200
TZNAME:IST
DTSTART:20251025T230000
END:STANDARD
BEGIN:DAYLIGHT
TZOFFSETFROM:+0200
TZOFFSETTO:+0300
TZNAME:IDT
DTSTART:20260327T000000
END:DAYLIGHT
BEGIN:STANDARD
TZOFFSETFROM:+0300
TZOFFSETTO:+0200
TZNAME:IST
DTSTART:20261024T230000
END:STANDARD
BEGIN:DAYLIGHT
TZOFFSETFROM:+0200
TZOFFSETTO:+0300
TZNAME:IDT
DTSTART:20270326T000000
END:DAYLIGHT
BEGIN:STANDARD
TZOFFSETFROM:+0300
TZOFFSETTO:+0200
TZNAME:IST
DTSTART:20271030T230000
END:STANDARD
END:VTIMEZONE
BEGIN:VEVENT
DTSTART;TZID=Asia/Jerusalem:20260515T093000
DTEND;TZID=Asia/Jerusalem:20260515T113000
DTSTAMP:20260419T205213
CREATED:20260416T121231Z
LAST-MODIFIED:20260416T121231Z
UID:10003284-1778837400-1778844600@kikar-hamusica.com
SUMMARY:Yehuda Ashash
DESCRIPTION:Yehuda Ashash – Classic Jerusalem music\, he studied music and sound design in The States. For many years he produced and performed in different groups in Israel and the world in the genre of Rock and World music. Today\, he mostly composes music for movies and TV. At Kikar Hamusica Yehuda Ashash performs an assortiment of hebrew and english songs from classical to world to Pop and Rock.
URL:https://kikar-hamusica.com/shows/en/event/yehuda-ashash-5/
CATEGORIES:Israeli music
ATTACH;FMTTYPE=image/webp:https://kikar-hamusica.com/shows/en/wp-content/uploads/2024/07/yehuda-ashash-kikar-hamusica.webp
END:VEVENT
BEGIN:VEVENT
DTSTART;TZID=Asia/Jerusalem:20260515T120000
DTEND;TZID=Asia/Jerusalem:20260515T140000
DTSTAMP:20260419T205213
CREATED:20260416T121232Z
LAST-MODIFIED:20260416T121232Z
UID:10003285-1778846400-1778853600@kikar-hamusica.com
SUMMARY:Sihara
DESCRIPTION:Sihara – rock pop and world music. Four musicians from Jerusalem in an energetic show of pop rock and world music. Sihara performs covers of well-known songs as well as original inspired songs. Yehuda Ashash: Oud\, guitar and voice\, Gil Shapira: guitar and voice\, Noam Yadgar: Bass and Nissan Levi: drums and percussion.
URL:https://kikar-hamusica.com/shows/en/event/sihara-4/
CATEGORIES:World music
ATTACH;FMTTYPE=image/webp:https://kikar-hamusica.com/shows/en/wp-content/uploads/2024/12/sihara-kikar-hamusica-lMYzK1.tmp_.webp
END:VEVENT
BEGIN:VEVENT
DTSTART;TZID=Asia/Jerusalem:20260516T200000
DTEND;TZID=Asia/Jerusalem:20260516T220000
DTSTAMP:20260419T205213
CREATED:20260416T121233Z
LAST-MODIFIED:20260416T121233Z
UID:10003286-1778961600-1778968800@kikar-hamusica.com
SUMMARY:Shabat
DESCRIPTION:No concert
URL:https://kikar-hamusica.com/shows/en/event/shabat-3/
ATTACH;FMTTYPE=image/webp:https://kikar-hamusica.com/shows/en/wp-content/uploads/2025/02/chabath-kikar-hamusica.webp
END:VEVENT
BEGIN:VEVENT
DTSTART;TZID=Asia/Jerusalem:20260517T120000
DTEND;TZID=Asia/Jerusalem:20260517T140000
DTSTAMP:20260419T205213
CREATED:20260416T121234Z
LAST-MODIFIED:20260416T121234Z
UID:10003287-1779019200-1779026400@kikar-hamusica.com
SUMMARY:Ido Cohen
DESCRIPTION:From old classics to today’s hits.\nIdo tries to touch all worlds of music so that everyone can enjoy and have a pleasant musical experience\nFrom Shlomo Artzi to Franck Sintra\, from Idan Raichel to Coldplay…\nAll worlds in one place
URL:https://kikar-hamusica.com/shows/en/event/ido-cohen-4/
CATEGORIES:Israeli music
ATTACH;FMTTYPE=image/webp:https://kikar-hamusica.com/shows/en/wp-content/uploads/2024/10/ido-cohen-kikar-hamusica.webp
END:VEVENT
BEGIN:VEVENT
DTSTART;TZID=Asia/Jerusalem:20260517T173000
DTEND;TZID=Asia/Jerusalem:20260517T193000
DTSTAMP:20260419T205213
CREATED:20260416T121244Z
LAST-MODIFIED:20260416T121244Z
UID:10003288-1779039000-1779046200@kikar-hamusica.com
SUMMARY:Frida Libman
DESCRIPTION:Frida Libman Graduated with a master’s degree in musical art and performance. Pianist and musician with rich experience in arrangements and concerts. She acquired her musical training in the USSR and Israel.
URL:https://kikar-hamusica.com/shows/en/event/frida-libman-3/
CATEGORIES:Classical music
ATTACH;FMTTYPE=image/webp:https://kikar-hamusica.com/shows/en/wp-content/uploads/2025/03/frida-libman-2025-kikar-hamusica.webp
END:VEVENT
BEGIN:VEVENT
DTSTART;TZID=Asia/Jerusalem:20260517T200000
DTEND;TZID=Asia/Jerusalem:20260517T220000
DTSTAMP:20260419T205213
CREATED:20260416T121245Z
LAST-MODIFIED:20260416T121245Z
UID:10003289-1779048000-1779055200@kikar-hamusica.com
SUMMARY:Shuki Miletski & Erez brothers
DESCRIPTION:We will bring you an exciting and captivating show from authentic Jewish music to pleasant and addictive country music\nCalm and exciting songs alongside happy and bouncy songs. We came to rejoice with you\nEnjoy!!
URL:https://kikar-hamusica.com/shows/en/event/shuki-miletski-erez-brothers/
CATEGORIES:Israeli music
ATTACH;FMTTYPE=image/webp:https://kikar-hamusica.com/shows/en/wp-content/uploads/2025/03/Shuki-Miletski-freres-Erez-kikar-hamusica-jerusalem.webp
END:VEVENT
BEGIN:VEVENT
DTSTART;TZID=Asia/Jerusalem:20260518T120000
DTEND;TZID=Asia/Jerusalem:20260518T140000
DTSTAMP:20260419T205213
CREATED:20260416T121246Z
LAST-MODIFIED:20260416T121246Z
UID:10003290-1779105600-1779112800@kikar-hamusica.com
SUMMARY:Jack Lev
DESCRIPTION:Hi I’m Jack Lev\, an american singer whos here to play to your hearts desires. From old songs to new songs\, English or Hebrew\, just ask and you will probably recieve
URL:https://kikar-hamusica.com/shows/en/event/jack-lev-4/
CATEGORIES:Pop music
ATTACH;FMTTYPE=image/webp:https://kikar-hamusica.com/shows/en/wp-content/uploads/2024/12/jack-lev-kikar-hamusica-DDn1Lh.tmp_.webp
END:VEVENT
BEGIN:VEVENT
DTSTART;TZID=Asia/Jerusalem:20260518T173000
DTEND;TZID=Asia/Jerusalem:20260518T193000
DTSTAMP:20260419T205213
CREATED:20260416T121247Z
LAST-MODIFIED:20260416T121247Z
UID:10003291-1779125400-1779132600@kikar-hamusica.com
SUMMARY:Jason Rozenblatt
DESCRIPTION:Featuring genre-busting harmonica and rollicking New Orleans piano\, Jason Rosenblatt delivers a twisted take on blues\, gospel and early jazz. Rosenblatt’s original repertoire is gritty but performed with good humour. Jason Rosenblatt – piano\, harmonica
URL:https://kikar-hamusica.com/shows/en/event/jason-rozenblatt-3/
CATEGORIES:Jazz,Kleizmer
ATTACH;FMTTYPE=image/webp:https://kikar-hamusica.com/shows/en/wp-content/uploads/2026/03/quartet-jason-rosenblatt-kikar-hamusica-hcAdpC.webp
END:VEVENT
BEGIN:VEVENT
DTSTART;TZID=Asia/Jerusalem:20260518T200000
DTEND;TZID=Asia/Jerusalem:20260518T220000
DTSTAMP:20260419T205213
CREATED:20260416T121248Z
LAST-MODIFIED:20260416T121248Z
UID:10003292-1779134400-1779141600@kikar-hamusica.com
SUMMARY:Amir Shreiber & the Greek Groove
DESCRIPTION:Amir Schreiber and the Greek groov ‘… An energetic show of Greek and Gypsy songs and classics translated into Hebrew. In the Greek repertoire: songs of Aris San\, Yehuda Poliker and Greek folk melodies. In the Gypsy repertoire: classics of the Gypsie Kings in gypsy Spanish. Amir Schreiber – vocals and guitar Yuval Meiri – Guest bouzouki player Nissan Levy – Cajun and percussion
URL:https://kikar-hamusica.com/shows/en/event/amir-shreiber-the-greek-groove-2/
CATEGORIES:Greek music
ATTACH;FMTTYPE=image/webp:https://kikar-hamusica.com/shows/en/wp-content/uploads/2024/12/amir-shreiber-grec-kikar-hamusica-boAN6w.tmp_.webp
END:VEVENT
BEGIN:VEVENT
DTSTART;TZID=Asia/Jerusalem:20260519T120000
DTEND;TZID=Asia/Jerusalem:20260519T140000
DTSTAMP:20260419T205213
CREATED:20260416T121259Z
LAST-MODIFIED:20260416T121259Z
UID:10003293-1779192000-1779199200@kikar-hamusica.com
SUMMARY:Gil Shapira
DESCRIPTION:Gil Shapira – acoustic solo show A pleasant and sweeping performance by a creative singer\, performing songs in Hebrew and English to personal arrangements.
URL:https://kikar-hamusica.com/shows/en/event/gil-shapira-2/
CATEGORIES:Pop music
ATTACH;FMTTYPE=image/webp:https://kikar-hamusica.com/shows/en/wp-content/uploads/2024/10/gil-shapira-kikar-hamusica.webp
END:VEVENT
BEGIN:VEVENT
DTSTART;TZID=Asia/Jerusalem:20260519T173000
DTEND;TZID=Asia/Jerusalem:20260519T193000
DTSTAMP:20260419T205213
CREATED:20260416T121300Z
LAST-MODIFIED:20260416T121300Z
UID:10003294-1779211800-1779219000@kikar-hamusica.com
SUMMARY:Yves & the cello
DESCRIPTION:An overview of the greatest standards Pop (Beatles)/Soul (Stevie Wonder\, Bill Withers)/Bossa Nova (Tom Jobim)/French songs (S.Gainsbourg) in a “luxury” duet with gentleness: acoustic guitar/ voice & cello\, a delight for the ears.
URL:https://kikar-hamusica.com/shows/en/event/yves-the-cello-3/
CATEGORIES:Pop music
ATTACH;FMTTYPE=image/webp:https://kikar-hamusica.com/shows/en/wp-content/uploads/2025/10/איב-והצ׳לו.webp
END:VEVENT
BEGIN:VEVENT
DTSTART;TZID=Asia/Jerusalem:20260519T200000
DTEND;TZID=Asia/Jerusalem:20260519T220000
DTSTAMP:20260419T205213
CREATED:20260416T121301Z
LAST-MODIFIED:20260416T121301Z
UID:10003295-1779220800-1779228000@kikar-hamusica.com
SUMMARY:Gil & Linoy
DESCRIPTION:The musical duo Gil Shapiro and Linoy Akale began its path in 2015 on the road between Tel Aviv and Jerusalem. Gil Shapiro – 28 years old musician from Jerusalem (Gidi Gov\, Yoni Rechter\, Danny Sanderson and others) Linoy Akale – 25 years musician (A Star Is Born\, The Idan Raichel Project\, etc.) Both have merged their dice first sound played together and felt a special bond between them\, from that moment began their joint creation. The duo performs a wide repertoire of English and Israeli songs\, composed by the best artists of the country and the world\, performed by two guitars and two voices.
URL:https://kikar-hamusica.com/shows/en/event/gil-linoy-2/
CATEGORIES:Pop music
ATTACH;FMTTYPE=image/webp:https://kikar-hamusica.com/shows/en/wp-content/uploads/2024/12/gil-linoy-kikar-hamusica-qMRzCc.tmp_.webp
END:VEVENT
BEGIN:VEVENT
DTSTART;TZID=Asia/Jerusalem:20260520T120000
DTEND;TZID=Asia/Jerusalem:20260520T140000
DTSTAMP:20260419T205213
CREATED:20260416T121302Z
LAST-MODIFIED:20260416T121302Z
UID:10003296-1779278400-1779285600@kikar-hamusica.com
SUMMARY:Marc Benetasse
DESCRIPTION:Marc Bénétasse Pianist Singer\, unconditional Pop\, Soul and Jazz\, he interprets the inescapable Beatles\, Paul Mc Cartney\, Stevie Wonder\, George Benson\, Prince\, Michael Jackson\, James Taylor\, Michael McDonald and others who traced the path of his musical influences. Come back to the most beautiful creative and artistic period from the 70s to the 90s at Kikar Hamusika every Tuesday from 12h to 14h.
URL:https://kikar-hamusica.com/shows/en/event/marc-benetasse-3/
CATEGORIES:Pop music,R&B music
ATTACH;FMTTYPE=image/webp:https://kikar-hamusica.com/shows/en/wp-content/uploads/2024/06/marc-benetasse-kikar-hamusica.webp
END:VEVENT
BEGIN:VEVENT
DTSTART;TZID=Asia/Jerusalem:20260520T173000
DTEND;TZID=Asia/Jerusalem:20260520T193000
DTSTAMP:20260419T205213
CREATED:20260416T121303Z
LAST-MODIFIED:20260416T121303Z
UID:10003297-1779298200-1779305400@kikar-hamusica.com
SUMMARY:Soulmate
DESCRIPTION:“Soul Mate” offers a musical journey through the greatest international musical trends of our time! From Stevie Wonder to the Beatles and especially Israeli hits from all eras\, we invite you to join us.
URL:https://kikar-hamusica.com/shows/en/event/soulmate-5/
CATEGORIES:Israeli music,Pop music
ATTACH;FMTTYPE=image/webp:https://kikar-hamusica.com/shows/en/wp-content/uploads/2026/04/soul-mate-kikar-hamusica.webp
END:VEVENT
BEGIN:VEVENT
DTSTART;TZID=Asia/Jerusalem:20260520T200000
DTEND;TZID=Asia/Jerusalem:20260520T220000
DTSTAMP:20260419T205213
CREATED:20260416T121314Z
LAST-MODIFIED:20260416T121314Z
UID:10003298-1779307200-1779314400@kikar-hamusica.com
SUMMARY:Trio Bossa Giba Perelman
DESCRIPTION:Trio Bossa offers a wide and varied Latin and Brazilian music repertoire from the greatest successes of Mati Caspi to the successes of Tom Jobim\, Joao Gilberto and jazz\, from samba to pop\, the group offers a warm atmosphere combined with joyful and energetic music\, as only a genuine brazilian band can perform.
URL:https://kikar-hamusica.com/shows/en/event/trio-bossa-giba-perelman/
CATEGORIES:Brazilian music
ATTACH;FMTTYPE=image/webp:https://kikar-hamusica.com/shows/en/wp-content/uploads/2025/03/giba-perelman-bossa-kikar-hamusika-51dJ8Y.tmp_.webp
END:VEVENT
BEGIN:VEVENT
DTSTART;TZID=Asia/Jerusalem:20260521T120000
DTEND;TZID=Asia/Jerusalem:20260521T140000
DTSTAMP:20260419T205213
CREATED:20260416T121315Z
LAST-MODIFIED:20260416T121315Z
UID:10003299-1779364800-1779372000@kikar-hamusica.com
SUMMARY:Yehuda Ashash
DESCRIPTION:Yehuda Ashash – Classic Jerusalem music\, he studied music and sound design in The States. For many years he produced and performed in different groups in Israel and the world in the genre of Rock and World music. Today\, he mostly composes music for movies and TV. At Kikar Hamusica Yehuda Ashash performs an assortiment of hebrew and english songs from classical to world to Pop and Rock.
URL:https://kikar-hamusica.com/shows/en/event/yehuda-ashash-6/
CATEGORIES:Israeli music
ATTACH;FMTTYPE=image/webp:https://kikar-hamusica.com/shows/en/wp-content/uploads/2024/07/yehuda-ashash-kikar-hamusica.webp
END:VEVENT
BEGIN:VEVENT
DTSTART;TZID=Asia/Jerusalem:20260521T203000
DTEND;TZID=Asia/Jerusalem:20260521T223000
DTSTAMP:20260419T205213
CREATED:20260416T121316Z
LAST-MODIFIED:20260416T121316Z
UID:10003300-1779395400-1779402600@kikar-hamusica.com
SUMMARY:Shavuot
DESCRIPTION:No music
URL:https://kikar-hamusica.com/shows/en/event/shavuot/
ATTACH;FMTTYPE=image/webp:https://kikar-hamusica.com/shows/en/wp-content/uploads/2025/02/shavouot-kikar-hamusica.webp
END:VEVENT
BEGIN:VEVENT
DTSTART;TZID=Asia/Jerusalem:20260522T120000
DTEND;TZID=Asia/Jerusalem:20260522T140000
DTSTAMP:20260419T205213
CREATED:20260416T121317Z
LAST-MODIFIED:20260416T121317Z
UID:10003301-1779451200-1779458400@kikar-hamusica.com
SUMMARY:Shavuot
DESCRIPTION:No music
URL:https://kikar-hamusica.com/shows/en/event/shavuot-2/
ATTACH;FMTTYPE=image/webp:https://kikar-hamusica.com/shows/en/wp-content/uploads/2025/02/shavouot-kikar-hamusica.webp
END:VEVENT
BEGIN:VEVENT
DTSTART;TZID=Asia/Jerusalem:20260523T200000
DTEND;TZID=Asia/Jerusalem:20260523T220000
DTSTAMP:20260419T205213
CREATED:20260416T121318Z
LAST-MODIFIED:20260416T121318Z
UID:10003302-1779566400-1779573600@kikar-hamusica.com
SUMMARY:Shabat
DESCRIPTION:No concert
URL:https://kikar-hamusica.com/shows/en/event/shabat-4/
ATTACH;FMTTYPE=image/webp:https://kikar-hamusica.com/shows/en/wp-content/uploads/2025/02/chabath-kikar-hamusica.webp
END:VEVENT
BEGIN:VEVENT
DTSTART;TZID=Asia/Jerusalem:20260524T120000
DTEND;TZID=Asia/Jerusalem:20260524T140000
DTSTAMP:20260419T205213
CREATED:20260416T121330Z
LAST-MODIFIED:20260416T121330Z
UID:10003303-1779624000-1779631200@kikar-hamusica.com
SUMMARY:Ido Cohen
DESCRIPTION:From old classics to today’s hits.\nIdo tries to touch all worlds of music so that everyone can enjoy and have a pleasant musical experience\nFrom Shlomo Artzi to Franck Sintra\, from Idan Raichel to Coldplay…\nAll worlds in one place
URL:https://kikar-hamusica.com/shows/en/event/ido-cohen-5/
CATEGORIES:Israeli music
ATTACH;FMTTYPE=image/webp:https://kikar-hamusica.com/shows/en/wp-content/uploads/2024/10/ido-cohen-kikar-hamusica.webp
END:VEVENT
BEGIN:VEVENT
DTSTART;TZID=Asia/Jerusalem:20260524T173000
DTEND;TZID=Asia/Jerusalem:20260524T193000
DTSTAMP:20260419T205213
CREATED:20260416T121330Z
LAST-MODIFIED:20260416T121330Z
UID:10003304-1779643800-1779651000@kikar-hamusica.com
SUMMARY:Frida Libman
DESCRIPTION:Frida Libman Graduated with a master’s degree in musical art and performance. Pianist and musician with rich experience in arrangements and concerts. She acquired her musical training in the USSR and Israel.
URL:https://kikar-hamusica.com/shows/en/event/frida-libman-4/
CATEGORIES:Classical music
ATTACH;FMTTYPE=image/webp:https://kikar-hamusica.com/shows/en/wp-content/uploads/2025/03/frida-libman-2025-kikar-hamusica.webp
END:VEVENT
BEGIN:VEVENT
DTSTART;TZID=Asia/Jerusalem:20260524T200000
DTEND;TZID=Asia/Jerusalem:20260524T220000
DTSTAMP:20260419T205213
CREATED:20260416T121331Z
LAST-MODIFIED:20260416T121331Z
UID:10003305-1779652800-1779660000@kikar-hamusica.com
SUMMARY:Raphael Alouch
DESCRIPTION:Franco-Israeli singer Raphael Alouch brings us a new and exciting style. Raphael’s trademark is the songs in French and Hebrew combined. For a long time\, Raphael released big hits on YouTube which he translated and performed in French to familiar Israeli songs that reached hundreds of thousands of views on social media. Raphaël lives and breathes the ballads of Israeli songs from traditional to modern. The melody is accompanied by keyboardist Avihai Sheetrit who plays wide and exciting sounds.
URL:https://kikar-hamusica.com/shows/en/event/raphael-alouch/
CATEGORIES:Israeli music
ATTACH;FMTTYPE=image/webp:https://kikar-hamusica.com/shows/en/wp-content/uploads/2024/07/Raphael-Alouch-kikar-hamusica.webp
END:VEVENT
BEGIN:VEVENT
DTSTART;TZID=Asia/Jerusalem:20260525T120000
DTEND;TZID=Asia/Jerusalem:20260525T140000
DTSTAMP:20260419T205213
CREATED:20260416T121332Z
LAST-MODIFIED:20260416T121332Z
UID:10003306-1779710400-1779717600@kikar-hamusica.com
SUMMARY:Jack Lev
DESCRIPTION:Hi I’m Jack Lev\, an american singer whos here to play to your hearts desires. From old songs to new songs\, English or Hebrew\, just ask and you will probably recieve
URL:https://kikar-hamusica.com/shows/en/event/jack-lev-5/
CATEGORIES:Pop music
ATTACH;FMTTYPE=image/webp:https://kikar-hamusica.com/shows/en/wp-content/uploads/2024/12/jack-lev-kikar-hamusica-DDn1Lh.tmp_.webp
END:VEVENT
BEGIN:VEVENT
DTSTART;TZID=Asia/Jerusalem:20260525T173000
DTEND;TZID=Asia/Jerusalem:20260525T193000
DTSTAMP:20260419T205213
CREATED:20260416T121333Z
LAST-MODIFIED:20260416T121333Z
UID:10003307-1779730200-1779737400@kikar-hamusica.com
SUMMARY:Ido Cohen
DESCRIPTION:From old classics to today’s hits.\nIdo tries to touch all worlds of music so that everyone can enjoy and have a pleasant musical experience\nFrom Shlomo Artzi to Franck Sintra\, from Idan Raichel to Coldplay…\nAll worlds in one place
URL:https://kikar-hamusica.com/shows/en/event/ido-cohen-6/
CATEGORIES:Israeli music
ATTACH;FMTTYPE=image/webp:https://kikar-hamusica.com/shows/en/wp-content/uploads/2024/10/ido-cohen-kikar-hamusica.webp
END:VEVENT
BEGIN:VEVENT
DTSTART;TZID=Asia/Jerusalem:20260525T200000
DTEND;TZID=Asia/Jerusalem:20260525T220000
DTSTAMP:20260419T205213
CREATED:20260416T121344Z
LAST-MODIFIED:20260416T121344Z
UID:10003308-1779739200-1779746400@kikar-hamusica.com
SUMMARY:Beat Coin
DESCRIPTION:The group “Beat Coin” performs the best Israeli and foreign music of all time. Musicians: Eli Touboul – drums Avi Ben Yosef – vocals and acoustic guitar Hilik Gino – guitar\, vocals and musical direction So leave everything … it will be cheerful and joyful
URL:https://kikar-hamusica.com/shows/en/event/beat-coin-2/
CATEGORIES:Israeli music,Pop music
ATTACH;FMTTYPE=image/webp:https://kikar-hamusica.com/shows/en/wp-content/uploads/2024/07/beat-coin-kikar-hamusica.webp
END:VEVENT
BEGIN:VEVENT
DTSTART;TZID=Asia/Jerusalem:20260526T120000
DTEND;TZID=Asia/Jerusalem:20260526T140000
DTSTAMP:20260419T205213
CREATED:20260416T121345Z
LAST-MODIFIED:20260416T121345Z
UID:10003309-1779796800-1779804000@kikar-hamusica.com
SUMMARY:Yehuda Ashash
DESCRIPTION:Yehuda Ashash – Classic Jerusalem music\, he studied music and sound design in The States. For many years he produced and performed in different groups in Israel and the world in the genre of Rock and World music. Today\, he mostly composes music for movies and TV. At Kikar Hamusica Yehuda Ashash performs an assortiment of hebrew and english songs from classical to world to Pop and Rock.
URL:https://kikar-hamusica.com/shows/en/event/yehuda-ashash-7/
CATEGORIES:Israeli music
ATTACH;FMTTYPE=image/webp:https://kikar-hamusica.com/shows/en/wp-content/uploads/2024/07/yehuda-ashash-kikar-hamusica.webp
END:VEVENT
BEGIN:VEVENT
DTSTART;TZID=Asia/Jerusalem:20260526T173000
DTEND;TZID=Asia/Jerusalem:20260526T193000
DTSTAMP:20260419T205213
CREATED:20260416T121346Z
LAST-MODIFIED:20260416T121346Z
UID:10003310-1779816600-1779823800@kikar-hamusica.com
SUMMARY:Yves & the cello
DESCRIPTION:An overview of the greatest standards Pop (Beatles)/Soul (Stevie Wonder\, Bill Withers)/Bossa Nova (Tom Jobim)/French songs (S.Gainsbourg) in a “luxury” duet with gentleness: acoustic guitar/ voice & cello\, a delight for the ears.
URL:https://kikar-hamusica.com/shows/en/event/yves-the-cello-4/
CATEGORIES:Pop music
ATTACH;FMTTYPE=image/webp:https://kikar-hamusica.com/shows/en/wp-content/uploads/2025/10/איב-והצ׳לו.webp
END:VEVENT
BEGIN:VEVENT
DTSTART;TZID=Asia/Jerusalem:20260526T200000
DTEND;TZID=Asia/Jerusalem:20260526T220000
DTSTAMP:20260419T205213
CREATED:20260416T121347Z
LAST-MODIFIED:20260416T121347Z
UID:10003311-1779825600-1779832800@kikar-hamusica.com
SUMMARY:Pritsat Disc
DESCRIPTION:A Band of Jerusalem interpreter of the greatest classics of Pop or Rock of Israel among the best courses\, with a large repertoire of songs that corresponds to each event. Pritsat Disc is concentrated in homage to the greats of Rock concerts in all kinds of events and festivals. The group also has a beautiful acoustic performance appropriate for quieter events. Gershon Fisher – Song Shah’ar Cohen – Guitars Dan Eilon – Bass guitar and acoustic Matan Assayag – Drums
URL:https://kikar-hamusica.com/shows/en/event/pritsat-disc/
CATEGORIES:Pop-folk music
ATTACH;FMTTYPE=image/jpeg:https://kikar-hamusica.com/shows/en/wp-content/uploads/2024/12/photo_group_25_20230420112910-fwsLPl.tmp_.jpg
END:VEVENT
BEGIN:VEVENT
DTSTART;TZID=Asia/Jerusalem:20260527T120000
DTEND;TZID=Asia/Jerusalem:20260527T140000
DTSTAMP:20260419T205213
CREATED:20260416T121348Z
LAST-MODIFIED:20260416T121348Z
UID:10003312-1779883200-1779890400@kikar-hamusica.com
SUMMARY:Marc Benetasse
DESCRIPTION:Marc Bénétasse Pianist Singer\, unconditional Pop\, Soul and Jazz\, he interprets the inescapable Beatles\, Paul Mc Cartney\, Stevie Wonder\, George Benson\, Prince\, Michael Jackson\, James Taylor\, Michael McDonald and others who traced the path of his musical influences. Come back to the most beautiful creative and artistic period from the 70s to the 90s at Kikar Hamusika every Tuesday from 12h to 14h.
URL:https://kikar-hamusica.com/shows/en/event/marc-benetasse-4/
CATEGORIES:Pop music,R&B music
ATTACH;FMTTYPE=image/webp:https://kikar-hamusica.com/shows/en/wp-content/uploads/2024/06/marc-benetasse-kikar-hamusica.webp
END:VEVENT
BEGIN:VEVENT
DTSTART;TZID=Asia/Jerusalem:20260527T173000
DTEND;TZID=Asia/Jerusalem:20260527T193000
DTSTAMP:20260419T205213
CREATED:20260416T121359Z
LAST-MODIFIED:20260416T121359Z
UID:10003313-1779903000-1779910200@kikar-hamusica.com
SUMMARY:Soulmate
DESCRIPTION:“Soul Mate” offers a musical journey through the greatest international musical trends of our time! From Stevie Wonder to the Beatles and especially Israeli hits from all eras\, we invite you to join us.
URL:https://kikar-hamusica.com/shows/en/event/soulmate-6/
CATEGORIES:Israeli music,Pop music
ATTACH;FMTTYPE=image/webp:https://kikar-hamusica.com/shows/en/wp-content/uploads/2026/04/soul-mate-kikar-hamusica.webp
END:VEVENT
END:VCALENDAR