BEGIN:VCALENDAR
VERSION:2.0
PRODID:-//Concerts &amp; events at Kikar Hamusica - ECPv6.15.20//NONSGML v1.0//EN
CALSCALE:GREGORIAN
METHOD:PUBLISH
X-WR-CALNAME:Concerts &amp; events at Kikar Hamusica
X-ORIGINAL-URL:https://kikar-hamusica.com/shows/en
X-WR-CALDESC:Events for Concerts &amp; events at Kikar Hamusica
REFRESH-INTERVAL;VALUE=DURATION:PT1H
X-Robots-Tag:noindex
X-PUBLISHED-TTL:PT1H
BEGIN:VTIMEZONE
TZID:Asia/Jerusalem
BEGIN:DAYLIGHT
TZOFFSETFROM:+0200
TZOFFSETTO:+0300
TZNAME:IDT
DTSTART:20250328T000000
END:DAYLIGHT
BEGIN:STANDARD
TZOFFSETFROM:+0300
TZOFFSETTO:+0200
TZNAME:IST
DTSTART:20251025T230000
END:STANDARD
BEGIN:DAYLIGHT
TZOFFSETFROM:+0200
TZOFFSETTO:+0300
TZNAME:IDT
DTSTART:20260327T000000
END:DAYLIGHT
BEGIN:STANDARD
TZOFFSETFROM:+0300
TZOFFSETTO:+0200
TZNAME:IST
DTSTART:20261024T230000
END:STANDARD
BEGIN:DAYLIGHT
TZOFFSETFROM:+0200
TZOFFSETTO:+0300
TZNAME:IDT
DTSTART:20270326T000000
END:DAYLIGHT
BEGIN:STANDARD
TZOFFSETFROM:+0300
TZOFFSETTO:+0200
TZNAME:IST
DTSTART:20271030T230000
END:STANDARD
END:VTIMEZONE
BEGIN:VEVENT
DTSTART;TZID=Asia/Jerusalem:20260530T200000
DTEND;TZID=Asia/Jerusalem:20260530T220000
DTSTAMP:20260420T011640
CREATED:20260416T121416Z
LAST-MODIFIED:20260416T121416Z
UID:10003320-1780171200-1780178400@kikar-hamusica.com
SUMMARY:Shabat
DESCRIPTION:No concert
URL:https://kikar-hamusica.com/shows/en/event/shabat-5/
ATTACH;FMTTYPE=image/webp:https://kikar-hamusica.com/shows/en/wp-content/uploads/2025/02/chabath-kikar-hamusica.webp
END:VEVENT
BEGIN:VEVENT
DTSTART;TZID=Asia/Jerusalem:20260531T120000
DTEND;TZID=Asia/Jerusalem:20260531T140000
DTSTAMP:20260420T011640
CREATED:20260416T121416Z
LAST-MODIFIED:20260416T121416Z
UID:10003321-1780228800-1780236000@kikar-hamusica.com
SUMMARY:Ido Cohen
DESCRIPTION:From old classics to today’s hits.\nIdo tries to touch all worlds of music so that everyone can enjoy and have a pleasant musical experience\nFrom Shlomo Artzi to Franck Sintra\, from Idan Raichel to Coldplay…\nAll worlds in one place
URL:https://kikar-hamusica.com/shows/en/event/ido-cohen-7/
CATEGORIES:Israeli music
ATTACH;FMTTYPE=image/webp:https://kikar-hamusica.com/shows/en/wp-content/uploads/2024/10/ido-cohen-kikar-hamusica.webp
END:VEVENT
BEGIN:VEVENT
DTSTART;TZID=Asia/Jerusalem:20260531T173000
DTEND;TZID=Asia/Jerusalem:20260531T193000
DTSTAMP:20260420T011640
CREATED:20260416T121417Z
LAST-MODIFIED:20260416T121417Z
UID:10003322-1780248600-1780255800@kikar-hamusica.com
SUMMARY:Frida Libman
DESCRIPTION:Frida Libman Graduated with a master’s degree in musical art and performance. Pianist and musician with rich experience in arrangements and concerts. She acquired her musical training in the USSR and Israel.
URL:https://kikar-hamusica.com/shows/en/event/frida-libman-5/
CATEGORIES:Classical music
ATTACH;FMTTYPE=image/webp:https://kikar-hamusica.com/shows/en/wp-content/uploads/2025/03/frida-libman-2025-kikar-hamusica.webp
END:VEVENT
BEGIN:VEVENT
DTSTART;TZID=Asia/Jerusalem:20260531T200000
DTEND;TZID=Asia/Jerusalem:20260531T220000
DTSTAMP:20260420T011640
CREATED:20260416T121430Z
LAST-MODIFIED:20260416T121430Z
UID:10003323-1780257600-1780264800@kikar-hamusica.com
SUMMARY:Spirit
DESCRIPTION:The group “Spirit” made in France is multi-trend\, it will go through time and eras with you: from the cool Jazz of the 50s to the Pop of the Beatles of the 60’s via Soul and Funk of the 70s/80s but also the great French Variety\, let yourself be carried away by the warm voices of Mark Ben (Piano / Vocals) and Yves Galula (Bass / Vocals) as well as the virtuoso guitar of Franck Benguigui\, it’s good for the soul and the ears.
URL:https://kikar-hamusica.com/shows/en/event/spirit-3/
CATEGORIES:Pop music,R&B music
ATTACH;FMTTYPE=image/jpeg:https://kikar-hamusica.com/shows/en/wp-content/uploads/2024/12/photo_group_44_20230420113920-S19rTC.tmp_.jpg
END:VEVENT
END:VCALENDAR