BEGIN:VCALENDAR
VERSION:2.0
PRODID:-//Concerts &amp; events at Kikar Hamusica - ECPv6.15.20//NONSGML v1.0//EN
CALSCALE:GREGORIAN
METHOD:PUBLISH
X-WR-CALNAME:Concerts &amp; events at Kikar Hamusica
X-ORIGINAL-URL:https://kikar-hamusica.com/shows/en
X-WR-CALDESC:Events for Concerts &amp; events at Kikar Hamusica
REFRESH-INTERVAL;VALUE=DURATION:PT1H
X-Robots-Tag:noindex
X-PUBLISHED-TTL:PT1H
BEGIN:VTIMEZONE
TZID:Asia/Jerusalem
BEGIN:DAYLIGHT
TZOFFSETFROM:+0200
TZOFFSETTO:+0300
TZNAME:IDT
DTSTART:20250328T000000
END:DAYLIGHT
BEGIN:STANDARD
TZOFFSETFROM:+0300
TZOFFSETTO:+0200
TZNAME:IST
DTSTART:20251025T230000
END:STANDARD
BEGIN:DAYLIGHT
TZOFFSETFROM:+0200
TZOFFSETTO:+0300
TZNAME:IDT
DTSTART:20260327T000000
END:DAYLIGHT
BEGIN:STANDARD
TZOFFSETFROM:+0300
TZOFFSETTO:+0200
TZNAME:IST
DTSTART:20261024T230000
END:STANDARD
BEGIN:DAYLIGHT
TZOFFSETFROM:+0200
TZOFFSETTO:+0300
TZNAME:IDT
DTSTART:20270326T000000
END:DAYLIGHT
BEGIN:STANDARD
TZOFFSETFROM:+0300
TZOFFSETTO:+0200
TZNAME:IST
DTSTART:20271030T230000
END:STANDARD
END:VTIMEZONE
BEGIN:VEVENT
DTSTART;TZID=Asia/Jerusalem:20260501T093000
DTEND;TZID=Asia/Jerusalem:20260501T113000
DTSTAMP:20260419T155116
CREATED:20260416T120743Z
LAST-MODIFIED:20260416T120743Z
UID:10003248-1777627800-1777635000@kikar-hamusica.com
SUMMARY:Yehuda Ashash
DESCRIPTION:Yehuda Ashash – Classic Jerusalem music\, he studied music and sound design in The States. For many years he produced and performed in different groups in Israel and the world in the genre of Rock and World music. Today\, he mostly composes music for movies and TV. At Kikar Hamusica Yehuda Ashash performs an assortiment of hebrew and english songs from classical to world to Pop and Rock.
URL:https://kikar-hamusica.com/shows/en/event/yehuda-ashash/
CATEGORIES:Israeli music
ATTACH;FMTTYPE=image/webp:https://kikar-hamusica.com/shows/en/wp-content/uploads/2024/07/yehuda-ashash-kikar-hamusica.webp
END:VEVENT
BEGIN:VEVENT
DTSTART;TZID=Asia/Jerusalem:20260501T120000
DTEND;TZID=Asia/Jerusalem:20260501T140000
DTSTAMP:20260419T155116
CREATED:20260416T120744Z
LAST-MODIFIED:20260416T120744Z
UID:10003249-1777636800-1777644000@kikar-hamusica.com
SUMMARY:Sihara
DESCRIPTION:Sihara – rock pop and world music. Four musicians from Jerusalem in an energetic show of pop rock and world music. Sihara performs covers of well-known songs as well as original inspired songs. Yehuda Ashash: Oud\, guitar and voice\, Gil Shapira: guitar and voice\, Noam Yadgar: Bass and Nissan Levi: drums and percussion.
URL:https://kikar-hamusica.com/shows/en/event/sihara/
CATEGORIES:World music
ATTACH;FMTTYPE=image/webp:https://kikar-hamusica.com/shows/en/wp-content/uploads/2024/12/sihara-kikar-hamusica-lMYzK1.tmp_.webp
END:VEVENT
BEGIN:VEVENT
DTSTART;TZID=Asia/Jerusalem:20260502T200000
DTEND;TZID=Asia/Jerusalem:20260502T220000
DTSTAMP:20260419T155116
CREATED:20260416T120745Z
LAST-MODIFIED:20260416T120745Z
UID:10003250-1777752000-1777759200@kikar-hamusica.com
SUMMARY:Shabat
DESCRIPTION:No concert
URL:https://kikar-hamusica.com/shows/en/event/shabat/
ATTACH;FMTTYPE=image/webp:https://kikar-hamusica.com/shows/en/wp-content/uploads/2025/02/chabath-kikar-hamusica.webp
END:VEVENT
BEGIN:VEVENT
DTSTART;TZID=Asia/Jerusalem:20260503T120000
DTEND;TZID=Asia/Jerusalem:20260503T140000
DTSTAMP:20260419T155116
CREATED:20260416T120746Z
LAST-MODIFIED:20260416T120746Z
UID:10003251-1777809600-1777816800@kikar-hamusica.com
SUMMARY:Ido Cohen
DESCRIPTION:From old classics to today’s hits.\nIdo tries to touch all worlds of music so that everyone can enjoy and have a pleasant musical experience\nFrom Shlomo Artzi to Franck Sintra\, from Idan Raichel to Coldplay…\nAll worlds in one place
URL:https://kikar-hamusica.com/shows/en/event/ido-cohen/
CATEGORIES:Israeli music
ATTACH;FMTTYPE=image/webp:https://kikar-hamusica.com/shows/en/wp-content/uploads/2024/10/ido-cohen-kikar-hamusica.webp
END:VEVENT
BEGIN:VEVENT
DTSTART;TZID=Asia/Jerusalem:20260503T173000
DTEND;TZID=Asia/Jerusalem:20260503T193000
DTSTAMP:20260419T155116
CREATED:20260416T120747Z
LAST-MODIFIED:20260416T120747Z
UID:10003252-1777829400-1777836600@kikar-hamusica.com
SUMMARY:Frida Libman
DESCRIPTION:Frida Libman Graduated with a master’s degree in musical art and performance. Pianist and musician with rich experience in arrangements and concerts. She acquired her musical training in the USSR and Israel.
URL:https://kikar-hamusica.com/shows/en/event/frida-libman/
CATEGORIES:Classical music
ATTACH;FMTTYPE=image/webp:https://kikar-hamusica.com/shows/en/wp-content/uploads/2025/03/frida-libman-2025-kikar-hamusica.webp
END:VEVENT
BEGIN:VEVENT
DTSTART;TZID=Asia/Jerusalem:20260503T200000
DTEND;TZID=Asia/Jerusalem:20260503T220000
DTSTAMP:20260419T155116
CREATED:20260416T120752Z
LAST-MODIFIED:20260416T120752Z
UID:10003253-1777838400-1777845600@kikar-hamusica.com
SUMMARY:Samy Goz
DESCRIPTION:“Samy Goz” Artist / Singer / Conductor. He is the Star of International Showbiz\, Jet Set and Crowned Heads. At the same time singer\, conductor and entertainer. Since his alyah in Jerusalem in March 2019\, his new “Quartet” and his new “Big Band” have been created\, and are composed of the very best of Israeli musicians from Jerusalem: “Aviv Lidani” on Piano\, “Nadav Berkovits” on Keyboards\, “Michael Mizrahi” on Bass & “Dar Levi” on Drums.
URL:https://kikar-hamusica.com/shows/en/event/samy-goz/
CATEGORIES:Pop music
ATTACH;FMTTYPE=image/webp:https://kikar-hamusica.com/shows/en/wp-content/uploads/2025/10/Samy-Goz.webp
END:VEVENT
BEGIN:VEVENT
DTSTART;TZID=Asia/Jerusalem:20260504T120000
DTEND;TZID=Asia/Jerusalem:20260504T140000
DTSTAMP:20260419T155116
CREATED:20260416T120752Z
LAST-MODIFIED:20260416T120752Z
UID:10003254-1777896000-1777903200@kikar-hamusica.com
SUMMARY:Jack Lev
DESCRIPTION:Hi I’m Jack Lev\, an american singer whos here to play to your hearts desires. From old songs to new songs\, English or Hebrew\, just ask and you will probably recieve
URL:https://kikar-hamusica.com/shows/en/event/jack-lev/
CATEGORIES:Pop music
ATTACH;FMTTYPE=image/webp:https://kikar-hamusica.com/shows/en/wp-content/uploads/2024/12/jack-lev-kikar-hamusica-DDn1Lh.tmp_.webp
END:VEVENT
BEGIN:VEVENT
DTSTART;TZID=Asia/Jerusalem:20260504T173000
DTEND;TZID=Asia/Jerusalem:20260504T193000
DTSTAMP:20260419T155116
CREATED:20260416T120753Z
LAST-MODIFIED:20260416T120753Z
UID:10003255-1777915800-1777923000@kikar-hamusica.com
SUMMARY:Jason Rozenblatt
DESCRIPTION:Featuring genre-busting harmonica and rollicking New Orleans piano\, Jason Rosenblatt delivers a twisted take on blues\, gospel and early jazz. Rosenblatt’s original repertoire is gritty but performed with good humour. Jason Rosenblatt – piano\, harmonica
URL:https://kikar-hamusica.com/shows/en/event/jason-rozenblatt-2/
CATEGORIES:Jazz,Kleizmer
ATTACH;FMTTYPE=image/webp:https://kikar-hamusica.com/shows/en/wp-content/uploads/2026/03/quartet-jason-rosenblatt-kikar-hamusica-hcAdpC.webp
END:VEVENT
BEGIN:VEVENT
DTSTART;TZID=Asia/Jerusalem:20260504T200000
DTEND;TZID=Asia/Jerusalem:20260504T220000
DTSTAMP:20260419T155116
CREATED:20260416T120755Z
LAST-MODIFIED:20260416T120755Z
UID:10003256-1777924800-1777932000@kikar-hamusica.com
SUMMARY:Beat Coin
DESCRIPTION:The group “Beat Coin” performs the best Israeli and foreign music of all time. Musicians: Eli Touboul – drums Avi Ben Yosef – vocals and acoustic guitar Hilik Gino – guitar\, vocals and musical direction So leave everything … it will be cheerful and joyful
URL:https://kikar-hamusica.com/shows/en/event/beat-coin/
CATEGORIES:Israeli music,Pop music
ATTACH;FMTTYPE=image/webp:https://kikar-hamusica.com/shows/en/wp-content/uploads/2024/07/beat-coin-kikar-hamusica.webp
END:VEVENT
BEGIN:VEVENT
DTSTART;TZID=Asia/Jerusalem:20260505T120000
DTEND;TZID=Asia/Jerusalem:20260505T140000
DTSTAMP:20260419T155116
CREATED:20260416T120755Z
LAST-MODIFIED:20260416T120755Z
UID:10003257-1777982400-1777989600@kikar-hamusica.com
SUMMARY:Gil Shapira
DESCRIPTION:Gil Shapira – acoustic solo show A pleasant and sweeping performance by a creative singer\, performing songs in Hebrew and English to personal arrangements.
URL:https://kikar-hamusica.com/shows/en/event/gil-shapira/
CATEGORIES:Pop music
ATTACH;FMTTYPE=image/webp:https://kikar-hamusica.com/shows/en/wp-content/uploads/2024/10/gil-shapira-kikar-hamusica.webp
END:VEVENT
BEGIN:VEVENT
DTSTART;TZID=Asia/Jerusalem:20260505T173000
DTEND;TZID=Asia/Jerusalem:20260505T193000
DTSTAMP:20260419T155116
CREATED:20260416T120807Z
LAST-MODIFIED:20260416T120807Z
UID:10003258-1778002200-1778009400@kikar-hamusica.com
SUMMARY:Yves & the cello
DESCRIPTION:An overview of the greatest standards Pop (Beatles)/Soul (Stevie Wonder\, Bill Withers)/Bossa Nova (Tom Jobim)/French songs (S.Gainsbourg) in a “luxury” duet with gentleness: acoustic guitar/ voice & cello\, a delight for the ears.
URL:https://kikar-hamusica.com/shows/en/event/yves-the-cello/
CATEGORIES:Pop music
ATTACH;FMTTYPE=image/webp:https://kikar-hamusica.com/shows/en/wp-content/uploads/2025/10/איב-והצ׳לו.webp
END:VEVENT
BEGIN:VEVENT
DTSTART;TZID=Asia/Jerusalem:20260505T200000
DTEND;TZID=Asia/Jerusalem:20260505T220000
DTSTAMP:20260419T155116
CREATED:20260416T120808Z
LAST-MODIFIED:20260416T120808Z
UID:10003259-1778011200-1778018400@kikar-hamusica.com
SUMMARY:Gil & Linoy
DESCRIPTION:The musical duo Gil Shapiro and Linoy Akale began its path in 2015 on the road between Tel Aviv and Jerusalem. Gil Shapiro – 28 years old musician from Jerusalem (Gidi Gov\, Yoni Rechter\, Danny Sanderson and others) Linoy Akale – 25 years musician (A Star Is Born\, The Idan Raichel Project\, etc.) Both have merged their dice first sound played together and felt a special bond between them\, from that moment began their joint creation. The duo performs a wide repertoire of English and Israeli songs\, composed by the best artists of the country and the world\, performed by two guitars and two voices.
URL:https://kikar-hamusica.com/shows/en/event/gil-linoy/
CATEGORIES:Pop music
ATTACH;FMTTYPE=image/webp:https://kikar-hamusica.com/shows/en/wp-content/uploads/2024/12/gil-linoy-kikar-hamusica-qMRzCc.tmp_.webp
END:VEVENT
BEGIN:VEVENT
DTSTART;TZID=Asia/Jerusalem:20260506T120000
DTEND;TZID=Asia/Jerusalem:20260506T140000
DTSTAMP:20260419T155116
CREATED:20260416T120809Z
LAST-MODIFIED:20260416T120809Z
UID:10003260-1778068800-1778076000@kikar-hamusica.com
SUMMARY:Marc Benetasse
DESCRIPTION:Marc Bénétasse Pianist Singer\, unconditional Pop\, Soul and Jazz\, he interprets the inescapable Beatles\, Paul Mc Cartney\, Stevie Wonder\, George Benson\, Prince\, Michael Jackson\, James Taylor\, Michael McDonald and others who traced the path of his musical influences. Come back to the most beautiful creative and artistic period from the 70s to the 90s at Kikar Hamusika every Tuesday from 12h to 14h.
URL:https://kikar-hamusica.com/shows/en/event/marc-benetasse/
CATEGORIES:Pop music,R&B music
ATTACH;FMTTYPE=image/webp:https://kikar-hamusica.com/shows/en/wp-content/uploads/2024/06/marc-benetasse-kikar-hamusica.webp
END:VEVENT
BEGIN:VEVENT
DTSTART;TZID=Asia/Jerusalem:20260506T173000
DTEND;TZID=Asia/Jerusalem:20260506T193000
DTSTAMP:20260419T155116
CREATED:20260416T120810Z
LAST-MODIFIED:20260416T120810Z
UID:10003261-1778088600-1778095800@kikar-hamusica.com
SUMMARY:Soulmate
DESCRIPTION:“Soul Mate” offers a musical journey through the greatest international musical trends of our time! From Stevie Wonder to the Beatles and especially Israeli hits from all eras\, we invite you to join us.
URL:https://kikar-hamusica.com/shows/en/event/soulmate-3/
CATEGORIES:Israeli music,Pop music
ATTACH;FMTTYPE=image/webp:https://kikar-hamusica.com/shows/en/wp-content/uploads/2026/04/soul-mate-kikar-hamusica.webp
END:VEVENT
BEGIN:VEVENT
DTSTART;TZID=Asia/Jerusalem:20260506T200000
DTEND;TZID=Asia/Jerusalem:20260506T220000
DTSTAMP:20260419T155116
CREATED:20260416T120811Z
LAST-MODIFIED:20260416T120811Z
UID:10003262-1778097600-1778104800@kikar-hamusica.com
SUMMARY:Aura
DESCRIPTION:The group “Aura” – a group of young musicians from Jerusalem offering a pleasant and rhythmic evening of music. Come and let yourself be carried away by our aura with a variety of Israeli classics\, current hits and songs in Hebrew\, “Aura” takes you into a mix of magical atmospheres and music. Jack Lev: guitar\, vocals. Ido Cohen: guitar\, vocals. Eden Atari: bass. Lior Turtan: drums.
URL:https://kikar-hamusica.com/shows/en/event/aura/
CATEGORIES:Israeli music
ATTACH;FMTTYPE=image/webp:https://kikar-hamusica.com/shows/en/wp-content/uploads/2024/08/aura-kikar-hamusica-jeursalem.webp
END:VEVENT
BEGIN:VEVENT
DTSTART;TZID=Asia/Jerusalem:20260507T120000
DTEND;TZID=Asia/Jerusalem:20260507T140000
DTSTAMP:20260419T155116
CREATED:20260416T121008Z
LAST-MODIFIED:20260416T121008Z
UID:10003263-1778155200-1778162400@kikar-hamusica.com
SUMMARY:Yehuda Ashash
DESCRIPTION:Yehuda Ashash – Classic Jerusalem music\, he studied music and sound design in The States. For many years he produced and performed in different groups in Israel and the world in the genre of Rock and World music. Today\, he mostly composes music for movies and TV. At Kikar Hamusica Yehuda Ashash performs an assortiment of hebrew and english songs from classical to world to Pop and Rock.
URL:https://kikar-hamusica.com/shows/en/event/yehuda-ashash-2/
CATEGORIES:Israeli music
ATTACH;FMTTYPE=image/webp:https://kikar-hamusica.com/shows/en/wp-content/uploads/2024/07/yehuda-ashash-kikar-hamusica.webp
END:VEVENT
BEGIN:VEVENT
DTSTART;TZID=Asia/Jerusalem:20260507T180000
DTEND;TZID=Asia/Jerusalem:20260507T200000
DTSTAMP:20260419T155116
CREATED:20260416T121010Z
LAST-MODIFIED:20260416T121010Z
UID:10003264-1778176800-1778184000@kikar-hamusica.com
SUMMARY:Aliza Keren Duo
DESCRIPTION:Aliza Keren is a violinist and composer accompanied by talented pianists. Music for joy and soul – original music\, golden hits and Jewish music.
URL:https://kikar-hamusica.com/shows/en/event/aliza-keren-duo/
CATEGORIES:Classical music
ATTACH;FMTTYPE=image/webp:https://kikar-hamusica.com/shows/en/wp-content/uploads/2025/02/aliza-duo.webp
END:VEVENT
BEGIN:VEVENT
DTSTART;TZID=Asia/Jerusalem:20260507T203000
DTEND;TZID=Asia/Jerusalem:20260507T223000
DTSTAMP:20260419T155116
CREATED:20260416T121010Z
LAST-MODIFIED:20260416T121010Z
UID:10003265-1778185800-1778193000@kikar-hamusica.com
SUMMARY:Sihara
DESCRIPTION:Sihara – rock pop and world music. Four musicians from Jerusalem in an energetic show of pop rock and world music. Sihara performs covers of well-known songs as well as original inspired songs. Yehuda Ashash: Oud\, guitar and voice\, Gil Shapira: guitar and voice\, Noam Yadgar: Bass and Nissan Levi: drums and percussion.
URL:https://kikar-hamusica.com/shows/en/event/sihara-2/
CATEGORIES:World music
ATTACH;FMTTYPE=image/webp:https://kikar-hamusica.com/shows/en/wp-content/uploads/2024/12/sihara-kikar-hamusica-lMYzK1.tmp_.webp
END:VEVENT
BEGIN:VEVENT
DTSTART;TZID=Asia/Jerusalem:20260508T093000
DTEND;TZID=Asia/Jerusalem:20260508T113000
DTSTAMP:20260419T155116
CREATED:20260416T121012Z
LAST-MODIFIED:20260416T121012Z
UID:10003266-1778232600-1778239800@kikar-hamusica.com
SUMMARY:Jack Lev
DESCRIPTION:Hi I’m Jack Lev\, an american singer whos here to play to your hearts desires. From old songs to new songs\, English or Hebrew\, just ask and you will probably recieve
URL:https://kikar-hamusica.com/shows/en/event/jack-lev-2/
CATEGORIES:Pop music
ATTACH;FMTTYPE=image/webp:https://kikar-hamusica.com/shows/en/wp-content/uploads/2024/12/jack-lev-kikar-hamusica-DDn1Lh.tmp_.webp
END:VEVENT
BEGIN:VEVENT
DTSTART;TZID=Asia/Jerusalem:20260508T120000
DTEND;TZID=Asia/Jerusalem:20260508T140000
DTSTAMP:20260419T155116
CREATED:20260416T121013Z
LAST-MODIFIED:20260416T121013Z
UID:10003267-1778241600-1778248800@kikar-hamusica.com
SUMMARY:Amir Shreiber & the Greek Groove
DESCRIPTION:Amir Schreiber and the Greek groov ‘… An energetic show of Greek and Gypsy songs and classics translated into Hebrew. In the Greek repertoire: songs of Aris San\, Yehuda Poliker and Greek folk melodies. In the Gypsy repertoire: classics of the Gypsie Kings in gypsy Spanish. Amir Schreiber – vocals and guitar Yuval Meiri – Guest bouzouki player Nissan Levy – Cajun and percussion
URL:https://kikar-hamusica.com/shows/en/event/amir-shreiber-the-greek-groove/
CATEGORIES:Greek music
ATTACH;FMTTYPE=image/webp:https://kikar-hamusica.com/shows/en/wp-content/uploads/2024/12/amir-shreiber-grec-kikar-hamusica-boAN6w.tmp_.webp
END:VEVENT
BEGIN:VEVENT
DTSTART;TZID=Asia/Jerusalem:20260509T200000
DTEND;TZID=Asia/Jerusalem:20260509T220000
DTSTAMP:20260419T155116
CREATED:20260416T121144Z
LAST-MODIFIED:20260416T121144Z
UID:10003268-1778356800-1778364000@kikar-hamusica.com
SUMMARY:Shabat
DESCRIPTION:No concert
URL:https://kikar-hamusica.com/shows/en/event/shabat-2/
ATTACH;FMTTYPE=image/webp:https://kikar-hamusica.com/shows/en/wp-content/uploads/2025/02/chabath-kikar-hamusica.webp
END:VEVENT
BEGIN:VEVENT
DTSTART;TZID=Asia/Jerusalem:20260510T120000
DTEND;TZID=Asia/Jerusalem:20260510T140000
DTSTAMP:20260419T155116
CREATED:20260416T121145Z
LAST-MODIFIED:20260416T121145Z
UID:10003269-1778414400-1778421600@kikar-hamusica.com
SUMMARY:Ido Cohen
DESCRIPTION:From old classics to today’s hits.\nIdo tries to touch all worlds of music so that everyone can enjoy and have a pleasant musical experience\nFrom Shlomo Artzi to Franck Sintra\, from Idan Raichel to Coldplay…\nAll worlds in one place
URL:https://kikar-hamusica.com/shows/en/event/ido-cohen-2/
CATEGORIES:Israeli music
ATTACH;FMTTYPE=image/webp:https://kikar-hamusica.com/shows/en/wp-content/uploads/2024/10/ido-cohen-kikar-hamusica.webp
END:VEVENT
BEGIN:VEVENT
DTSTART;TZID=Asia/Jerusalem:20260510T173000
DTEND;TZID=Asia/Jerusalem:20260510T193000
DTSTAMP:20260419T155116
CREATED:20260416T121146Z
LAST-MODIFIED:20260416T121146Z
UID:10003270-1778434200-1778441400@kikar-hamusica.com
SUMMARY:Frida Libman
DESCRIPTION:Frida Libman Graduated with a master’s degree in musical art and performance. Pianist and musician with rich experience in arrangements and concerts. She acquired her musical training in the USSR and Israel.
URL:https://kikar-hamusica.com/shows/en/event/frida-libman-2/
CATEGORIES:Classical music
ATTACH;FMTTYPE=image/webp:https://kikar-hamusica.com/shows/en/wp-content/uploads/2025/03/frida-libman-2025-kikar-hamusica.webp
END:VEVENT
BEGIN:VEVENT
DTSTART;TZID=Asia/Jerusalem:20260510T200000
DTEND;TZID=Asia/Jerusalem:20260510T220000
DTSTAMP:20260419T155116
CREATED:20260416T121147Z
LAST-MODIFIED:20260416T121147Z
UID:10003271-1778443200-1778450400@kikar-hamusica.com
SUMMARY:Dionisis Theodorou Band
DESCRIPTION:דיוניסיס תאודורו ולהקתו במוזיקת בוזוקי יהודית\, יוונית ומקורית
URL:https://kikar-hamusica.com/shows/en/event/dionisis-theodorou-band/
CATEGORIES:Greek music,Israeli music
ATTACH;FMTTYPE=image/webp:https://kikar-hamusica.com/shows/en/wp-content/uploads/2026/04/Dionisis-Theodorou-Band-kikar-hamusica.webp
END:VEVENT
BEGIN:VEVENT
DTSTART;TZID=Asia/Jerusalem:20260511T120000
DTEND;TZID=Asia/Jerusalem:20260511T140000
DTSTAMP:20260419T155116
CREATED:20260416T121148Z
LAST-MODIFIED:20260416T121148Z
UID:10003272-1778500800-1778508000@kikar-hamusica.com
SUMMARY:Jack Lev
DESCRIPTION:Hi I’m Jack Lev\, an american singer whos here to play to your hearts desires. From old songs to new songs\, English or Hebrew\, just ask and you will probably recieve
URL:https://kikar-hamusica.com/shows/en/event/jack-lev-3/
CATEGORIES:Pop music
ATTACH;FMTTYPE=image/webp:https://kikar-hamusica.com/shows/en/wp-content/uploads/2024/12/jack-lev-kikar-hamusica-DDn1Lh.tmp_.webp
END:VEVENT
BEGIN:VEVENT
DTSTART;TZID=Asia/Jerusalem:20260511T173000
DTEND;TZID=Asia/Jerusalem:20260511T193000
DTSTAMP:20260419T155116
CREATED:20260416T121159Z
LAST-MODIFIED:20260416T121159Z
UID:10003273-1778520600-1778527800@kikar-hamusica.com
SUMMARY:Ido Cohen
DESCRIPTION:From old classics to today’s hits.\nIdo tries to touch all worlds of music so that everyone can enjoy and have a pleasant musical experience\nFrom Shlomo Artzi to Franck Sintra\, from Idan Raichel to Coldplay…\nAll worlds in one place
URL:https://kikar-hamusica.com/shows/en/event/ido-cohen-3/
CATEGORIES:Israeli music
ATTACH;FMTTYPE=image/webp:https://kikar-hamusica.com/shows/en/wp-content/uploads/2024/10/ido-cohen-kikar-hamusica.webp
END:VEVENT
BEGIN:VEVENT
DTSTART;TZID=Asia/Jerusalem:20260511T200000
DTEND;TZID=Asia/Jerusalem:20260511T220000
DTSTAMP:20260419T155116
CREATED:20260416T121200Z
LAST-MODIFIED:20260416T121200Z
UID:10003274-1778529600-1778536800@kikar-hamusica.com
SUMMARY:Samy Goz
DESCRIPTION:“Samy Goz” Artist / Singer / Conductor. He is the Star of International Showbiz\, Jet Set and Crowned Heads. At the same time singer\, conductor and entertainer. Since his alyah in Jerusalem in March 2019\, his new “Quartet” and his new “Big Band” have been created\, and are composed of the very best of Israeli musicians from Jerusalem: “Aviv Lidani” on Piano\, “Nadav Berkovits” on Keyboards\, “Michael Mizrahi” on Bass & “Dar Levi” on Drums.
URL:https://kikar-hamusica.com/shows/en/event/samy-goz-2/
CATEGORIES:Pop music
ATTACH;FMTTYPE=image/webp:https://kikar-hamusica.com/shows/en/wp-content/uploads/2025/10/Samy-Goz.webp
END:VEVENT
BEGIN:VEVENT
DTSTART;TZID=Asia/Jerusalem:20260512T120000
DTEND;TZID=Asia/Jerusalem:20260512T140000
DTSTAMP:20260419T155116
CREATED:20260416T121201Z
LAST-MODIFIED:20260416T121201Z
UID:10003275-1778587200-1778594400@kikar-hamusica.com
SUMMARY:Yehuda Ashash
DESCRIPTION:Yehuda Ashash – Classic Jerusalem music\, he studied music and sound design in The States. For many years he produced and performed in different groups in Israel and the world in the genre of Rock and World music. Today\, he mostly composes music for movies and TV. At Kikar Hamusica Yehuda Ashash performs an assortiment of hebrew and english songs from classical to world to Pop and Rock.
URL:https://kikar-hamusica.com/shows/en/event/yehuda-ashash-3/
CATEGORIES:Israeli music
ATTACH;FMTTYPE=image/webp:https://kikar-hamusica.com/shows/en/wp-content/uploads/2024/07/yehuda-ashash-kikar-hamusica.webp
END:VEVENT
BEGIN:VEVENT
DTSTART;TZID=Asia/Jerusalem:20260512T173000
DTEND;TZID=Asia/Jerusalem:20260512T193000
DTSTAMP:20260419T155116
CREATED:20260416T121202Z
LAST-MODIFIED:20260416T121202Z
UID:10003276-1778607000-1778614200@kikar-hamusica.com
SUMMARY:Yves & the cello
DESCRIPTION:An overview of the greatest standards Pop (Beatles)/Soul (Stevie Wonder\, Bill Withers)/Bossa Nova (Tom Jobim)/French songs (S.Gainsbourg) in a “luxury” duet with gentleness: acoustic guitar/ voice & cello\, a delight for the ears.
URL:https://kikar-hamusica.com/shows/en/event/yves-the-cello-2/
CATEGORIES:Pop music
ATTACH;FMTTYPE=image/webp:https://kikar-hamusica.com/shows/en/wp-content/uploads/2025/10/איב-והצ׳לו.webp
END:VEVENT
BEGIN:VEVENT
DTSTART;TZID=Asia/Jerusalem:20260512T200000
DTEND;TZID=Asia/Jerusalem:20260512T220000
DTSTAMP:20260419T155116
CREATED:20260416T121203Z
LAST-MODIFIED:20260416T121203Z
UID:10003277-1778616000-1778623200@kikar-hamusica.com
SUMMARY:Spirit
DESCRIPTION:The group “Spirit” made in France is multi-trend\, it will go through time and eras with you: from the cool Jazz of the 50s to the Pop of the Beatles of the 60’s via Soul and Funk of the 70s/80s but also the great French Variety\, let yourself be carried away by the warm voices of Mark Ben (Piano / Vocals) and Yves Galula (Bass / Vocals) as well as the virtuoso guitar of Franck Benguigui\, it’s good for the soul and the ears.
URL:https://kikar-hamusica.com/shows/en/event/spirit/
CATEGORIES:Pop music,R&B music
ATTACH;FMTTYPE=image/jpeg:https://kikar-hamusica.com/shows/en/wp-content/uploads/2024/12/photo_group_44_20230420113920-S19rTC.tmp_.jpg
END:VEVENT
END:VCALENDAR