BEGIN:VCALENDAR
VERSION:2.0
PRODID:-//Concerts et spectacles au Kikar Hamusica - ECPv6.15.20//NONSGML v1.0//EN
CALSCALE:GREGORIAN
METHOD:PUBLISH
X-WR-CALNAME:Concerts et spectacles au Kikar Hamusica
X-ORIGINAL-URL:https://kikar-hamusica.com/shows/fr
X-WR-CALDESC:Évènements pour Concerts et spectacles au Kikar Hamusica
REFRESH-INTERVAL;VALUE=DURATION:PT1H
X-Robots-Tag:noindex
X-PUBLISHED-TTL:PT1H
BEGIN:VTIMEZONE
TZID:Asia/Jerusalem
BEGIN:DAYLIGHT
TZOFFSETFROM:+0200
TZOFFSETTO:+0300
TZNAME:IDT
DTSTART:20250328T000000
END:DAYLIGHT
BEGIN:STANDARD
TZOFFSETFROM:+0300
TZOFFSETTO:+0200
TZNAME:IST
DTSTART:20251025T230000
END:STANDARD
BEGIN:DAYLIGHT
TZOFFSETFROM:+0200
TZOFFSETTO:+0300
TZNAME:IDT
DTSTART:20260327T000000
END:DAYLIGHT
BEGIN:STANDARD
TZOFFSETFROM:+0300
TZOFFSETTO:+0200
TZNAME:IST
DTSTART:20261024T230000
END:STANDARD
BEGIN:DAYLIGHT
TZOFFSETFROM:+0200
TZOFFSETTO:+0300
TZNAME:IDT
DTSTART:20270326T000000
END:DAYLIGHT
BEGIN:STANDARD
TZOFFSETFROM:+0300
TZOFFSETTO:+0200
TZNAME:IST
DTSTART:20271030T230000
END:STANDARD
END:VTIMEZONE
BEGIN:VEVENT
DTSTART;TZID=Asia/Jerusalem:20260513T200000
DTEND;TZID=Asia/Jerusalem:20260513T220000
DTSTAMP:20260421T142537
CREATED:20260416T115932Z
LAST-MODIFIED:20260416T115932Z
UID:7968-1778702400-1778709600@kikar-hamusica.com
SUMMARY:Aicha
DESCRIPTION:« Aïcha est la ce soir pour vous rendre heureux ! Avec tous les plus grands succès d’Israël\, y compris les plus grands chanteurs méditerranéens comme Omer Adam\, Zohar Argov\, Osher Cohen\, Eden Hasson\, etc. ! »
URL:https://kikar-hamusica.com/shows/fr/event/aicha/
CATEGORIES:Musique israélienne
ATTACH;FMTTYPE=image/webp:https://kikar-hamusica.com/shows/fr/wp-content/uploads/2025/07/aicha-music-kikar-hamusica.webp
END:VEVENT
END:VCALENDAR