BEGIN:VCALENDAR
VERSION:2.0
PRODID:-//Concerts et spectacles au Kikar Hamusica - ECPv6.15.20//NONSGML v1.0//EN
CALSCALE:GREGORIAN
METHOD:PUBLISH
X-WR-CALNAME:Concerts et spectacles au Kikar Hamusica
X-ORIGINAL-URL:https://kikar-hamusica.com/shows/fr
X-WR-CALDESC:Évènements pour Concerts et spectacles au Kikar Hamusica
REFRESH-INTERVAL;VALUE=DURATION:PT1H
X-Robots-Tag:noindex
X-PUBLISHED-TTL:PT1H
BEGIN:VTIMEZONE
TZID:Asia/Jerusalem
BEGIN:DAYLIGHT
TZOFFSETFROM:+0200
TZOFFSETTO:+0300
TZNAME:IDT
DTSTART:20250328T000000
END:DAYLIGHT
BEGIN:STANDARD
TZOFFSETFROM:+0300
TZOFFSETTO:+0200
TZNAME:IST
DTSTART:20251025T230000
END:STANDARD
BEGIN:DAYLIGHT
TZOFFSETFROM:+0200
TZOFFSETTO:+0300
TZNAME:IDT
DTSTART:20260327T000000
END:DAYLIGHT
BEGIN:STANDARD
TZOFFSETFROM:+0300
TZOFFSETTO:+0200
TZNAME:IST
DTSTART:20261024T230000
END:STANDARD
BEGIN:DAYLIGHT
TZOFFSETFROM:+0200
TZOFFSETTO:+0300
TZNAME:IDT
DTSTART:20270326T000000
END:DAYLIGHT
BEGIN:STANDARD
TZOFFSETFROM:+0300
TZOFFSETTO:+0200
TZNAME:IST
DTSTART:20271030T230000
END:STANDARD
END:VTIMEZONE
BEGIN:VEVENT
DTSTART;TZID=Asia/Jerusalem:20260525T120000
DTEND;TZID=Asia/Jerusalem:20260525T140000
DTSTAMP:20260419T153459
CREATED:20260416T120221Z
LAST-MODIFIED:20260416T120221Z
UID:7994-1779710400-1779717600@kikar-hamusica.com
SUMMARY:Jack Lev
DESCRIPTION:Salut je suis Jack Lev\, un chanteur américain qui est ici pour jouer selon vos désirs\, d’anciennes ou de nouvelles chansons en anglais ou en hébreu\, il suffit de demander et vous serez servis.
URL:https://kikar-hamusica.com/shows/fr/event/jack-lev-5/
CATEGORIES:Musique pop
ATTACH;FMTTYPE=image/webp:https://kikar-hamusica.com/shows/fr/wp-content/uploads/2024/12/jack-lev-kikar-hamusica-Tvyrly.tmp_.webp
END:VEVENT
END:VCALENDAR