BEGIN:VCALENDAR
VERSION:2.0
PRODID:-//Concerts et spectacles au Kikar Hamusica - ECPv6.15.20//NONSGML v1.0//EN
CALSCALE:GREGORIAN
METHOD:PUBLISH
X-WR-CALNAME:Concerts et spectacles au Kikar Hamusica
X-ORIGINAL-URL:https://kikar-hamusica.com/shows/fr
X-WR-CALDESC:Évènements pour Concerts et spectacles au Kikar Hamusica
REFRESH-INTERVAL;VALUE=DURATION:PT1H
X-Robots-Tag:noindex
X-PUBLISHED-TTL:PT1H
BEGIN:VTIMEZONE
TZID:Asia/Jerusalem
BEGIN:DAYLIGHT
TZOFFSETFROM:+0200
TZOFFSETTO:+0300
TZNAME:IDT
DTSTART:20250328T000000
END:DAYLIGHT
BEGIN:STANDARD
TZOFFSETFROM:+0300
TZOFFSETTO:+0200
TZNAME:IST
DTSTART:20251025T230000
END:STANDARD
BEGIN:DAYLIGHT
TZOFFSETFROM:+0200
TZOFFSETTO:+0300
TZNAME:IDT
DTSTART:20260327T000000
END:DAYLIGHT
BEGIN:STANDARD
TZOFFSETFROM:+0300
TZOFFSETTO:+0200
TZNAME:IST
DTSTART:20261024T230000
END:STANDARD
BEGIN:DAYLIGHT
TZOFFSETFROM:+0200
TZOFFSETTO:+0300
TZNAME:IDT
DTSTART:20270326T000000
END:DAYLIGHT
BEGIN:STANDARD
TZOFFSETFROM:+0300
TZOFFSETTO:+0200
TZNAME:IST
DTSTART:20271030T230000
END:STANDARD
END:VTIMEZONE
BEGIN:VEVENT
DTSTART;TZID=Asia/Jerusalem:20260524T200000
DTEND;TZID=Asia/Jerusalem:20260524T220000
DTSTAMP:20260421T160248
CREATED:20260416T120220Z
LAST-MODIFIED:20260416T120220Z
UID:7993-1779652800-1779660000@kikar-hamusica.com
SUMMARY:Raphael Alouch
DESCRIPTION:Le chanteur franco-israélien Raphael Alouch nous apporte un style nouveau et passionnant. La marque de fabrique de Raphael\, ce sont les chansons en français et en hébreu réunies. Pendant longtemps\, Raphael a sorti de gros tubes sur YouTube qu’il a traduits et interprétés en français sur des chansons israéliennes familières qui ont atteint des centaines de milliers de vues sur les réseaux sociaux. Raphaël vit et respire les ballades des chansons israéliennes des traditionnelles aux modernes. La mélodie est accompagnée par le claviériste Avihai Sheetrit qui joue des sons amples et excitants.
URL:https://kikar-hamusica.com/shows/fr/event/raphael-alouch/
CATEGORIES:Musique israélienne
ATTACH;FMTTYPE=image/webp:https://kikar-hamusica.com/shows/fr/wp-content/uploads/2024/07/Raphael-Alouch-kikar-hamusica.webp
END:VEVENT
END:VCALENDAR