BEGIN:VCALENDAR
VERSION:2.0
PRODID:-//Concerts et spectacles au Kikar Hamusica - ECPv6.15.20//NONSGML v1.0//EN
CALSCALE:GREGORIAN
METHOD:PUBLISH
X-WR-CALNAME:Concerts et spectacles au Kikar Hamusica
X-ORIGINAL-URL:https://kikar-hamusica.com/shows/fr
X-WR-CALDESC:Évènements pour Concerts et spectacles au Kikar Hamusica
REFRESH-INTERVAL;VALUE=DURATION:PT1H
X-Robots-Tag:noindex
X-PUBLISHED-TTL:PT1H
BEGIN:VTIMEZONE
TZID:Asia/Jerusalem
BEGIN:DAYLIGHT
TZOFFSETFROM:+0200
TZOFFSETTO:+0300
TZNAME:IDT
DTSTART:20250328T000000
END:DAYLIGHT
BEGIN:STANDARD
TZOFFSETFROM:+0300
TZOFFSETTO:+0200
TZNAME:IST
DTSTART:20251025T230000
END:STANDARD
BEGIN:DAYLIGHT
TZOFFSETFROM:+0200
TZOFFSETTO:+0300
TZNAME:IDT
DTSTART:20260327T000000
END:DAYLIGHT
BEGIN:STANDARD
TZOFFSETFROM:+0300
TZOFFSETTO:+0200
TZNAME:IST
DTSTART:20261024T230000
END:STANDARD
BEGIN:DAYLIGHT
TZOFFSETFROM:+0200
TZOFFSETTO:+0300
TZNAME:IDT
DTSTART:20270326T000000
END:DAYLIGHT
BEGIN:STANDARD
TZOFFSETFROM:+0300
TZOFFSETTO:+0200
TZNAME:IST
DTSTART:20271030T230000
END:STANDARD
END:VTIMEZONE
BEGIN:VEVENT
DTSTART;TZID=Asia/Jerusalem:20260513T173000
DTEND;TZID=Asia/Jerusalem:20260513T193000
DTSTAMP:20260419T152247
CREATED:20260416T115931Z
LAST-MODIFIED:20260416T115931Z
UID:7967-1778693400-1778700600@kikar-hamusica.com
SUMMARY:Soul mate
DESCRIPTION:« Soul mate » propose un voyage musical parcourant les plus grands courants musicaux internationaux de notre époque ! De Stevie Wonder aux Beatles et surtout des succès Israéliens de toutes les époques\, vous vous invitons à vous joindre à nous.
URL:https://kikar-hamusica.com/shows/fr/event/soul-mate-4/
CATEGORIES:Musique israélienne,Musique pop
ATTACH;FMTTYPE=image/webp:https://kikar-hamusica.com/shows/fr/wp-content/uploads/2026/04/soul-mate-kikar-hamusica.webp
END:VEVENT
END:VCALENDAR