BEGIN:VCALENDAR
VERSION:2.0
PRODID:-//Concerts et spectacles au Kikar Hamusica - ECPv6.15.20//NONSGML v1.0//EN
CALSCALE:GREGORIAN
METHOD:PUBLISH
X-WR-CALNAME:Concerts et spectacles au Kikar Hamusica
X-ORIGINAL-URL:https://kikar-hamusica.com/shows/fr
X-WR-CALDESC:Évènements pour Concerts et spectacles au Kikar Hamusica
REFRESH-INTERVAL;VALUE=DURATION:PT1H
X-Robots-Tag:noindex
X-PUBLISHED-TTL:PT1H
BEGIN:VTIMEZONE
TZID:Asia/Jerusalem
BEGIN:DAYLIGHT
TZOFFSETFROM:+0200
TZOFFSETTO:+0300
TZNAME:IDT
DTSTART:20250328T000000
END:DAYLIGHT
BEGIN:STANDARD
TZOFFSETFROM:+0300
TZOFFSETTO:+0200
TZNAME:IST
DTSTART:20251025T230000
END:STANDARD
BEGIN:DAYLIGHT
TZOFFSETFROM:+0200
TZOFFSETTO:+0300
TZNAME:IDT
DTSTART:20260327T000000
END:DAYLIGHT
BEGIN:STANDARD
TZOFFSETFROM:+0300
TZOFFSETTO:+0200
TZNAME:IST
DTSTART:20261024T230000
END:STANDARD
BEGIN:DAYLIGHT
TZOFFSETFROM:+0200
TZOFFSETTO:+0300
TZNAME:IDT
DTSTART:20270326T000000
END:DAYLIGHT
BEGIN:STANDARD
TZOFFSETFROM:+0300
TZOFFSETTO:+0200
TZNAME:IST
DTSTART:20271030T230000
END:STANDARD
END:VTIMEZONE
BEGIN:VEVENT
DTSTART;TZID=Asia/Jerusalem:20260421T230000
DTEND;TZID=Asia/Jerusalem:20260421T230000
DTSTAMP:20260421T155121
CREATED:20260315T121745Z
LAST-MODIFIED:20260315T121745Z
UID:10003257-1776812400-1776812400@kikar-hamusica.com
SUMMARY:Aura
DESCRIPTION:Le groupe « Aura » – un groupe de jeunes musiciens de Jérusalem proposant une soirée musicale agréable et ryhthmée. Venez vous laisser emporter par notre aura avec une variété de classiques israéliens\, de succès actuels et de chansons en hébreu\, « Aura » vous emmène dans un mélange d’ambiances et de musiques magiques. Jack Lev : guitare\, chant. Ido Cohen : guitare\, chant. Eden Atari : basse. Lior Turtan : batterie.
URL:https://kikar-hamusica.com/shows/fr/event/aura-13/
CATEGORIES:Musique israélienne
ATTACH;FMTTYPE=image/webp:https://kikar-hamusica.com/shows/fr/wp-content/uploads/2024/08/aura-kikar-hamusica-jeursalem.webp
END:VEVENT
BEGIN:VEVENT
DTSTART;TZID=Asia/Jerusalem:20260423T120000
DTEND;TZID=Asia/Jerusalem:20260423T140000
DTSTAMP:20260421T155121
CREATED:20260315T121943Z
LAST-MODIFIED:20260315T121943Z
UID:10003260-1776945600-1776952800@kikar-hamusica.com
SUMMARY:Yehuda Ashash
DESCRIPTION:Yehuda Ashash – musicien émérite de Jérusalem. Il a etudié la musique et l’arrangement sonore\, durant de nombreuses années il a joué et produit divers orchestres en Israel et dans le monde dans les genres rock et musiques du monde. Actuellement il compose et arrange les musiques de films et programmes pour la télévision. Sur Kikar Hamusica Yehuda Ashash joue et chante une sélection de chansons en hébreu et en anglais\, classiques du monde du rock et de la pop
URL:https://kikar-hamusica.com/shows/fr/event/yehuda-ashash-29/
CATEGORIES:Musique israélienne
ATTACH;FMTTYPE=image/webp:https://kikar-hamusica.com/shows/fr/wp-content/uploads/2024/07/yehuda-ashash-kikar-hamusica.webp
END:VEVENT
BEGIN:VEVENT
DTSTART;TZID=Asia/Jerusalem:20260426T120000
DTEND;TZID=Asia/Jerusalem:20260426T140000
DTSTAMP:20260421T155121
CREATED:20260315T122015Z
LAST-MODIFIED:20260315T122015Z
UID:10003266-1777204800-1777212000@kikar-hamusica.com
SUMMARY:Ido Cohen
DESCRIPTION:Des classiques d’antan aux succès d’aujourd’hui.Ido essaie de toucher tous les mondes de la musique pour que chacun puisse profiter et vivre une expérience musicale agréable\nDe Shlomo Artzi à Franck Sintra\, d’Idan Raichel à Coldplay…
URL:https://kikar-hamusica.com/shows/fr/event/ido-cohen-21/
CATEGORIES:Musique israélienne
ATTACH;FMTTYPE=image/webp:https://kikar-hamusica.com/shows/fr/wp-content/uploads/2024/10/ido-cohen-kikar-hamusica.webp
END:VEVENT
BEGIN:VEVENT
DTSTART;TZID=Asia/Jerusalem:20260426T200000
DTEND;TZID=Asia/Jerusalem:20260426T220000
DTSTAMP:20260421T155121
CREATED:20260315T122017Z
LAST-MODIFIED:20260315T122017Z
UID:10003268-1777233600-1777240800@kikar-hamusica.com
SUMMARY:Shuki Miletski & les freres Erez
DESCRIPTION:Nous vous proposerons un spectacle passionnant et captivant\, de la musique juive authentique à la country agréable et addictive.Des chansons calmes et excitantes aux côtés de chansons joyeuses et entraînantes. Nous sommes venus nous réjouir avec vous.\nBonne soirée!!
URL:https://kikar-hamusica.com/shows/fr/event/shuki-miletski-les-freres-erez-4/
CATEGORIES:Musique israélienne
ATTACH;FMTTYPE=image/webp:https://kikar-hamusica.com/shows/fr/wp-content/uploads/2025/03/Shuki-Miletski-freres-Erez-kikar-hamusica-jerusalem.webp
END:VEVENT
BEGIN:VEVENT
DTSTART;TZID=Asia/Jerusalem:20260427T200000
DTEND;TZID=Asia/Jerusalem:20260427T220000
DTSTAMP:20260421T155121
CREATED:20260315T122215Z
LAST-MODIFIED:20260315T122215Z
UID:10003271-1777320000-1777327200@kikar-hamusica.com
SUMMARY:Beat Coin
DESCRIPTION:Le groupe « Beat Coin » interprète le meilleur de la musique Israélienne et étrangère de tous les temps. Musiciens: Eli Touboul – batterie Avi Ben Yosef – chant et guitare acoustique Hilik Gino – guitare\, chant et direction musicale Alors laissez tout … ce sera gai et joyeux
URL:https://kikar-hamusica.com/shows/fr/event/beat-coin-5/
CATEGORIES:Musique israélienne,Musique pop
ATTACH;FMTTYPE=image/webp:https://kikar-hamusica.com/shows/fr/wp-content/uploads/2024/07/beat-coin-kikar-hamusica.webp
END:VEVENT
BEGIN:VEVENT
DTSTART;TZID=Asia/Jerusalem:20260428T120000
DTEND;TZID=Asia/Jerusalem:20260428T140000
DTSTAMP:20260421T155121
CREATED:20260315T122216Z
LAST-MODIFIED:20260315T122216Z
UID:10003272-1777377600-1777384800@kikar-hamusica.com
SUMMARY:Yehuda Ashash
DESCRIPTION:Yehuda Ashash – musicien émérite de Jérusalem. Il a etudié la musique et l’arrangement sonore\, durant de nombreuses années il a joué et produit divers orchestres en Israel et dans le monde dans les genres rock et musiques du monde. Actuellement il compose et arrange les musiques de films et programmes pour la télévision. Sur Kikar Hamusica Yehuda Ashash joue et chante une sélection de chansons en hébreu et en anglais\, classiques du monde du rock et de la pop
URL:https://kikar-hamusica.com/shows/fr/event/yehuda-ashash-30/
CATEGORIES:Musique israélienne
ATTACH;FMTTYPE=image/webp:https://kikar-hamusica.com/shows/fr/wp-content/uploads/2024/07/yehuda-ashash-kikar-hamusica.webp
END:VEVENT
BEGIN:VEVENT
DTSTART;TZID=Asia/Jerusalem:20260429T173000
DTEND;TZID=Asia/Jerusalem:20260429T193000
DTSTAMP:20260421T155121
CREATED:20260315T122416Z
LAST-MODIFIED:20260315T122416Z
UID:10003276-1777483800-1777491000@kikar-hamusica.com
SUMMARY:Soul mate
DESCRIPTION:« Soul mate » propose un voyage musical parcourant les plus grands courants musicaux internationaux de notre époque ! De Stevie Wonder aux Beatles et surtout des succès Israéliens de toutes les époques\, vous vous invitons à vous joindre à nous.
URL:https://kikar-hamusica.com/shows/fr/event/soul-mate-2/
CATEGORIES:Musique israélienne,Musique pop
END:VEVENT
BEGIN:VEVENT
DTSTART;TZID=Asia/Jerusalem:20260430T120000
DTEND;TZID=Asia/Jerusalem:20260430T140000
DTSTAMP:20260421T155121
CREATED:20260315T122417Z
LAST-MODIFIED:20260315T122417Z
UID:10003278-1777550400-1777557600@kikar-hamusica.com
SUMMARY:Yehuda Ashash
DESCRIPTION:Yehuda Ashash – musicien émérite de Jérusalem. Il a etudié la musique et l’arrangement sonore\, durant de nombreuses années il a joué et produit divers orchestres en Israel et dans le monde dans les genres rock et musiques du monde. Actuellement il compose et arrange les musiques de films et programmes pour la télévision. Sur Kikar Hamusica Yehuda Ashash joue et chante une sélection de chansons en hébreu et en anglais\, classiques du monde du rock et de la pop
URL:https://kikar-hamusica.com/shows/fr/event/yehuda-ashash-31/
CATEGORIES:Musique israélienne
ATTACH;FMTTYPE=image/webp:https://kikar-hamusica.com/shows/fr/wp-content/uploads/2024/07/yehuda-ashash-kikar-hamusica.webp
END:VEVENT
END:VCALENDAR