BEGIN:VCALENDAR
VERSION:2.0
PRODID:-//Concerts et spectacles au Kikar Hamusica - ECPv6.15.20//NONSGML v1.0//EN
CALSCALE:GREGORIAN
METHOD:PUBLISH
X-ORIGINAL-URL:https://kikar-hamusica.com/shows/fr
X-WR-CALDESC:Évènements pour Concerts et spectacles au Kikar Hamusica
REFRESH-INTERVAL;VALUE=DURATION:PT1H
X-Robots-Tag:noindex
X-PUBLISHED-TTL:PT1H
BEGIN:VTIMEZONE
TZID:Asia/Jerusalem
BEGIN:DAYLIGHT
TZOFFSETFROM:+0200
TZOFFSETTO:+0300
TZNAME:IDT
DTSTART:20250328T000000
END:DAYLIGHT
BEGIN:STANDARD
TZOFFSETFROM:+0300
TZOFFSETTO:+0200
TZNAME:IST
DTSTART:20251025T230000
END:STANDARD
BEGIN:DAYLIGHT
TZOFFSETFROM:+0200
TZOFFSETTO:+0300
TZNAME:IDT
DTSTART:20260327T000000
END:DAYLIGHT
BEGIN:STANDARD
TZOFFSETFROM:+0300
TZOFFSETTO:+0200
TZNAME:IST
DTSTART:20261024T230000
END:STANDARD
BEGIN:DAYLIGHT
TZOFFSETFROM:+0200
TZOFFSETTO:+0300
TZNAME:IDT
DTSTART:20270326T000000
END:DAYLIGHT
BEGIN:STANDARD
TZOFFSETFROM:+0300
TZOFFSETTO:+0200
TZNAME:IST
DTSTART:20271030T230000
END:STANDARD
END:VTIMEZONE
BEGIN:VEVENT
DTSTART;TZID=Asia/Jerusalem:20260526T200000
DTEND;TZID=Asia/Jerusalem:20260526T220000
DTSTAMP:20260421T172042
CREATED:20260416T120236Z
LAST-MODIFIED:20260416T120236Z
UID:10003344-1779825600-1779832800@kikar-hamusica.com
SUMMARY:Pritsat Disc
DESCRIPTION:Un groupe de Jerusalem interprète des plus grands classiques du Pop ou du Rock parmi les meilleures formations d’Israel\, avec un grand répertoire de chansons qui correspond à chaque événement. Pritsat Disc se concentre dans des concerts d’hommages au grands du Rock dans toutes sortes d’événements et festivals. Le groupe a également une belle performance acoustique appropriée pour des événements plus calmes. Guershon Fisher – Chant Shah’ar Cohen – Guitares Dan Eilon – Guitare basse et acoustique Matan Assayag – Batterie
URL:https://kikar-hamusica.com/shows/fr/event/pritsat-disc/
CATEGORIES:Musique pop folk
ATTACH;FMTTYPE=image/jpeg:https://kikar-hamusica.com/shows/fr/wp-content/uploads/2024/12/photo_group_25_20230420112910-yqe5fM.tmp_.jpg
END:VEVENT
END:VCALENDAR