BEGIN:VCALENDAR
VERSION:2.0
PRODID:-//קונצרטים ואירועים לכיככר המוזיקה - ECPv6.15.20//NONSGML v1.0//EN
CALSCALE:GREGORIAN
METHOD:PUBLISH
X-WR-CALNAME:קונצרטים ואירועים לכיככר המוזיקה
X-ORIGINAL-URL:https://kikar-hamusica.com/shows/he
X-WR-CALDESC:Events for קונצרטים ואירועים לכיככר המוזיקה
REFRESH-INTERVAL;VALUE=DURATION:PT1H
X-Robots-Tag:noindex
X-PUBLISHED-TTL:PT1H
BEGIN:VTIMEZONE
TZID:Asia/Jerusalem
BEGIN:DAYLIGHT
TZOFFSETFROM:+0200
TZOFFSETTO:+0300
TZNAME:IDT
DTSTART:20250328T000000
END:DAYLIGHT
BEGIN:STANDARD
TZOFFSETFROM:+0300
TZOFFSETTO:+0200
TZNAME:IST
DTSTART:20251025T230000
END:STANDARD
BEGIN:DAYLIGHT
TZOFFSETFROM:+0200
TZOFFSETTO:+0300
TZNAME:IDT
DTSTART:20260327T000000
END:DAYLIGHT
BEGIN:STANDARD
TZOFFSETFROM:+0300
TZOFFSETTO:+0200
TZNAME:IST
DTSTART:20261024T230000
END:STANDARD
BEGIN:DAYLIGHT
TZOFFSETFROM:+0200
TZOFFSETTO:+0300
TZNAME:IDT
DTSTART:20270326T000000
END:DAYLIGHT
BEGIN:STANDARD
TZOFFSETFROM:+0300
TZOFFSETTO:+0200
TZNAME:IST
DTSTART:20271030T230000
END:STANDARD
END:VTIMEZONE
BEGIN:VEVENT
DTSTART;TZID=Asia/Jerusalem:20260513T120000
DTEND;TZID=Asia/Jerusalem:20260513T140000
DTSTAMP:20260422T181510
CREATED:20260416T123010Z
LAST-MODIFIED:20260416T123010Z
UID:8962-1778673600-1778680800@kikar-hamusica.com
SUMMARY:מארק בנטאס
DESCRIPTION:מרק בנטאס\, פסנתרן וזמר ענק של מוזיקת פופ\, נשמה\, וג׳אז. הוא חי את הביטלס את פול מקרטני את סטיבי וונדר\, ג׳ורג׳ בנסון\, פרינס\, מייקל ג׳ונסון\, ג׳יימס טיילור\, מייקל מקדונלד\, ועוד רבים אחרים מאותם הז׳אנרים… בואו לצלול איתנו ביחד איתו לתקופה הכי יפה ויצירתית שהתחילה בשנות ה-70 והמשיכה עד לשנות ה-90\, אנחנו ניהיה בכיכר המוזיקה כל יום שלישי בין השעות 12:00-14:00.
URL:https://kikar-hamusica.com/shows/he/event/%d7%9e%d7%90%d7%a8%d7%a7-%d7%91%d7%a0%d7%98%d7%90%d7%a1-2/
CATEGORIES:מוזיקת ​​R&B,מוסיקת פופ
ATTACH;FMTTYPE=image/webp:https://kikar-hamusica.com/shows/he/wp-content/uploads/2024/06/marc-benetasse-kikar-hamusica.webp
END:VEVENT
END:VCALENDAR