BEGIN:VCALENDAR
VERSION:2.0
PRODID:-//קונצרטים ואירועים לכיככר המוזיקה - ECPv6.15.20//NONSGML v1.0//EN
CALSCALE:GREGORIAN
METHOD:PUBLISH
X-WR-CALNAME:קונצרטים ואירועים לכיככר המוזיקה
X-ORIGINAL-URL:https://kikar-hamusica.com/shows/he
X-WR-CALDESC:Events for קונצרטים ואירועים לכיככר המוזיקה
REFRESH-INTERVAL;VALUE=DURATION:PT1H
X-Robots-Tag:noindex
X-PUBLISHED-TTL:PT1H
BEGIN:VTIMEZONE
TZID:Asia/Jerusalem
BEGIN:DAYLIGHT
TZOFFSETFROM:+0200
TZOFFSETTO:+0300
TZNAME:IDT
DTSTART:20250328T000000
END:DAYLIGHT
BEGIN:STANDARD
TZOFFSETFROM:+0300
TZOFFSETTO:+0200
TZNAME:IST
DTSTART:20251025T230000
END:STANDARD
BEGIN:DAYLIGHT
TZOFFSETFROM:+0200
TZOFFSETTO:+0300
TZNAME:IDT
DTSTART:20260327T000000
END:DAYLIGHT
BEGIN:STANDARD
TZOFFSETFROM:+0300
TZOFFSETTO:+0200
TZNAME:IST
DTSTART:20261024T230000
END:STANDARD
BEGIN:DAYLIGHT
TZOFFSETFROM:+0200
TZOFFSETTO:+0300
TZNAME:IDT
DTSTART:20270326T000000
END:DAYLIGHT
BEGIN:STANDARD
TZOFFSETFROM:+0300
TZOFFSETTO:+0200
TZNAME:IST
DTSTART:20271030T230000
END:STANDARD
END:VTIMEZONE
BEGIN:VEVENT
DTSTART;TZID=Asia/Jerusalem:20260503T200000
DTEND;TZID=Asia/Jerusalem:20260503T220000
DTSTAMP:20260422T180744
CREATED:20260416T122009Z
LAST-MODIFIED:20260416T122009Z
UID:8937-1777838400-1777845600@kikar-hamusica.com
SUMMARY:סמי גוז
DESCRIPTION:״סמי גוז" אמן / זמר / מנצח. הוא הכוכב של שואביז בינלאומי\, ערכת סילון וראשים מוכתרים. במקביל זמרת\, מנצחת ובדרנית. מאז עליתו בירושלים במרץ 2019 נוצרו "הרביעייה" החדשה שלו וה"ביג בנד "החדש שלו\, והם מורכבים ממיטב המוזיקאים הישראלים מירושלים: "אביב לידני" בפסנתר\, "נדב ברקוביץ" במקלדות\, "מיכאל מזרחי" בבס ו"דר לוי "בתופים.
URL:https://kikar-hamusica.com/shows/he/event/%d7%a1%d7%9e%d7%99-%d7%92%d7%95%d7%96/
CATEGORIES:מוסיקת פופ
ATTACH;FMTTYPE=image/webp:https://kikar-hamusica.com/shows/he/wp-content/uploads/2025/10/Samy-Goz.webp
END:VEVENT
END:VCALENDAR