BEGIN:VCALENDAR
VERSION:2.0
PRODID:-//קונצרטים ואירועים לכיככר המוזיקה - ECPv6.15.20//NONSGML v1.0//EN
CALSCALE:GREGORIAN
METHOD:PUBLISH
X-WR-CALNAME:קונצרטים ואירועים לכיככר המוזיקה
X-ORIGINAL-URL:https://kikar-hamusica.com/shows/he
X-WR-CALDESC:Events for קונצרטים ואירועים לכיככר המוזיקה
REFRESH-INTERVAL;VALUE=DURATION:PT1H
X-Robots-Tag:noindex
X-PUBLISHED-TTL:PT1H
BEGIN:VTIMEZONE
TZID:Asia/Jerusalem
BEGIN:DAYLIGHT
TZOFFSETFROM:+0200
TZOFFSETTO:+0300
TZNAME:IDT
DTSTART:20250328T000000
END:DAYLIGHT
BEGIN:STANDARD
TZOFFSETFROM:+0300
TZOFFSETTO:+0200
TZNAME:IST
DTSTART:20251025T230000
END:STANDARD
BEGIN:DAYLIGHT
TZOFFSETFROM:+0200
TZOFFSETTO:+0300
TZNAME:IDT
DTSTART:20260327T000000
END:DAYLIGHT
BEGIN:STANDARD
TZOFFSETFROM:+0300
TZOFFSETTO:+0200
TZNAME:IST
DTSTART:20261024T230000
END:STANDARD
BEGIN:DAYLIGHT
TZOFFSETFROM:+0200
TZOFFSETTO:+0300
TZNAME:IDT
DTSTART:20270326T000000
END:DAYLIGHT
BEGIN:STANDARD
TZOFFSETFROM:+0300
TZOFFSETTO:+0200
TZNAME:IST
DTSTART:20271030T230000
END:STANDARD
END:VTIMEZONE
BEGIN:VEVENT
DTSTART;TZID=Asia/Jerusalem:20260424T120000
DTEND;TZID=Asia/Jerusalem:20260424T140000
DTSTAMP:20260422T221758
CREATED:20260315T132228Z
LAST-MODIFIED:20260315T132228Z
UID:10003232-1777032000-1777039200@kikar-hamusica.com
SUMMARY:אמיר שרייבר והגרוב ביווני
DESCRIPTION:אמיר שרייבר והגרוב היווני… מופע אנרגטי של שירים וקלאסיקות יווניות וצועניות שתורגמו לעברית… ברפרטואר היווני -שירים של אריס סאן..יהודה פוליקר…ולחנים יוונים עממיים. ברפרטואר הצועני ….שירים של הגיפסי קינגס…בספרדית צוענית .וקלאסיקות . אמיר שרייבר שירה וגיטרה יובל מאירי -נגן בוזוקי אורח ניסן לוי -כחון וכלי הקשה
URL:https://kikar-hamusica.com/shows/he/event/%d7%90%d7%9e%d7%99%d7%a8-%d7%a9%d7%a8%d7%99%d7%99%d7%91%d7%a8-%d7%95%d7%94%d7%92%d7%a8%d7%95%d7%91-%d7%91%d7%99%d7%95%d7%95%d7%a0%d7%99-9/
CATEGORIES:מוזיקה יוונית
ATTACH;FMTTYPE=image/webp:https://kikar-hamusica.com/shows/he/wp-content/uploads/2024/12/amir-shreiber-grec-kikar-hamusica-V6bes9.tmp_.webp
END:VEVENT
END:VCALENDAR