BEGIN:VCALENDAR
VERSION:2.0
PRODID:-//קונצרטים ואירועים לכיככר המוזיקה - ECPv6.15.20//NONSGML v1.0//EN
CALSCALE:GREGORIAN
METHOD:PUBLISH
X-ORIGINAL-URL:https://kikar-hamusica.com/shows/he
X-WR-CALDESC:Events for קונצרטים ואירועים לכיככר המוזיקה
REFRESH-INTERVAL;VALUE=DURATION:PT1H
X-Robots-Tag:noindex
X-PUBLISHED-TTL:PT1H
BEGIN:VTIMEZONE
TZID:Asia/Jerusalem
BEGIN:DAYLIGHT
TZOFFSETFROM:+0200
TZOFFSETTO:+0300
TZNAME:IDT
DTSTART:20250328T000000
END:DAYLIGHT
BEGIN:STANDARD
TZOFFSETFROM:+0300
TZOFFSETTO:+0200
TZNAME:IST
DTSTART:20251025T230000
END:STANDARD
BEGIN:DAYLIGHT
TZOFFSETFROM:+0200
TZOFFSETTO:+0300
TZNAME:IDT
DTSTART:20260327T000000
END:DAYLIGHT
BEGIN:STANDARD
TZOFFSETFROM:+0300
TZOFFSETTO:+0200
TZNAME:IST
DTSTART:20261024T230000
END:STANDARD
BEGIN:DAYLIGHT
TZOFFSETFROM:+0200
TZOFFSETTO:+0300
TZNAME:IDT
DTSTART:20270326T000000
END:DAYLIGHT
BEGIN:STANDARD
TZOFFSETFROM:+0300
TZOFFSETTO:+0200
TZNAME:IST
DTSTART:20271030T230000
END:STANDARD
END:VTIMEZONE
BEGIN:VEVENT
DTSTART;TZID=Asia/Jerusalem:20260521T120000
DTEND;TZID=Asia/Jerusalem:20260521T140000
DTSTAMP:20260423T002143
CREATED:20260416T123815Z
LAST-MODIFIED:20260416T123815Z
UID:10003300-1779364800-1779372000@kikar-hamusica.com
SUMMARY:יהודה אשש
DESCRIPTION:יהודה אשש – מוסיקאי ירושלמי ותיק.למד מוסיקה ועיצוב סאונד בארהב.במשך שנים רבות הפיק וניגן בהרכבים שונים בארץ ובעולם בתחום הרוק ובתחום מוסיקת עולם.היום בעיקר מלחין ויוצר מוסיקה לסרטים ותכניות טלויזיה. בכיכר המוסיקה יהודה אשש מנגן ושר מבחר שירים בעברית ובאנגלית מהקלסיקות של עולם הרוק והפופ.
URL:https://kikar-hamusica.com/shows/he/event/%d7%99%d7%94%d7%95%d7%93%d7%94-%d7%90%d7%a9%d7%a9-6/
CATEGORIES:מוזיקה ישראלית
ATTACH;FMTTYPE=image/webp:https://kikar-hamusica.com/shows/he/wp-content/uploads/2024/07/yehuda-ashash-kikar-hamusica.webp
END:VEVENT
BEGIN:VEVENT
DTSTART;TZID=Asia/Jerusalem:20260524T120000
DTEND;TZID=Asia/Jerusalem:20260524T140000
DTSTAMP:20260423T002143
CREATED:20260416T124014Z
LAST-MODIFIED:20260416T124014Z
UID:10003304-1779624000-1779631200@kikar-hamusica.com
SUMMARY:עידו כהן
DESCRIPTION:מהקלאסיקות  של פעם ועד הלהיטים של היום.\nעידו משתדל לגעת בכל עולמות המוזיקה כדי שכולם יהנו ויקבלו חוויה מוזיקלית נעימה\nמשלמה ארצי וקראנק סינטרה  ועד עידן רייכל וקולדפליי…\nכל העולמות במקום אחד
URL:https://kikar-hamusica.com/shows/he/event/%d7%a2%d7%99%d7%93%d7%95-%d7%9b%d7%94%d7%9f-5/
CATEGORIES:מוזיקה ישראלית
ATTACH;FMTTYPE=image/webp:https://kikar-hamusica.com/shows/he/wp-content/uploads/2024/10/ido-cohen-kikar-hamusica.webp
END:VEVENT
BEGIN:VEVENT
DTSTART;TZID=Asia/Jerusalem:20260524T200000
DTEND;TZID=Asia/Jerusalem:20260524T220000
DTSTAMP:20260423T002143
CREATED:20260416T124016Z
LAST-MODIFIED:20260416T124016Z
UID:10003306-1779652800-1779660000@kikar-hamusica.com
SUMMARY:רפאל אלוש
DESCRIPTION:רפאל אלוש זמר ישראלי צרפתי מביא אלינו סגנון חדש ומרגש. סימן ההיכר של רפאל אלו השירים בצרפתית ועברית יחד. תקופה ארוכה רפאל הוציא ליוטיוב להיטים גדולים שתירגם וביצע אותם בצרפתית לשירים ישראלים מוכרים שהגיעו למאות אלפי צפיות ברשתות החברתיות. רפאל חי ונושם את הבלדות של השירים הישראלים מהחדשים ועד הישנים. את הניגון מלווה אותו אביחי שטרית הקלידן שמנגן צלילים סוחפים ומרגשים.
URL:https://kikar-hamusica.com/shows/he/event/%d7%a8%d7%a4%d7%90%d7%9c-%d7%90%d7%9c%d7%95%d7%a9/
CATEGORIES:מוזיקה ישראלית
ATTACH;FMTTYPE=image/webp:https://kikar-hamusica.com/shows/he/wp-content/uploads/2024/07/Raphael-Alouch-kikar-hamusica.webp
END:VEVENT
BEGIN:VEVENT
DTSTART;TZID=Asia/Jerusalem:20260525T173000
DTEND;TZID=Asia/Jerusalem:20260525T193000
DTSTAMP:20260423T002143
CREATED:20260416T124018Z
LAST-MODIFIED:20260416T124018Z
UID:10003308-1779730200-1779737400@kikar-hamusica.com
SUMMARY:עידו כהן
DESCRIPTION:מהקלאסיקות  של פעם ועד הלהיטים של היום.\nעידו משתדל לגעת בכל עולמות המוזיקה כדי שכולם יהנו ויקבלו חוויה מוזיקלית נעימה\nמשלמה ארצי וקראנק סינטרה  ועד עידן רייכל וקולדפליי…\nכל העולמות במקום אחד
URL:https://kikar-hamusica.com/shows/he/event/%d7%a2%d7%99%d7%93%d7%95-%d7%9b%d7%94%d7%9f-6/
CATEGORIES:מוזיקה ישראלית
ATTACH;FMTTYPE=image/webp:https://kikar-hamusica.com/shows/he/wp-content/uploads/2024/10/ido-cohen-kikar-hamusica.webp
END:VEVENT
BEGIN:VEVENT
DTSTART;TZID=Asia/Jerusalem:20260525T200000
DTEND;TZID=Asia/Jerusalem:20260525T220000
DTSTAMP:20260423T002143
CREATED:20260416T132003Z
LAST-MODIFIED:20260416T132003Z
UID:10003309-1779739200-1779746400@kikar-hamusica.com
SUMMARY:ביט קוין
DESCRIPTION:להקת "ביט מטבע" מבצעת את מיטב המוזיקה הישראלית והלועזית בכל הזמנים. מוזיקאים: אלי טובול – תופים אבי בן יוסף – שירה וגיטרה אקוסטית חיליק ג'ינו – גיטרה\, שירה וניהול מוזיקלי אז עזבו הכל… זה יהיה עליז ומשמח
URL:https://kikar-hamusica.com/shows/he/event/%d7%91%d7%99%d7%98-%d7%a7%d7%95%d7%99%d7%9f-2/
CATEGORIES:מוזיקה ישראלית,מוסיקת פופ
ATTACH;FMTTYPE=image/webp:https://kikar-hamusica.com/shows/he/wp-content/uploads/2024/07/beat-coin-kikar-hamusica.webp
END:VEVENT
BEGIN:VEVENT
DTSTART;TZID=Asia/Jerusalem:20260526T120000
DTEND;TZID=Asia/Jerusalem:20260526T140000
DTSTAMP:20260423T002143
CREATED:20260416T132004Z
LAST-MODIFIED:20260416T132004Z
UID:10003310-1779796800-1779804000@kikar-hamusica.com
SUMMARY:יהודה אשש
DESCRIPTION:יהודה אשש – מוסיקאי ירושלמי ותיק.למד מוסיקה ועיצוב סאונד בארהב.במשך שנים רבות הפיק וניגן בהרכבים שונים בארץ ובעולם בתחום הרוק ובתחום מוסיקת עולם.היום בעיקר מלחין ויוצר מוסיקה לסרטים ותכניות טלויזיה. בכיכר המוסיקה יהודה אשש מנגן ושר מבחר שירים בעברית ובאנגלית מהקלסיקות של עולם הרוק והפופ.
URL:https://kikar-hamusica.com/shows/he/event/%d7%99%d7%94%d7%95%d7%93%d7%94-%d7%90%d7%a9%d7%a9-7/
CATEGORIES:מוזיקה ישראלית
ATTACH;FMTTYPE=image/webp:https://kikar-hamusica.com/shows/he/wp-content/uploads/2024/07/yehuda-ashash-kikar-hamusica.webp
END:VEVENT
BEGIN:VEVENT
DTSTART;TZID=Asia/Jerusalem:20260527T173000
DTEND;TZID=Asia/Jerusalem:20260527T193000
DTSTAMP:20260423T002143
CREATED:20260416T132202Z
LAST-MODIFIED:20260416T132202Z
UID:10003314-1779903000-1779910200@kikar-hamusica.com
SUMMARY:סולמייט
DESCRIPTION:"סולמייט מציעה מסע מוזיקלי דרך הטרנדים המוזיקליים הבינלאומיים הגדולים ביותר של זמננו! מסטיבי וונדר ועד הביטלס ובמיוחד להיטים ישראליים מכל התקופות\, אנו מזמינים אתכם להצטרף אלינו.
URL:https://kikar-hamusica.com/shows/he/event/%d7%a1%d7%95%d7%9c%d7%9e%d7%99%d7%99%d7%98-6/
CATEGORIES:מוזיקה ישראלית,מוסיקת פופ
ATTACH;FMTTYPE=image/webp:https://kikar-hamusica.com/shows/he/wp-content/uploads/2026/04/soul-mate-kikar-hamusica.webp
END:VEVENT
BEGIN:VEVENT
DTSTART;TZID=Asia/Jerusalem:20260528T120000
DTEND;TZID=Asia/Jerusalem:20260528T140000
DTSTAMP:20260423T002143
CREATED:20260416T132204Z
LAST-MODIFIED:20260416T132204Z
UID:10003316-1779969600-1779976800@kikar-hamusica.com
SUMMARY:יהודה אשש
DESCRIPTION:יהודה אשש – מוסיקאי ירושלמי ותיק.למד מוסיקה ועיצוב סאונד בארהב.במשך שנים רבות הפיק וניגן בהרכבים שונים בארץ ובעולם בתחום הרוק ובתחום מוסיקת עולם.היום בעיקר מלחין ויוצר מוסיקה לסרטים ותכניות טלויזיה. בכיכר המוסיקה יהודה אשש מנגן ושר מבחר שירים בעברית ובאנגלית מהקלסיקות של עולם הרוק והפופ.
URL:https://kikar-hamusica.com/shows/he/event/%d7%99%d7%94%d7%95%d7%93%d7%94-%d7%90%d7%a9%d7%a9-8/
CATEGORIES:מוזיקה ישראלית
ATTACH;FMTTYPE=image/webp:https://kikar-hamusica.com/shows/he/wp-content/uploads/2024/07/yehuda-ashash-kikar-hamusica.webp
END:VEVENT
BEGIN:VEVENT
DTSTART;TZID=Asia/Jerusalem:20260531T120000
DTEND;TZID=Asia/Jerusalem:20260531T140000
DTSTAMP:20260423T002143
CREATED:20260416T132408Z
LAST-MODIFIED:20260416T132408Z
UID:10003322-1780228800-1780236000@kikar-hamusica.com
SUMMARY:עידו כהן
DESCRIPTION:מהקלאסיקות  של פעם ועד הלהיטים של היום.\nעידו משתדל לגעת בכל עולמות המוזיקה כדי שכולם יהנו ויקבלו חוויה מוזיקלית נעימה\nמשלמה ארצי וקראנק סינטרה  ועד עידן רייכל וקולדפליי…\nכל העולמות במקום אחד
URL:https://kikar-hamusica.com/shows/he/event/%d7%a2%d7%99%d7%93%d7%95-%d7%9b%d7%94%d7%9f-7/
CATEGORIES:מוזיקה ישראלית
ATTACH;FMTTYPE=image/webp:https://kikar-hamusica.com/shows/he/wp-content/uploads/2024/10/ido-cohen-kikar-hamusica.webp
END:VEVENT
END:VCALENDAR