BEGIN:VCALENDAR
VERSION:2.0
PRODID:-//קונצרטים ואירועים לכיככר המוזיקה - ECPv6.15.20//NONSGML v1.0//EN
CALSCALE:GREGORIAN
METHOD:PUBLISH
X-WR-CALNAME:קונצרטים ואירועים לכיככר המוזיקה
X-ORIGINAL-URL:https://kikar-hamusica.com/shows/he
X-WR-CALDESC:Events for קונצרטים ואירועים לכיככר המוזיקה
REFRESH-INTERVAL;VALUE=DURATION:PT1H
X-Robots-Tag:noindex
X-PUBLISHED-TTL:PT1H
BEGIN:VTIMEZONE
TZID:Asia/Jerusalem
BEGIN:DAYLIGHT
TZOFFSETFROM:+0200
TZOFFSETTO:+0300
TZNAME:IDT
DTSTART:20250328T000000
END:DAYLIGHT
BEGIN:STANDARD
TZOFFSETFROM:+0300
TZOFFSETTO:+0200
TZNAME:IST
DTSTART:20251025T230000
END:STANDARD
BEGIN:DAYLIGHT
TZOFFSETFROM:+0200
TZOFFSETTO:+0300
TZNAME:IDT
DTSTART:20260327T000000
END:DAYLIGHT
BEGIN:STANDARD
TZOFFSETFROM:+0300
TZOFFSETTO:+0200
TZNAME:IST
DTSTART:20261024T230000
END:STANDARD
BEGIN:DAYLIGHT
TZOFFSETFROM:+0200
TZOFFSETTO:+0300
TZNAME:IDT
DTSTART:20270326T000000
END:DAYLIGHT
BEGIN:STANDARD
TZOFFSETFROM:+0300
TZOFFSETTO:+0200
TZNAME:IST
DTSTART:20271030T230000
END:STANDARD
END:VTIMEZONE
BEGIN:VEVENT
DTSTART;TZID=Asia/Jerusalem:20260423T180000
DTEND;TZID=Asia/Jerusalem:20260423T200000
DTSTAMP:20260422T211502
CREATED:20260315T132224Z
LAST-MODIFIED:20260315T132224Z
UID:10003229-1776967200-1776974400@kikar-hamusica.com
SUMMARY:דואט "קרן עליזה"
DESCRIPTION:עליזה קרן היא כנרת ומלחינה בליבוי פסנטרנים מוכשרים. מוזיקה לשמחה ולנשמה – מוזיקה מקורית\, להיטי זהב ומוזיקה יהודית.
URL:https://kikar-hamusica.com/shows/he/event/%d7%93%d7%95%d7%90%d7%98-%d7%a7%d7%a8%d7%9f-%d7%a2%d7%9c%d7%99%d7%96%d7%94-14/
CATEGORIES:מוזיקה קלאסית
ATTACH;FMTTYPE=image/webp:https://kikar-hamusica.com/shows/he/wp-content/uploads/2025/02/aliza-duo.webp
END:VEVENT
BEGIN:VEVENT
DTSTART;TZID=Asia/Jerusalem:20260426T173000
DTEND;TZID=Asia/Jerusalem:20260426T193000
DTSTAMP:20260422T211502
CREATED:20260315T132426Z
LAST-MODIFIED:20260315T132426Z
UID:10003235-1777224600-1777231800@kikar-hamusica.com
SUMMARY:פרידה ליבמן
DESCRIPTION:פרידה ליבמן בעלת תואר אומן באומנות הביצוע. פסנתרנית ומוסיקאית עם ניסיון עשיר בעיבודים והופעות. את השכלתה המוסיקלית רכשה בברה"מ וישראל
URL:https://kikar-hamusica.com/shows/he/event/%d7%a4%d7%a8%d7%99%d7%93%d7%94-%d7%9c%d7%99%d7%91%d7%9e%d7%9f-15/
CATEGORIES:מוזיקה קלאסית
ATTACH;FMTTYPE=image/webp:https://kikar-hamusica.com/shows/he/wp-content/uploads/2025/03/frida-libman-2025-kikar-hamusica.webp
END:VEVENT
BEGIN:VEVENT
DTSTART;TZID=Asia/Jerusalem:20260430T180000
DTEND;TZID=Asia/Jerusalem:20260430T200000
DTSTAMP:20260422T211502
CREATED:20260315T132830Z
LAST-MODIFIED:20260315T132830Z
UID:10003247-1777572000-1777579200@kikar-hamusica.com
SUMMARY:דואט "קרן עליזה"
DESCRIPTION:עליזה קרן היא כנרת ומלחינה בליבוי פסנטרנים מוכשרים. מוזיקה לשמחה ולנשמה – מוזיקה מקורית\, להיטי זהב ומוזיקה יהודית.
URL:https://kikar-hamusica.com/shows/he/event/%d7%93%d7%95%d7%90%d7%98-%d7%a7%d7%a8%d7%9f-%d7%a2%d7%9c%d7%99%d7%96%d7%94-15/
CATEGORIES:מוזיקה קלאסית
ATTACH;FMTTYPE=image/webp:https://kikar-hamusica.com/shows/he/wp-content/uploads/2025/02/aliza-duo.webp
END:VEVENT
END:VCALENDAR