BEGIN:VCALENDAR
VERSION:2.0
PRODID:-//קונצרטים ואירועים לכיככר המוזיקה - ECPv6.15.20//NONSGML v1.0//EN
CALSCALE:GREGORIAN
METHOD:PUBLISH
X-ORIGINAL-URL:https://kikar-hamusica.com/shows/he
X-WR-CALDESC:Events for קונצרטים ואירועים לכיככר המוזיקה
REFRESH-INTERVAL;VALUE=DURATION:PT1H
X-Robots-Tag:noindex
X-PUBLISHED-TTL:PT1H
BEGIN:VTIMEZONE
TZID:Asia/Jerusalem
BEGIN:DAYLIGHT
TZOFFSETFROM:+0200
TZOFFSETTO:+0300
TZNAME:IDT
DTSTART:20250328T000000
END:DAYLIGHT
BEGIN:STANDARD
TZOFFSETFROM:+0300
TZOFFSETTO:+0200
TZNAME:IST
DTSTART:20251025T230000
END:STANDARD
BEGIN:DAYLIGHT
TZOFFSETFROM:+0200
TZOFFSETTO:+0300
TZNAME:IDT
DTSTART:20260327T000000
END:DAYLIGHT
BEGIN:STANDARD
TZOFFSETFROM:+0300
TZOFFSETTO:+0200
TZNAME:IST
DTSTART:20261024T230000
END:STANDARD
BEGIN:DAYLIGHT
TZOFFSETFROM:+0200
TZOFFSETTO:+0300
TZNAME:IDT
DTSTART:20270326T000000
END:DAYLIGHT
BEGIN:STANDARD
TZOFFSETFROM:+0300
TZOFFSETTO:+0200
TZNAME:IST
DTSTART:20271030T230000
END:STANDARD
END:VTIMEZONE
BEGIN:VEVENT
DTSTART;TZID=Asia/Jerusalem:20260422T200000
DTEND;TZID=Asia/Jerusalem:20260422T220000
DTSTAMP:20260422T211435
CREATED:20260315T132026Z
LAST-MODIFIED:20260315T132026Z
UID:10003227-1776888000-1776895200@kikar-hamusica.com
SUMMARY:ספיריט
DESCRIPTION:הקבוצה "ספיריט" תוצרת צרפת היא רב-טרנדית\, היא תעבור איתכם זמן ותקופות: מהג'אז המגניב של שנות ה-50 ועד הפופ של הביטלס של שנות ה-60 דרך סול ופאנק של שנות ה-70/80 אבל גם הוורייטי הצרפתי הנהדר\, תנו לעצמכם להיסחף על ידי הקולות החמים של מארק בן (פסנתר/שירה) ואיב גאולה (בס/שירה) כמו גם הגיטרה הוירטואוזית של פרנק בנגויגו\, זה טוב לנשמה ולאוזניים.
URL:https://kikar-hamusica.com/shows/he/event/%d7%a1%d7%a4%d7%99%d7%a8%d7%99%d7%98-6/
CATEGORIES:מוזיקת ​​R&B,מוסיקת פופ
ATTACH;FMTTYPE=image/jpeg:https://kikar-hamusica.com/shows/he/wp-content/uploads/2024/12/photo_group_44_20230420113920-EfDh3S.tmp_.jpg
END:VEVENT
BEGIN:VEVENT
DTSTART;TZID=Asia/Jerusalem:20260424T093000
DTEND;TZID=Asia/Jerusalem:20260424T113000
DTSTAMP:20260422T211435
CREATED:20260315T132227Z
LAST-MODIFIED:20260315T132227Z
UID:10003231-1777023000-1777030200@kikar-hamusica.com
SUMMARY:ג׳ק לב
DESCRIPTION:אהלן אני ג׳ק לב\, זמר אמריקאי שפה לנגן לאות נפשכם. משירים ישנים ועד להיטים עדכניים\, אנגלית או עברית\, פשוט תבקשו וכנראה שתקבלו
URL:https://kikar-hamusica.com/shows/he/event/%d7%92%d7%b3%d7%a7-%d7%9c%d7%91-28/
CATEGORIES:מוסיקת פופ
ATTACH;FMTTYPE=image/webp:https://kikar-hamusica.com/shows/he/wp-content/uploads/2024/12/jack-lev-kikar-hamusica-fC2csL.tmp_.webp
END:VEVENT
BEGIN:VEVENT
DTSTART;TZID=Asia/Jerusalem:20260427T120000
DTEND;TZID=Asia/Jerusalem:20260427T140000
DTSTAMP:20260422T211435
CREATED:20260315T132429Z
LAST-MODIFIED:20260315T132429Z
UID:10003237-1777291200-1777298400@kikar-hamusica.com
SUMMARY:ג׳ק לב
DESCRIPTION:אהלן אני ג׳ק לב\, זמר אמריקאי שפה לנגן לאות נפשכם. משירים ישנים ועד להיטים עדכניים\, אנגלית או עברית\, פשוט תבקשו וכנראה שתקבלו
URL:https://kikar-hamusica.com/shows/he/event/%d7%92%d7%b3%d7%a7-%d7%9c%d7%91-29/
CATEGORIES:מוסיקת פופ
ATTACH;FMTTYPE=image/webp:https://kikar-hamusica.com/shows/he/wp-content/uploads/2024/12/jack-lev-kikar-hamusica-fC2csL.tmp_.webp
END:VEVENT
BEGIN:VEVENT
DTSTART;TZID=Asia/Jerusalem:20260427T200000
DTEND;TZID=Asia/Jerusalem:20260427T220000
DTSTAMP:20260422T211435
CREATED:20260315T132626Z
LAST-MODIFIED:20260315T132626Z
UID:10003239-1777320000-1777327200@kikar-hamusica.com
SUMMARY:ביט קוין
DESCRIPTION:להקת "ביט מטבע" מבצעת את מיטב המוזיקה הישראלית והלועזית בכל הזמנים. מוזיקאים: אלי טובול – תופים אבי בן יוסף – שירה וגיטרה אקוסטית חיליק ג'ינו – גיטרה\, שירה וניהול מוזיקלי אז עזבו הכל… זה יהיה עליז ומשמח
URL:https://kikar-hamusica.com/shows/he/event/%d7%91%d7%99%d7%98-%d7%a7%d7%95%d7%99%d7%9f-3/
CATEGORIES:מוזיקה ישראלית,מוסיקת פופ
ATTACH;FMTTYPE=image/webp:https://kikar-hamusica.com/shows/he/wp-content/uploads/2024/07/beat-coin-kikar-hamusica.webp
END:VEVENT
BEGIN:VEVENT
DTSTART;TZID=Asia/Jerusalem:20260428T173000
DTEND;TZID=Asia/Jerusalem:20260428T193000
DTSTAMP:20260422T211435
CREATED:20260315T132629Z
LAST-MODIFIED:20260315T132629Z
UID:10003241-1777397400-1777404600@kikar-hamusica.com
SUMMARY:איב & הצ׳לו
DESCRIPTION:סקירה כללית של הסטנדרטים הגדולים ביותר פופ (ביטלס)/סול (סטיבי וונדר\, ביל ווית'רס)/בוסה נובה (טום ג'ובים)/שירים צרפתים (ס.גינסבורג) בדואט "יוקרה" בעדינות: גיטרה אקוסטית/קול וצ'לו\, תענוג לאוזניים.
URL:https://kikar-hamusica.com/shows/he/event/%d7%90%d7%99%d7%91-%d7%94%d7%a6%d7%b3%d7%9c%d7%95-14/
CATEGORIES:מוסיקת פופ
ATTACH;FMTTYPE=image/webp:https://kikar-hamusica.com/shows/he/wp-content/uploads/2025/10/איב-והצ׳לו.webp
END:VEVENT
BEGIN:VEVENT
DTSTART;TZID=Asia/Jerusalem:20260429T120000
DTEND;TZID=Asia/Jerusalem:20260429T140000
DTSTAMP:20260422T211435
CREATED:20260315T132826Z
LAST-MODIFIED:20260315T132826Z
UID:10003243-1777464000-1777471200@kikar-hamusica.com
SUMMARY:מארק בנטאס
DESCRIPTION:מרק בנטאס\, פסנתרן וזמר ענק של מוזיקת פופ\, נשמה\, וג׳אז. הוא חי את הביטלס את פול מקרטני את סטיבי וונדר\, ג׳ורג׳ בנסון\, פרינס\, מייקל ג׳ונסון\, ג׳יימס טיילור\, מייקל מקדונלד\, ועוד רבים אחרים מאותם הז׳אנרים… בואו לצלול איתנו ביחד איתו לתקופה הכי יפה ויצירתית שהתחילה בשנות ה-70 והמשיכה עד לשנות ה-90\, אנחנו ניהיה בכיכר המוזיקה כל יום שלישי בין השעות 12:00-14:00.
URL:https://kikar-hamusica.com/shows/he/event/%d7%9e%d7%90%d7%a8%d7%a7-%d7%91%d7%a0%d7%98%d7%90%d7%a1-25/
CATEGORIES:מוזיקת ​​R&B,מוסיקת פופ
ATTACH;FMTTYPE=image/webp:https://kikar-hamusica.com/shows/he/wp-content/uploads/2024/06/marc-benetasse-kikar-hamusica.webp
END:VEVENT
BEGIN:VEVENT
DTSTART;TZID=Asia/Jerusalem:20260429T173000
DTEND;TZID=Asia/Jerusalem:20260429T193000
DTSTAMP:20260422T211435
CREATED:20260315T132827Z
LAST-MODIFIED:20260315T132827Z
UID:10003244-1777483800-1777491000@kikar-hamusica.com
SUMMARY:סולמייט
DESCRIPTION:"סולמייט מציעה מסע מוזיקלי דרך הטרנדים המוזיקליים הבינלאומיים הגדולים ביותר של זמננו! מסטיבי וונדר ועד הביטלס ובמיוחד להיטים ישראליים מכל התקופות\, אנו מזמינים אתכם להצטרף אלינו.
URL:https://kikar-hamusica.com/shows/he/event/%d7%a1%d7%95%d7%9c%d7%9e%d7%99%d7%99%d7%98-2/
CATEGORIES:מוזיקה ישראלית,מוסיקת פופ
END:VEVENT
BEGIN:VEVENT
DTSTART;TZID=Asia/Jerusalem:20260503T200000
DTEND;TZID=Asia/Jerusalem:20260503T220000
DTSTAMP:20260422T211436
CREATED:20260416T122009Z
LAST-MODIFIED:20260416T122009Z
UID:10003254-1777838400-1777845600@kikar-hamusica.com
SUMMARY:סמי גוז
DESCRIPTION:״סמי גוז" אמן / זמר / מנצח. הוא הכוכב של שואביז בינלאומי\, ערכת סילון וראשים מוכתרים. במקביל זמרת\, מנצחת ובדרנית. מאז עליתו בירושלים במרץ 2019 נוצרו "הרביעייה" החדשה שלו וה"ביג בנד "החדש שלו\, והם מורכבים ממיטב המוזיקאים הישראלים מירושלים: "אביב לידני" בפסנתר\, "נדב ברקוביץ" במקלדות\, "מיכאל מזרחי" בבס ו"דר לוי "בתופים.
URL:https://kikar-hamusica.com/shows/he/event/%d7%a1%d7%9e%d7%99-%d7%92%d7%95%d7%96/
CATEGORIES:מוסיקת פופ
ATTACH;FMTTYPE=image/webp:https://kikar-hamusica.com/shows/he/wp-content/uploads/2025/10/Samy-Goz.webp
END:VEVENT
BEGIN:VEVENT
DTSTART;TZID=Asia/Jerusalem:20260504T120000
DTEND;TZID=Asia/Jerusalem:20260504T140000
DTSTAMP:20260422T211436
CREATED:20260416T122010Z
LAST-MODIFIED:20260416T122010Z
UID:10003255-1777896000-1777903200@kikar-hamusica.com
SUMMARY:ג׳ק לב
DESCRIPTION:אהלן אני ג׳ק לב\, זמר אמריקאי שפה לנגן לאות נפשכם. משירים ישנים ועד להיטים עדכניים\, אנגלית או עברית\, פשוט תבקשו וכנראה שתקבלו
URL:https://kikar-hamusica.com/shows/he/event/%d7%92%d7%b3%d7%a7-%d7%9c%d7%91/
CATEGORIES:מוסיקת פופ
ATTACH;FMTTYPE=image/webp:https://kikar-hamusica.com/shows/he/wp-content/uploads/2024/12/jack-lev-kikar-hamusica-fC2csL.tmp_.webp
END:VEVENT
BEGIN:VEVENT
DTSTART;TZID=Asia/Jerusalem:20260504T200000
DTEND;TZID=Asia/Jerusalem:20260504T220000
DTSTAMP:20260422T211436
CREATED:20260416T122012Z
LAST-MODIFIED:20260416T122012Z
UID:10003257-1777924800-1777932000@kikar-hamusica.com
SUMMARY:ביט קוין
DESCRIPTION:להקת "ביט מטבע" מבצעת את מיטב המוזיקה הישראלית והלועזית בכל הזמנים. מוזיקאים: אלי טובול – תופים אבי בן יוסף – שירה וגיטרה אקוסטית חיליק ג'ינו – גיטרה\, שירה וניהול מוזיקלי אז עזבו הכל… זה יהיה עליז ומשמח
URL:https://kikar-hamusica.com/shows/he/event/%d7%91%d7%99%d7%98-%d7%a7%d7%95%d7%99%d7%9f/
CATEGORIES:מוזיקה ישראלית,מוסיקת פופ
ATTACH;FMTTYPE=image/webp:https://kikar-hamusica.com/shows/he/wp-content/uploads/2024/07/beat-coin-kikar-hamusica.webp
END:VEVENT
BEGIN:VEVENT
DTSTART;TZID=Asia/Jerusalem:20260505T120000
DTEND;TZID=Asia/Jerusalem:20260505T140000
DTSTAMP:20260422T211436
CREATED:20260416T122013Z
LAST-MODIFIED:20260416T122013Z
UID:10003258-1777982400-1777989600@kikar-hamusica.com
SUMMARY:גיל שפירא
DESCRIPTION:גיל שפירא – מופע סולו אקוסטי מופע נעים וסוחף של זמר יוצר\, מבצע שירים בעברית ובאנגלית בעיבודים מיוחדים.
URL:https://kikar-hamusica.com/shows/he/event/%d7%92%d7%99%d7%9c-%d7%a9%d7%a4%d7%99%d7%a8%d7%90/
CATEGORIES:מוסיקת פופ
ATTACH;FMTTYPE=image/webp:https://kikar-hamusica.com/shows/he/wp-content/uploads/2024/10/gil-shapira-kikar-hamusica.webp
END:VEVENT
BEGIN:VEVENT
DTSTART;TZID=Asia/Jerusalem:20260505T173000
DTEND;TZID=Asia/Jerusalem:20260505T193000
DTSTAMP:20260422T211436
CREATED:20260416T122209Z
LAST-MODIFIED:20260416T122209Z
UID:10003259-1778002200-1778009400@kikar-hamusica.com
SUMMARY:איב & הצ׳לו
DESCRIPTION:סקירה כללית של הסטנדרטים הגדולים ביותר פופ (ביטלס)/סול (סטיבי וונדר\, ביל ווית'רס)/בוסה נובה (טום ג'ובים)/שירים צרפתים (ס.גינסבורג) בדואט "יוקרה" בעדינות: גיטרה אקוסטית/קול וצ'לו\, תענוג לאוזניים.
URL:https://kikar-hamusica.com/shows/he/event/%d7%90%d7%99%d7%91-%d7%94%d7%a6%d7%b3%d7%9c%d7%95/
CATEGORIES:מוסיקת פופ
ATTACH;FMTTYPE=image/webp:https://kikar-hamusica.com/shows/he/wp-content/uploads/2025/10/איב-והצ׳לו.webp
END:VEVENT
BEGIN:VEVENT
DTSTART;TZID=Asia/Jerusalem:20260505T200000
DTEND;TZID=Asia/Jerusalem:20260505T220000
DTSTAMP:20260422T211436
CREATED:20260416T122210Z
LAST-MODIFIED:20260416T122210Z
UID:10003260-1778011200-1778018400@kikar-hamusica.com
SUMMARY:גיל ולינוי
DESCRIPTION:הצמד המוזיקלי גיל שפירא ולינוי אקלה – התחילו את דרכם המשותפת בשנת 2015 על הציר שבין תל אביב לירושלים. גיל שפירא – מוזיקאי ירושלמי בן 28 (גידי גוב\, יוני רכטר\, דני סנדרסון ועוד) לינוי אקלה – מוזיקאית בת 25 (כוכב נולד\, הפרויקט של עידן רייכל ועוד) השניים התמזגו כבר מהצליל הראשון והרגישו בחיבור המיוחד ביניהם\, מאותו הרגע התחילה יצירתם המשותפת. הצמד מעלה רפרטואר רחב של שירים באנגלית ובעברית\, שירים של מיטב האמנים בארץ ובעולם\, בעיבוד לשתי גיטרות ושתי קולות.
URL:https://kikar-hamusica.com/shows/he/event/%d7%92%d7%99%d7%9c-%d7%95%d7%9c%d7%99%d7%a0%d7%95%d7%99/
CATEGORIES:מוסיקת פופ
ATTACH;FMTTYPE=image/webp:https://kikar-hamusica.com/shows/he/wp-content/uploads/2024/12/gil-linoy-kikar-hamusica-SjZwdM.tmp_.webp
END:VEVENT
BEGIN:VEVENT
DTSTART;TZID=Asia/Jerusalem:20260506T120000
DTEND;TZID=Asia/Jerusalem:20260506T140000
DTSTAMP:20260422T211436
CREATED:20260416T122211Z
LAST-MODIFIED:20260416T122211Z
UID:10003261-1778068800-1778076000@kikar-hamusica.com
SUMMARY:מארק בנטאס
DESCRIPTION:מרק בנטאס\, פסנתרן וזמר ענק של מוזיקת פופ\, נשמה\, וג׳אז. הוא חי את הביטלס את פול מקרטני את סטיבי וונדר\, ג׳ורג׳ בנסון\, פרינס\, מייקל ג׳ונסון\, ג׳יימס טיילור\, מייקל מקדונלד\, ועוד רבים אחרים מאותם הז׳אנרים… בואו לצלול איתנו ביחד איתו לתקופה הכי יפה ויצירתית שהתחילה בשנות ה-70 והמשיכה עד לשנות ה-90\, אנחנו ניהיה בכיכר המוזיקה כל יום שלישי בין השעות 12:00-14:00.
URL:https://kikar-hamusica.com/shows/he/event/%d7%9e%d7%90%d7%a8%d7%a7-%d7%91%d7%a0%d7%98%d7%90%d7%a1/
CATEGORIES:מוזיקת ​​R&B,מוסיקת פופ
ATTACH;FMTTYPE=image/webp:https://kikar-hamusica.com/shows/he/wp-content/uploads/2024/06/marc-benetasse-kikar-hamusica.webp
END:VEVENT
BEGIN:VEVENT
DTSTART;TZID=Asia/Jerusalem:20260506T173000
DTEND;TZID=Asia/Jerusalem:20260506T193000
DTSTAMP:20260422T211436
CREATED:20260416T122212Z
LAST-MODIFIED:20260416T122212Z
UID:10003262-1778088600-1778095800@kikar-hamusica.com
SUMMARY:סולמייט
DESCRIPTION:"סולמייט מציעה מסע מוזיקלי דרך הטרנדים המוזיקליים הבינלאומיים הגדולים ביותר של זמננו! מסטיבי וונדר ועד הביטלס ובמיוחד להיטים ישראליים מכל התקופות\, אנו מזמינים אתכם להצטרף אלינו.
URL:https://kikar-hamusica.com/shows/he/event/%d7%a1%d7%95%d7%9c%d7%9e%d7%99%d7%99%d7%98-3/
CATEGORIES:מוזיקה ישראלית,מוסיקת פופ
ATTACH;FMTTYPE=image/webp:https://kikar-hamusica.com/shows/he/wp-content/uploads/2026/04/soul-mate-kikar-hamusica.webp
END:VEVENT
BEGIN:VEVENT
DTSTART;TZID=Asia/Jerusalem:20260508T093000
DTEND;TZID=Asia/Jerusalem:20260508T113000
DTSTAMP:20260422T211436
CREATED:20260416T122413Z
LAST-MODIFIED:20260416T122413Z
UID:10003267-1778232600-1778239800@kikar-hamusica.com
SUMMARY:ג׳ק לב
DESCRIPTION:אהלן אני ג׳ק לב\, זמר אמריקאי שפה לנגן לאות נפשכם. משירים ישנים ועד להיטים עדכניים\, אנגלית או עברית\, פשוט תבקשו וכנראה שתקבלו
URL:https://kikar-hamusica.com/shows/he/event/%d7%92%d7%b3%d7%a7-%d7%9c%d7%91-2/
CATEGORIES:מוסיקת פופ
ATTACH;FMTTYPE=image/webp:https://kikar-hamusica.com/shows/he/wp-content/uploads/2024/12/jack-lev-kikar-hamusica-fC2csL.tmp_.webp
END:VEVENT
BEGIN:VEVENT
DTSTART;TZID=Asia/Jerusalem:20260511T120000
DTEND;TZID=Asia/Jerusalem:20260511T140000
DTSTAMP:20260422T211436
CREATED:20260416T122614Z
LAST-MODIFIED:20260416T122614Z
UID:10003273-1778500800-1778508000@kikar-hamusica.com
SUMMARY:ג׳ק לב
DESCRIPTION:אהלן אני ג׳ק לב\, זמר אמריקאי שפה לנגן לאות נפשכם. משירים ישנים ועד להיטים עדכניים\, אנגלית או עברית\, פשוט תבקשו וכנראה שתקבלו
URL:https://kikar-hamusica.com/shows/he/event/%d7%92%d7%b3%d7%a7-%d7%9c%d7%91-3/
CATEGORIES:מוסיקת פופ
ATTACH;FMTTYPE=image/webp:https://kikar-hamusica.com/shows/he/wp-content/uploads/2024/12/jack-lev-kikar-hamusica-fC2csL.tmp_.webp
END:VEVENT
BEGIN:VEVENT
DTSTART;TZID=Asia/Jerusalem:20260511T200000
DTEND;TZID=Asia/Jerusalem:20260511T220000
DTSTAMP:20260422T211436
CREATED:20260416T122811Z
LAST-MODIFIED:20260416T122811Z
UID:10003275-1778529600-1778536800@kikar-hamusica.com
SUMMARY:סמי גוז
DESCRIPTION:״סמי גוז" אמן / זמר / מנצח. הוא הכוכב של שואביז בינלאומי\, ערכת סילון וראשים מוכתרים. במקביל זמרת\, מנצחת ובדרנית. מאז עליתו בירושלים במרץ 2019 נוצרו "הרביעייה" החדשה שלו וה"ביג בנד "החדש שלו\, והם מורכבים ממיטב המוזיקאים הישראלים מירושלים: "אביב לידני" בפסנתר\, "נדב ברקוביץ" במקלדות\, "מיכאל מזרחי" בבס ו"דר לוי "בתופים.
URL:https://kikar-hamusica.com/shows/he/event/%d7%a1%d7%9e%d7%99-%d7%92%d7%95%d7%96-2/
CATEGORIES:מוסיקת פופ
ATTACH;FMTTYPE=image/webp:https://kikar-hamusica.com/shows/he/wp-content/uploads/2025/10/Samy-Goz.webp
END:VEVENT
BEGIN:VEVENT
DTSTART;TZID=Asia/Jerusalem:20260512T173000
DTEND;TZID=Asia/Jerusalem:20260512T193000
DTSTAMP:20260422T211436
CREATED:20260416T122813Z
LAST-MODIFIED:20260416T122813Z
UID:10003277-1778607000-1778614200@kikar-hamusica.com
SUMMARY:איב & הצ׳לו
DESCRIPTION:סקירה כללית של הסטנדרטים הגדולים ביותר פופ (ביטלס)/סול (סטיבי וונדר\, ביל ווית'רס)/בוסה נובה (טום ג'ובים)/שירים צרפתים (ס.גינסבורג) בדואט "יוקרה" בעדינות: גיטרה אקוסטית/קול וצ'לו\, תענוג לאוזניים.
URL:https://kikar-hamusica.com/shows/he/event/%d7%90%d7%99%d7%91-%d7%94%d7%a6%d7%b3%d7%9c%d7%95-2/
CATEGORIES:מוסיקת פופ
ATTACH;FMTTYPE=image/webp:https://kikar-hamusica.com/shows/he/wp-content/uploads/2025/10/איב-והצ׳לו.webp
END:VEVENT
BEGIN:VEVENT
DTSTART;TZID=Asia/Jerusalem:20260512T200000
DTEND;TZID=Asia/Jerusalem:20260512T220000
DTSTAMP:20260422T211436
CREATED:20260416T122814Z
LAST-MODIFIED:20260416T122814Z
UID:10003278-1778616000-1778623200@kikar-hamusica.com
SUMMARY:ספיריט
DESCRIPTION:הקבוצה "ספיריט" תוצרת צרפת היא רב-טרנדית\, היא תעבור איתכם זמן ותקופות: מהג'אז המגניב של שנות ה-50 ועד הפופ של הביטלס של שנות ה-60 דרך סול ופאנק של שנות ה-70/80 אבל גם הוורייטי הצרפתי הנהדר\, תנו לעצמכם להיסחף על ידי הקולות החמים של מארק בן (פסנתר/שירה) ואיב גאולה (בס/שירה) כמו גם הגיטרה הוירטואוזית של פרנק בנגויגו\, זה טוב לנשמה ולאוזניים.
URL:https://kikar-hamusica.com/shows/he/event/%d7%a1%d7%a4%d7%99%d7%a8%d7%99%d7%98/
CATEGORIES:מוזיקת ​​R&B,מוסיקת פופ
ATTACH;FMTTYPE=image/jpeg:https://kikar-hamusica.com/shows/he/wp-content/uploads/2024/12/photo_group_44_20230420113920-EfDh3S.tmp_.jpg
END:VEVENT
BEGIN:VEVENT
DTSTART;TZID=Asia/Jerusalem:20260513T120000
DTEND;TZID=Asia/Jerusalem:20260513T140000
DTSTAMP:20260422T211436
CREATED:20260416T123010Z
LAST-MODIFIED:20260416T123010Z
UID:10003279-1778673600-1778680800@kikar-hamusica.com
SUMMARY:מארק בנטאס
DESCRIPTION:מרק בנטאס\, פסנתרן וזמר ענק של מוזיקת פופ\, נשמה\, וג׳אז. הוא חי את הביטלס את פול מקרטני את סטיבי וונדר\, ג׳ורג׳ בנסון\, פרינס\, מייקל ג׳ונסון\, ג׳יימס טיילור\, מייקל מקדונלד\, ועוד רבים אחרים מאותם הז׳אנרים… בואו לצלול איתנו ביחד איתו לתקופה הכי יפה ויצירתית שהתחילה בשנות ה-70 והמשיכה עד לשנות ה-90\, אנחנו ניהיה בכיכר המוזיקה כל יום שלישי בין השעות 12:00-14:00.
URL:https://kikar-hamusica.com/shows/he/event/%d7%9e%d7%90%d7%a8%d7%a7-%d7%91%d7%a0%d7%98%d7%90%d7%a1-2/
CATEGORIES:מוזיקת ​​R&B,מוסיקת פופ
ATTACH;FMTTYPE=image/webp:https://kikar-hamusica.com/shows/he/wp-content/uploads/2024/06/marc-benetasse-kikar-hamusica.webp
END:VEVENT
BEGIN:VEVENT
DTSTART;TZID=Asia/Jerusalem:20260513T173000
DTEND;TZID=Asia/Jerusalem:20260513T193000
DTSTAMP:20260422T211436
CREATED:20260416T123011Z
LAST-MODIFIED:20260416T123011Z
UID:10003280-1778693400-1778700600@kikar-hamusica.com
SUMMARY:סולמייט
DESCRIPTION:"סולמייט מציעה מסע מוזיקלי דרך הטרנדים המוזיקליים הבינלאומיים הגדולים ביותר של זמננו! מסטיבי וונדר ועד הביטלס ובמיוחד להיטים ישראליים מכל התקופות\, אנו מזמינים אתכם להצטרף אלינו.
URL:https://kikar-hamusica.com/shows/he/event/%d7%a1%d7%95%d7%9c%d7%9e%d7%99%d7%99%d7%98-4/
CATEGORIES:מוזיקה ישראלית,מוסיקת פופ
ATTACH;FMTTYPE=image/webp:https://kikar-hamusica.com/shows/he/wp-content/uploads/2026/04/soul-mate-kikar-hamusica.webp
END:VEVENT
BEGIN:VEVENT
DTSTART;TZID=Asia/Jerusalem:20260518T120000
DTEND;TZID=Asia/Jerusalem:20260518T140000
DTSTAMP:20260422T211436
CREATED:20260416T123414Z
LAST-MODIFIED:20260416T123414Z
UID:10003291-1779105600-1779112800@kikar-hamusica.com
SUMMARY:ג׳ק לב
DESCRIPTION:אהלן אני ג׳ק לב\, זמר אמריקאי שפה לנגן לאות נפשכם. משירים ישנים ועד להיטים עדכניים\, אנגלית או עברית\, פשוט תבקשו וכנראה שתקבלו
URL:https://kikar-hamusica.com/shows/he/event/%d7%92%d7%b3%d7%a7-%d7%9c%d7%91-4/
CATEGORIES:מוסיקת פופ
ATTACH;FMTTYPE=image/webp:https://kikar-hamusica.com/shows/he/wp-content/uploads/2024/12/jack-lev-kikar-hamusica-fC2csL.tmp_.webp
END:VEVENT
BEGIN:VEVENT
DTSTART;TZID=Asia/Jerusalem:20260519T120000
DTEND;TZID=Asia/Jerusalem:20260519T140000
DTSTAMP:20260422T211436
CREATED:20260416T123613Z
LAST-MODIFIED:20260416T123613Z
UID:10003294-1779192000-1779199200@kikar-hamusica.com
SUMMARY:גיל שפירא
DESCRIPTION:גיל שפירא – מופע סולו אקוסטי מופע נעים וסוחף של זמר יוצר\, מבצע שירים בעברית ובאנגלית בעיבודים מיוחדים.
URL:https://kikar-hamusica.com/shows/he/event/%d7%92%d7%99%d7%9c-%d7%a9%d7%a4%d7%99%d7%a8%d7%90-2/
CATEGORIES:מוסיקת פופ
ATTACH;FMTTYPE=image/webp:https://kikar-hamusica.com/shows/he/wp-content/uploads/2024/10/gil-shapira-kikar-hamusica.webp
END:VEVENT
BEGIN:VEVENT
DTSTART;TZID=Asia/Jerusalem:20260519T173000
DTEND;TZID=Asia/Jerusalem:20260519T193000
DTSTAMP:20260422T211436
CREATED:20260416T123614Z
LAST-MODIFIED:20260416T123614Z
UID:10003295-1779211800-1779219000@kikar-hamusica.com
SUMMARY:איב & הצ׳לו
DESCRIPTION:סקירה כללית של הסטנדרטים הגדולים ביותר פופ (ביטלס)/סול (סטיבי וונדר\, ביל ווית'רס)/בוסה נובה (טום ג'ובים)/שירים צרפתים (ס.גינסבורג) בדואט "יוקרה" בעדינות: גיטרה אקוסטית/קול וצ'לו\, תענוג לאוזניים.
URL:https://kikar-hamusica.com/shows/he/event/%d7%90%d7%99%d7%91-%d7%94%d7%a6%d7%b3%d7%9c%d7%95-3/
CATEGORIES:מוסיקת פופ
ATTACH;FMTTYPE=image/webp:https://kikar-hamusica.com/shows/he/wp-content/uploads/2025/10/איב-והצ׳לו.webp
END:VEVENT
BEGIN:VEVENT
DTSTART;TZID=Asia/Jerusalem:20260519T200000
DTEND;TZID=Asia/Jerusalem:20260519T220000
DTSTAMP:20260422T211436
CREATED:20260416T123615Z
LAST-MODIFIED:20260416T123615Z
UID:10003296-1779220800-1779228000@kikar-hamusica.com
SUMMARY:גיל ולינוי
DESCRIPTION:הצמד המוזיקלי גיל שפירא ולינוי אקלה – התחילו את דרכם המשותפת בשנת 2015 על הציר שבין תל אביב לירושלים. גיל שפירא – מוזיקאי ירושלמי בן 28 (גידי גוב\, יוני רכטר\, דני סנדרסון ועוד) לינוי אקלה – מוזיקאית בת 25 (כוכב נולד\, הפרויקט של עידן רייכל ועוד) השניים התמזגו כבר מהצליל הראשון והרגישו בחיבור המיוחד ביניהם\, מאותו הרגע התחילה יצירתם המשותפת. הצמד מעלה רפרטואר רחב של שירים באנגלית ובעברית\, שירים של מיטב האמנים בארץ ובעולם\, בעיבוד לשתי גיטרות ושתי קולות.
URL:https://kikar-hamusica.com/shows/he/event/%d7%92%d7%99%d7%9c-%d7%95%d7%9c%d7%99%d7%a0%d7%95%d7%99-2/
CATEGORIES:מוסיקת פופ
ATTACH;FMTTYPE=image/webp:https://kikar-hamusica.com/shows/he/wp-content/uploads/2024/12/gil-linoy-kikar-hamusica-SjZwdM.tmp_.webp
END:VEVENT
BEGIN:VEVENT
DTSTART;TZID=Asia/Jerusalem:20260520T120000
DTEND;TZID=Asia/Jerusalem:20260520T140000
DTSTAMP:20260422T211436
CREATED:20260416T123616Z
LAST-MODIFIED:20260416T123616Z
UID:10003297-1779278400-1779285600@kikar-hamusica.com
SUMMARY:מארק בנטאס
DESCRIPTION:מרק בנטאס\, פסנתרן וזמר ענק של מוזיקת פופ\, נשמה\, וג׳אז. הוא חי את הביטלס את פול מקרטני את סטיבי וונדר\, ג׳ורג׳ בנסון\, פרינס\, מייקל ג׳ונסון\, ג׳יימס טיילור\, מייקל מקדונלד\, ועוד רבים אחרים מאותם הז׳אנרים… בואו לצלול איתנו ביחד איתו לתקופה הכי יפה ויצירתית שהתחילה בשנות ה-70 והמשיכה עד לשנות ה-90\, אנחנו ניהיה בכיכר המוזיקה כל יום שלישי בין השעות 12:00-14:00.
URL:https://kikar-hamusica.com/shows/he/event/%d7%9e%d7%90%d7%a8%d7%a7-%d7%91%d7%a0%d7%98%d7%90%d7%a1-3/
CATEGORIES:מוזיקת ​​R&B,מוסיקת פופ
ATTACH;FMTTYPE=image/webp:https://kikar-hamusica.com/shows/he/wp-content/uploads/2024/06/marc-benetasse-kikar-hamusica.webp
END:VEVENT
BEGIN:VEVENT
DTSTART;TZID=Asia/Jerusalem:20260520T173000
DTEND;TZID=Asia/Jerusalem:20260520T193000
DTSTAMP:20260422T211436
CREATED:20260416T123617Z
LAST-MODIFIED:20260416T123617Z
UID:10003298-1779298200-1779305400@kikar-hamusica.com
SUMMARY:סולמייט
DESCRIPTION:"סולמייט מציעה מסע מוזיקלי דרך הטרנדים המוזיקליים הבינלאומיים הגדולים ביותר של זמננו! מסטיבי וונדר ועד הביטלס ובמיוחד להיטים ישראליים מכל התקופות\, אנו מזמינים אתכם להצטרף אלינו.
URL:https://kikar-hamusica.com/shows/he/event/%d7%a1%d7%95%d7%9c%d7%9e%d7%99%d7%99%d7%98-5/
CATEGORIES:מוזיקה ישראלית,מוסיקת פופ
ATTACH;FMTTYPE=image/webp:https://kikar-hamusica.com/shows/he/wp-content/uploads/2026/04/soul-mate-kikar-hamusica.webp
END:VEVENT
BEGIN:VEVENT
DTSTART;TZID=Asia/Jerusalem:20260525T120000
DTEND;TZID=Asia/Jerusalem:20260525T140000
DTSTAMP:20260422T211436
CREATED:20260416T124017Z
LAST-MODIFIED:20260416T124017Z
UID:10003307-1779710400-1779717600@kikar-hamusica.com
SUMMARY:ג׳ק לב
DESCRIPTION:אהלן אני ג׳ק לב\, זמר אמריקאי שפה לנגן לאות נפשכם. משירים ישנים ועד להיטים עדכניים\, אנגלית או עברית\, פשוט תבקשו וכנראה שתקבלו
URL:https://kikar-hamusica.com/shows/he/event/%d7%92%d7%b3%d7%a7-%d7%9c%d7%91-5/
CATEGORIES:מוסיקת פופ
ATTACH;FMTTYPE=image/webp:https://kikar-hamusica.com/shows/he/wp-content/uploads/2024/12/jack-lev-kikar-hamusica-fC2csL.tmp_.webp
END:VEVENT
BEGIN:VEVENT
DTSTART;TZID=Asia/Jerusalem:20260525T200000
DTEND;TZID=Asia/Jerusalem:20260525T220000
DTSTAMP:20260422T211436
CREATED:20260416T132003Z
LAST-MODIFIED:20260416T132003Z
UID:10003309-1779739200-1779746400@kikar-hamusica.com
SUMMARY:ביט קוין
DESCRIPTION:להקת "ביט מטבע" מבצעת את מיטב המוזיקה הישראלית והלועזית בכל הזמנים. מוזיקאים: אלי טובול – תופים אבי בן יוסף – שירה וגיטרה אקוסטית חיליק ג'ינו – גיטרה\, שירה וניהול מוזיקלי אז עזבו הכל… זה יהיה עליז ומשמח
URL:https://kikar-hamusica.com/shows/he/event/%d7%91%d7%99%d7%98-%d7%a7%d7%95%d7%99%d7%9f-2/
CATEGORIES:מוזיקה ישראלית,מוסיקת פופ
ATTACH;FMTTYPE=image/webp:https://kikar-hamusica.com/shows/he/wp-content/uploads/2024/07/beat-coin-kikar-hamusica.webp
END:VEVENT
END:VCALENDAR