BEGIN:VCALENDAR
VERSION:2.0
PRODID:-//קונצרטים ואירועים לכיככר המוזיקה - ECPv6.15.20//NONSGML v1.0//EN
CALSCALE:GREGORIAN
METHOD:PUBLISH
X-ORIGINAL-URL:https://kikar-hamusica.com/shows/he
X-WR-CALDESC:Events for קונצרטים ואירועים לכיככר המוזיקה
REFRESH-INTERVAL;VALUE=DURATION:PT1H
X-Robots-Tag:noindex
X-PUBLISHED-TTL:PT1H
BEGIN:VTIMEZONE
TZID:Asia/Jerusalem
BEGIN:DAYLIGHT
TZOFFSETFROM:+0200
TZOFFSETTO:+0300
TZNAME:IDT
DTSTART:20250328T000000
END:DAYLIGHT
BEGIN:STANDARD
TZOFFSETFROM:+0300
TZOFFSETTO:+0200
TZNAME:IST
DTSTART:20251025T230000
END:STANDARD
BEGIN:DAYLIGHT
TZOFFSETFROM:+0200
TZOFFSETTO:+0300
TZNAME:IDT
DTSTART:20260327T000000
END:DAYLIGHT
BEGIN:STANDARD
TZOFFSETFROM:+0300
TZOFFSETTO:+0200
TZNAME:IST
DTSTART:20261024T230000
END:STANDARD
BEGIN:DAYLIGHT
TZOFFSETFROM:+0200
TZOFFSETTO:+0300
TZNAME:IDT
DTSTART:20270326T000000
END:DAYLIGHT
BEGIN:STANDARD
TZOFFSETFROM:+0300
TZOFFSETTO:+0200
TZNAME:IST
DTSTART:20271030T230000
END:STANDARD
END:VTIMEZONE
BEGIN:VEVENT
DTSTART;TZID=Asia/Jerusalem:20260412T173000
DTEND;TZID=Asia/Jerusalem:20260412T193000
DTSTAMP:20260422T233843
CREATED:20260315T131218Z
LAST-MODIFIED:20260315T131218Z
UID:10003203-1776015000-1776022200@kikar-hamusica.com
SUMMARY:פרידה ליבמן
DESCRIPTION:פרידה ליבמן בעלת תואר אומן באומנות הביצוע. פסנתרנית ומוסיקאית עם ניסיון עשיר בעיבודים והופעות. את השכלתה המוסיקלית רכשה בברה"מ וישראל
URL:https://kikar-hamusica.com/shows/he/event/%d7%a4%d7%a8%d7%99%d7%93%d7%94-%d7%9c%d7%99%d7%91%d7%9e%d7%9f-13/
CATEGORIES:מוזיקה קלאסית
ATTACH;FMTTYPE=image/webp:https://kikar-hamusica.com/shows/he/wp-content/uploads/2025/03/frida-libman-2025-kikar-hamusica.webp
END:VEVENT
BEGIN:VEVENT
DTSTART;TZID=Asia/Jerusalem:20260412T120000
DTEND;TZID=Asia/Jerusalem:20260412T140000
DTSTAMP:20260422T233843
CREATED:20260315T131022Z
LAST-MODIFIED:20260315T131022Z
UID:10003202-1775995200-1776002400@kikar-hamusica.com
SUMMARY:עידו כהן
DESCRIPTION:מהקלאסיקות  של פעם ועד הלהיטים של היום.\nעידו משתדל לגעת בכל עולמות המוזיקה כדי שכולם יהנו ויקבלו חוויה מוזיקלית נעימה\nמשלמה ארצי וקראנק סינטרה  ועד עידן רייכל וקולדפליי…\nכל העולמות במקום אחד
URL:https://kikar-hamusica.com/shows/he/event/%d7%a2%d7%99%d7%93%d7%95-%d7%9b%d7%94%d7%9f-18/
CATEGORIES:מוזיקה ישראלית
ATTACH;FMTTYPE=image/webp:https://kikar-hamusica.com/shows/he/wp-content/uploads/2024/10/ido-cohen-kikar-hamusica.webp
END:VEVENT
BEGIN:VEVENT
DTSTART;TZID=Asia/Jerusalem:20260411T200000
DTEND;TZID=Asia/Jerusalem:20260411T220000
DTSTAMP:20260422T233843
CREATED:20260315T131021Z
LAST-MODIFIED:20260315T131021Z
UID:10003201-1775937600-1775944800@kikar-hamusica.com
SUMMARY:שבת
DESCRIPTION:אין הופעות
URL:https://kikar-hamusica.com/shows/he/event/%d7%a9%d7%91%d7%aa-10/
ATTACH;FMTTYPE=image/webp:https://kikar-hamusica.com/shows/he/wp-content/uploads/2025/02/chabath-kikar-hamusica.webp
END:VEVENT
BEGIN:VEVENT
DTSTART;TZID=Asia/Jerusalem:20260410T120000
DTEND;TZID=Asia/Jerusalem:20260410T140000
DTSTAMP:20260422T233843
CREATED:20260315T131019Z
LAST-MODIFIED:20260315T131019Z
UID:10003200-1775822400-1775829600@kikar-hamusica.com
SUMMARY:אמיר שרייבר והגרוב ביווני
DESCRIPTION:אמיר שרייבר והגרוב היווני… מופע אנרגטי של שירים וקלאסיקות יווניות וצועניות שתורגמו לעברית… ברפרטואר היווני -שירים של אריס סאן..יהודה פוליקר…ולחנים יוונים עממיים. ברפרטואר הצועני ….שירים של הגיפסי קינגס…בספרדית צוענית .וקלאסיקות . אמיר שרייבר שירה וגיטרה יובל מאירי -נגן בוזוקי אורח ניסן לוי -כחון וכלי הקשה
URL:https://kikar-hamusica.com/shows/he/event/%d7%90%d7%9e%d7%99%d7%a8-%d7%a9%d7%a8%d7%99%d7%99%d7%91%d7%a8-%d7%95%d7%94%d7%92%d7%a8%d7%95%d7%91-%d7%91%d7%99%d7%95%d7%95%d7%a0%d7%99-7/
CATEGORIES:מוזיקה יוונית
ATTACH;FMTTYPE=image/webp:https://kikar-hamusica.com/shows/he/wp-content/uploads/2024/12/amir-shreiber-grec-kikar-hamusica-V6bes9.tmp_.webp
END:VEVENT
BEGIN:VEVENT
DTSTART;TZID=Asia/Jerusalem:20260410T093000
DTEND;TZID=Asia/Jerusalem:20260410T113000
DTSTAMP:20260422T233843
CREATED:20260315T131018Z
LAST-MODIFIED:20260315T131018Z
UID:10003199-1775813400-1775820600@kikar-hamusica.com
SUMMARY:ג׳ק לב
DESCRIPTION:אהלן אני ג׳ק לב\, זמר אמריקאי שפה לנגן לאות נפשכם. משירים ישנים ועד להיטים עדכניים\, אנגלית או עברית\, פשוט תבקשו וכנראה שתקבלו
URL:https://kikar-hamusica.com/shows/he/event/%d7%92%d7%b3%d7%a7-%d7%9c%d7%91-25/
CATEGORIES:מוסיקת פופ
ATTACH;FMTTYPE=image/webp:https://kikar-hamusica.com/shows/he/wp-content/uploads/2024/12/jack-lev-kikar-hamusica-fC2csL.tmp_.webp
END:VEVENT
BEGIN:VEVENT
DTSTART;TZID=Asia/Jerusalem:20260409T203000
DTEND;TZID=Asia/Jerusalem:20260409T223000
DTSTAMP:20260422T233843
CREATED:20260315T131017Z
LAST-MODIFIED:20260315T131017Z
UID:10003198-1775766600-1775773800@kikar-hamusica.com
SUMMARY:סיהרא
DESCRIPTION:סיהרא-רוק פופ ומוזיקת עולם ארבעה מוסיקאים ירושלמים במופע אנרגטי של רוק פופ ומוסיקת עולם. סיהרא מבצעת גרסאות כיסוי לשירים מוכרים וכן קטעים מקוריים מעוררי השראה. יהודה אשש: עוד\,גיטרה ושירה\, גיל שפירא: גיטרה ושירה\, נועם ידגר: בס וניסן לוי: תופים וכלי הקשה.
URL:https://kikar-hamusica.com/shows/he/event/%d7%a1%d7%99%d7%94%d7%a8%d7%90-19/
CATEGORIES:מוסיקת עולם
ATTACH;FMTTYPE=image/webp:https://kikar-hamusica.com/shows/he/wp-content/uploads/2024/12/sihara-kikar-hamusica-p12Z4I.tmp_.webp
END:VEVENT
BEGIN:VEVENT
DTSTART;TZID=Asia/Jerusalem:20260409T180000
DTEND;TZID=Asia/Jerusalem:20260409T200000
DTSTAMP:20260422T233843
CREATED:20260315T130820Z
LAST-MODIFIED:20260315T130820Z
UID:10003197-1775757600-1775764800@kikar-hamusica.com
SUMMARY:דואט "קרן עליזה"
DESCRIPTION:עליזה קרן היא כנרת ומלחינה בליבוי פסנטרנים מוכשרים. מוזיקה לשמחה ולנשמה – מוזיקה מקורית\, להיטי זהב ומוזיקה יהודית.
URL:https://kikar-hamusica.com/shows/he/event/%d7%93%d7%95%d7%90%d7%98-%d7%a7%d7%a8%d7%9f-%d7%a2%d7%9c%d7%99%d7%96%d7%94-12/
CATEGORIES:מוזיקה קלאסית
ATTACH;FMTTYPE=image/webp:https://kikar-hamusica.com/shows/he/wp-content/uploads/2025/02/aliza-duo.webp
END:VEVENT
BEGIN:VEVENT
DTSTART;TZID=Asia/Jerusalem:20260409T120000
DTEND;TZID=Asia/Jerusalem:20260409T140000
DTSTAMP:20260422T233843
CREATED:20260315T130818Z
LAST-MODIFIED:20260315T130818Z
UID:10003196-1775736000-1775743200@kikar-hamusica.com
SUMMARY:יהודה אשש
DESCRIPTION:יהודה אשש – מוסיקאי ירושלמי ותיק.למד מוסיקה ועיצוב סאונד בארהב.במשך שנים רבות הפיק וניגן בהרכבים שונים בארץ ובעולם בתחום הרוק ובתחום מוסיקת עולם.היום בעיקר מלחין ויוצר מוסיקה לסרטים ותכניות טלויזיה. בכיכר המוסיקה יהודה אשש מנגן ושר מבחר שירים בעברית ובאנגלית מהקלסיקות של עולם הרוק והפופ.
URL:https://kikar-hamusica.com/shows/he/event/%d7%99%d7%94%d7%95%d7%93%d7%94-%d7%90%d7%a9%d7%a9-24/
CATEGORIES:מוזיקה ישראלית
ATTACH;FMTTYPE=image/webp:https://kikar-hamusica.com/shows/he/wp-content/uploads/2024/07/yehuda-ashash-kikar-hamusica.webp
END:VEVENT
BEGIN:VEVENT
DTSTART;TZID=Asia/Jerusalem:20260408T120000
DTEND;TZID=Asia/Jerusalem:20260408T140000
DTSTAMP:20260422T233843
CREATED:20260315T130817Z
LAST-MODIFIED:20260315T130817Z
UID:10003195-1775649600-1775656800@kikar-hamusica.com
SUMMARY:אאורה
DESCRIPTION:הרכב "אאורה"- קבוצת צעירים מירושלים המציעה ערב מוזיקלי מהנה ומיוחד. בואו להידבק באאורה שלנו עם מגוון קלאסיקות ישראליות\, להיטים עדכניים ושירים בלועזית\, "אאורה" מביאה חוויה של אווירה ומוזיקה קסומה. ג'ק לב: גיטרה\, שירה. עידו כהן: גיטרה\, שירה. עדן עטרי: באס. ליאור טורטן: תופים.
URL:https://kikar-hamusica.com/shows/he/event/%d7%90%d7%90%d7%95%d7%a8%d7%94-9/
CATEGORIES:מוזיקה ישראלית
ATTACH;FMTTYPE=image/webp:https://kikar-hamusica.com/shows/he/wp-content/uploads/2024/08/aura-kikar-hamusica-jeursalem.webp
END:VEVENT
END:VCALENDAR