BEGIN:VCALENDAR
VERSION:2.0
PRODID:-//קונצרטים ואירועים לכיככר המוזיקה - ECPv6.15.20//NONSGML v1.0//EN
CALSCALE:GREGORIAN
METHOD:PUBLISH
X-ORIGINAL-URL:https://kikar-hamusica.com/shows/he
X-WR-CALDESC:Events for קונצרטים ואירועים לכיככר המוזיקה
REFRESH-INTERVAL;VALUE=DURATION:PT1H
X-Robots-Tag:noindex
X-PUBLISHED-TTL:PT1H
BEGIN:VTIMEZONE
TZID:Asia/Jerusalem
BEGIN:DAYLIGHT
TZOFFSETFROM:+0200
TZOFFSETTO:+0300
TZNAME:IDT
DTSTART:20250328T000000
END:DAYLIGHT
BEGIN:STANDARD
TZOFFSETFROM:+0300
TZOFFSETTO:+0200
TZNAME:IST
DTSTART:20251025T230000
END:STANDARD
BEGIN:DAYLIGHT
TZOFFSETFROM:+0200
TZOFFSETTO:+0300
TZNAME:IDT
DTSTART:20260327T000000
END:DAYLIGHT
BEGIN:STANDARD
TZOFFSETFROM:+0300
TZOFFSETTO:+0200
TZNAME:IST
DTSTART:20261024T230000
END:STANDARD
BEGIN:DAYLIGHT
TZOFFSETFROM:+0200
TZOFFSETTO:+0300
TZNAME:IDT
DTSTART:20270326T000000
END:DAYLIGHT
BEGIN:STANDARD
TZOFFSETFROM:+0300
TZOFFSETTO:+0200
TZNAME:IST
DTSTART:20271030T230000
END:STANDARD
END:VTIMEZONE
BEGIN:VEVENT
DTSTART;TZID=Asia/Jerusalem:20260512T120000
DTEND;TZID=Asia/Jerusalem:20260512T140000
DTSTAMP:20260423T010656
CREATED:20260416T122812Z
LAST-MODIFIED:20260416T122812Z
UID:10003276-1778587200-1778594400@kikar-hamusica.com
SUMMARY:יהודה אשש
DESCRIPTION:יהודה אשש – מוסיקאי ירושלמי ותיק.למד מוסיקה ועיצוב סאונד בארהב.במשך שנים רבות הפיק וניגן בהרכבים שונים בארץ ובעולם בתחום הרוק ובתחום מוסיקת עולם.היום בעיקר מלחין ויוצר מוסיקה לסרטים ותכניות טלויזיה. בכיכר המוסיקה יהודה אשש מנגן ושר מבחר שירים בעברית ובאנגלית מהקלסיקות של עולם הרוק והפופ.
URL:https://kikar-hamusica.com/shows/he/event/%d7%99%d7%94%d7%95%d7%93%d7%94-%d7%90%d7%a9%d7%a9-3/
CATEGORIES:מוזיקה ישראלית
ATTACH;FMTTYPE=image/webp:https://kikar-hamusica.com/shows/he/wp-content/uploads/2024/07/yehuda-ashash-kikar-hamusica.webp
END:VEVENT
BEGIN:VEVENT
DTSTART;TZID=Asia/Jerusalem:20260512T173000
DTEND;TZID=Asia/Jerusalem:20260512T193000
DTSTAMP:20260423T010656
CREATED:20260416T122813Z
LAST-MODIFIED:20260416T122813Z
UID:10003277-1778607000-1778614200@kikar-hamusica.com
SUMMARY:איב & הצ׳לו
DESCRIPTION:סקירה כללית של הסטנדרטים הגדולים ביותר פופ (ביטלס)/סול (סטיבי וונדר\, ביל ווית'רס)/בוסה נובה (טום ג'ובים)/שירים צרפתים (ס.גינסבורג) בדואט "יוקרה" בעדינות: גיטרה אקוסטית/קול וצ'לו\, תענוג לאוזניים.
URL:https://kikar-hamusica.com/shows/he/event/%d7%90%d7%99%d7%91-%d7%94%d7%a6%d7%b3%d7%9c%d7%95-2/
CATEGORIES:מוסיקת פופ
ATTACH;FMTTYPE=image/webp:https://kikar-hamusica.com/shows/he/wp-content/uploads/2025/10/איב-והצ׳לו.webp
END:VEVENT
BEGIN:VEVENT
DTSTART;TZID=Asia/Jerusalem:20260512T200000
DTEND;TZID=Asia/Jerusalem:20260512T220000
DTSTAMP:20260423T010656
CREATED:20260416T122814Z
LAST-MODIFIED:20260416T122814Z
UID:10003278-1778616000-1778623200@kikar-hamusica.com
SUMMARY:ספיריט
DESCRIPTION:הקבוצה "ספיריט" תוצרת צרפת היא רב-טרנדית\, היא תעבור איתכם זמן ותקופות: מהג'אז המגניב של שנות ה-50 ועד הפופ של הביטלס של שנות ה-60 דרך סול ופאנק של שנות ה-70/80 אבל גם הוורייטי הצרפתי הנהדר\, תנו לעצמכם להיסחף על ידי הקולות החמים של מארק בן (פסנתר/שירה) ואיב גאולה (בס/שירה) כמו גם הגיטרה הוירטואוזית של פרנק בנגויגו\, זה טוב לנשמה ולאוזניים.
URL:https://kikar-hamusica.com/shows/he/event/%d7%a1%d7%a4%d7%99%d7%a8%d7%99%d7%98/
CATEGORIES:מוזיקת ​​R&B,מוסיקת פופ
ATTACH;FMTTYPE=image/jpeg:https://kikar-hamusica.com/shows/he/wp-content/uploads/2024/12/photo_group_44_20230420113920-EfDh3S.tmp_.jpg
END:VEVENT
BEGIN:VEVENT
DTSTART;TZID=Asia/Jerusalem:20260513T120000
DTEND;TZID=Asia/Jerusalem:20260513T140000
DTSTAMP:20260423T010656
CREATED:20260416T123010Z
LAST-MODIFIED:20260416T123010Z
UID:10003279-1778673600-1778680800@kikar-hamusica.com
SUMMARY:מארק בנטאס
DESCRIPTION:מרק בנטאס\, פסנתרן וזמר ענק של מוזיקת פופ\, נשמה\, וג׳אז. הוא חי את הביטלס את פול מקרטני את סטיבי וונדר\, ג׳ורג׳ בנסון\, פרינס\, מייקל ג׳ונסון\, ג׳יימס טיילור\, מייקל מקדונלד\, ועוד רבים אחרים מאותם הז׳אנרים… בואו לצלול איתנו ביחד איתו לתקופה הכי יפה ויצירתית שהתחילה בשנות ה-70 והמשיכה עד לשנות ה-90\, אנחנו ניהיה בכיכר המוזיקה כל יום שלישי בין השעות 12:00-14:00.
URL:https://kikar-hamusica.com/shows/he/event/%d7%9e%d7%90%d7%a8%d7%a7-%d7%91%d7%a0%d7%98%d7%90%d7%a1-2/
CATEGORIES:מוזיקת ​​R&B,מוסיקת פופ
ATTACH;FMTTYPE=image/webp:https://kikar-hamusica.com/shows/he/wp-content/uploads/2024/06/marc-benetasse-kikar-hamusica.webp
END:VEVENT
BEGIN:VEVENT
DTSTART;TZID=Asia/Jerusalem:20260513T173000
DTEND;TZID=Asia/Jerusalem:20260513T193000
DTSTAMP:20260423T010656
CREATED:20260416T123011Z
LAST-MODIFIED:20260416T123011Z
UID:10003280-1778693400-1778700600@kikar-hamusica.com
SUMMARY:סולמייט
DESCRIPTION:"סולמייט מציעה מסע מוזיקלי דרך הטרנדים המוזיקליים הבינלאומיים הגדולים ביותר של זמננו! מסטיבי וונדר ועד הביטלס ובמיוחד להיטים ישראליים מכל התקופות\, אנו מזמינים אתכם להצטרף אלינו.
URL:https://kikar-hamusica.com/shows/he/event/%d7%a1%d7%95%d7%9c%d7%9e%d7%99%d7%99%d7%98-4/
CATEGORIES:מוזיקה ישראלית,מוסיקת פופ
ATTACH;FMTTYPE=image/webp:https://kikar-hamusica.com/shows/he/wp-content/uploads/2026/04/soul-mate-kikar-hamusica.webp
END:VEVENT
BEGIN:VEVENT
DTSTART;TZID=Asia/Jerusalem:20260513T200000
DTEND;TZID=Asia/Jerusalem:20260513T220000
DTSTAMP:20260423T010656
CREATED:20260416T123012Z
LAST-MODIFIED:20260416T123012Z
UID:10003281-1778702400-1778709600@kikar-hamusica.com
SUMMARY:עאיישה
DESCRIPTION:״עאיישה כאן הערב לעשות לכם שמח !! עם כל הלהיטים הכי גדולים בישראל שכוללים את כל זמרי הים תיכון הגדולים ביותר כמו עומר אדם\,זוהר ארגוב\,אושר כהן\,עדן חסון וכו !
URL:https://kikar-hamusica.com/shows/he/event/%d7%a2%d7%90%d7%99%d7%99%d7%a9%d7%94/
CATEGORIES:מוזיקה ישראלית
ATTACH;FMTTYPE=image/webp:https://kikar-hamusica.com/shows/he/wp-content/uploads/2025/07/aicha-music-kikar-hamusica.webp
END:VEVENT
BEGIN:VEVENT
DTSTART;TZID=Asia/Jerusalem:20260514T120000
DTEND;TZID=Asia/Jerusalem:20260514T140000
DTSTAMP:20260423T010657
CREATED:20260416T123013Z
LAST-MODIFIED:20260416T123013Z
UID:10003282-1778760000-1778767200@kikar-hamusica.com
SUMMARY:יהודה אשש
DESCRIPTION:יהודה אשש – מוסיקאי ירושלמי ותיק.למד מוסיקה ועיצוב סאונד בארהב.במשך שנים רבות הפיק וניגן בהרכבים שונים בארץ ובעולם בתחום הרוק ובתחום מוסיקת עולם.היום בעיקר מלחין ויוצר מוסיקה לסרטים ותכניות טלויזיה. בכיכר המוסיקה יהודה אשש מנגן ושר מבחר שירים בעברית ובאנגלית מהקלסיקות של עולם הרוק והפופ.
URL:https://kikar-hamusica.com/shows/he/event/%d7%99%d7%94%d7%95%d7%93%d7%94-%d7%90%d7%a9%d7%a9-4/
CATEGORIES:מוזיקה ישראלית
ATTACH;FMTTYPE=image/webp:https://kikar-hamusica.com/shows/he/wp-content/uploads/2024/07/yehuda-ashash-kikar-hamusica.webp
END:VEVENT
BEGIN:VEVENT
DTSTART;TZID=Asia/Jerusalem:20260514T180000
DTEND;TZID=Asia/Jerusalem:20260514T200000
DTSTAMP:20260423T010657
CREATED:20260416T123014Z
LAST-MODIFIED:20260416T123014Z
UID:10003283-1778781600-1778788800@kikar-hamusica.com
SUMMARY:דואט "קרן עליזה"
DESCRIPTION:עליזה קרן היא כנרת ומלחינה בליבוי פסנטרנים מוכשרים. מוזיקה לשמחה ולנשמה – מוזיקה מקורית\, להיטי זהב ומוזיקה יהודית.
URL:https://kikar-hamusica.com/shows/he/event/%d7%93%d7%95%d7%90%d7%98-%d7%a7%d7%a8%d7%9f-%d7%a2%d7%9c%d7%99%d7%96%d7%94-2/
CATEGORIES:מוזיקה קלאסית
ATTACH;FMTTYPE=image/webp:https://kikar-hamusica.com/shows/he/wp-content/uploads/2025/02/aliza-duo.webp
END:VEVENT
BEGIN:VEVENT
DTSTART;TZID=Asia/Jerusalem:20260514T203000
DTEND;TZID=Asia/Jerusalem:20260514T223000
DTSTAMP:20260423T010657
CREATED:20260416T123210Z
LAST-MODIFIED:20260416T123210Z
UID:10003284-1778790600-1778797800@kikar-hamusica.com
SUMMARY:סיהרא
DESCRIPTION:סיהרא-רוק פופ ומוזיקת עולם ארבעה מוסיקאים ירושלמים במופע אנרגטי של רוק פופ ומוסיקת עולם. סיהרא מבצעת גרסאות כיסוי לשירים מוכרים וכן קטעים מקוריים מעוררי השראה. יהודה אשש: עוד\,גיטרה ושירה\, גיל שפירא: גיטרה ושירה\, נועם ידגר: בס וניסן לוי: תופים וכלי הקשה.
URL:https://kikar-hamusica.com/shows/he/event/%d7%a1%d7%99%d7%94%d7%a8%d7%90-3/
CATEGORIES:מוסיקת עולם
ATTACH;FMTTYPE=image/webp:https://kikar-hamusica.com/shows/he/wp-content/uploads/2024/12/sihara-kikar-hamusica-p12Z4I.tmp_.webp
END:VEVENT
BEGIN:VEVENT
DTSTART;TZID=Asia/Jerusalem:20260515T093000
DTEND;TZID=Asia/Jerusalem:20260515T113000
DTSTAMP:20260423T010657
CREATED:20260416T123212Z
LAST-MODIFIED:20260416T123212Z
UID:10003285-1778837400-1778844600@kikar-hamusica.com
SUMMARY:יהודה אשש
DESCRIPTION:יהודה אשש – מוסיקאי ירושלמי ותיק.למד מוסיקה ועיצוב סאונד בארהב.במשך שנים רבות הפיק וניגן בהרכבים שונים בארץ ובעולם בתחום הרוק ובתחום מוסיקת עולם.היום בעיקר מלחין ויוצר מוסיקה לסרטים ותכניות טלויזיה. בכיכר המוסיקה יהודה אשש מנגן ושר מבחר שירים בעברית ובאנגלית מהקלסיקות של עולם הרוק והפופ.
URL:https://kikar-hamusica.com/shows/he/event/%d7%99%d7%94%d7%95%d7%93%d7%94-%d7%90%d7%a9%d7%a9-5/
CATEGORIES:מוזיקה ישראלית
ATTACH;FMTTYPE=image/webp:https://kikar-hamusica.com/shows/he/wp-content/uploads/2024/07/yehuda-ashash-kikar-hamusica.webp
END:VEVENT
BEGIN:VEVENT
DTSTART;TZID=Asia/Jerusalem:20260515T120000
DTEND;TZID=Asia/Jerusalem:20260515T140000
DTSTAMP:20260423T010657
CREATED:20260416T123213Z
LAST-MODIFIED:20260416T123213Z
UID:10003286-1778846400-1778853600@kikar-hamusica.com
SUMMARY:סיהרא
DESCRIPTION:סיהרא-רוק פופ ומוזיקת עולם ארבעה מוסיקאים ירושלמים במופע אנרגטי של רוק פופ ומוסיקת עולם. סיהרא מבצעת גרסאות כיסוי לשירים מוכרים וכן קטעים מקוריים מעוררי השראה. יהודה אשש: עוד\,גיטרה ושירה\, גיל שפירא: גיטרה ושירה\, נועם ידגר: בס וניסן לוי: תופים וכלי הקשה.
URL:https://kikar-hamusica.com/shows/he/event/%d7%a1%d7%99%d7%94%d7%a8%d7%90-4/
CATEGORIES:מוסיקת עולם
ATTACH;FMTTYPE=image/webp:https://kikar-hamusica.com/shows/he/wp-content/uploads/2024/12/sihara-kikar-hamusica-p12Z4I.tmp_.webp
END:VEVENT
BEGIN:VEVENT
DTSTART;TZID=Asia/Jerusalem:20260516T200000
DTEND;TZID=Asia/Jerusalem:20260516T220000
DTSTAMP:20260423T010657
CREATED:20260416T123214Z
LAST-MODIFIED:20260416T123214Z
UID:10003287-1778961600-1778968800@kikar-hamusica.com
SUMMARY:שבת
DESCRIPTION:אין הופעות
URL:https://kikar-hamusica.com/shows/he/event/%d7%a9%d7%91%d7%aa-3/
ATTACH;FMTTYPE=image/webp:https://kikar-hamusica.com/shows/he/wp-content/uploads/2025/02/chabath-kikar-hamusica.webp
END:VEVENT
BEGIN:VEVENT
DTSTART;TZID=Asia/Jerusalem:20260517T120000
DTEND;TZID=Asia/Jerusalem:20260517T140000
DTSTAMP:20260423T010657
CREATED:20260416T123215Z
LAST-MODIFIED:20260416T123215Z
UID:10003288-1779019200-1779026400@kikar-hamusica.com
SUMMARY:עידו כהן
DESCRIPTION:מהקלאסיקות  של פעם ועד הלהיטים של היום.\nעידו משתדל לגעת בכל עולמות המוזיקה כדי שכולם יהנו ויקבלו חוויה מוזיקלית נעימה\nמשלמה ארצי וקראנק סינטרה  ועד עידן רייכל וקולדפליי…\nכל העולמות במקום אחד
URL:https://kikar-hamusica.com/shows/he/event/%d7%a2%d7%99%d7%93%d7%95-%d7%9b%d7%94%d7%9f-4/
CATEGORIES:מוזיקה ישראלית
ATTACH;FMTTYPE=image/webp:https://kikar-hamusica.com/shows/he/wp-content/uploads/2024/10/ido-cohen-kikar-hamusica.webp
END:VEVENT
BEGIN:VEVENT
DTSTART;TZID=Asia/Jerusalem:20260517T173000
DTEND;TZID=Asia/Jerusalem:20260517T193000
DTSTAMP:20260423T010657
CREATED:20260416T123411Z
LAST-MODIFIED:20260416T123411Z
UID:10003289-1779039000-1779046200@kikar-hamusica.com
SUMMARY:פרידה ליבמן
DESCRIPTION:פרידה ליבמן בעלת תואר אומן באומנות הביצוע. פסנתרנית ומוסיקאית עם ניסיון עשיר בעיבודים והופעות. את השכלתה המוסיקלית רכשה בברה"מ וישראל
URL:https://kikar-hamusica.com/shows/he/event/%d7%a4%d7%a8%d7%99%d7%93%d7%94-%d7%9c%d7%99%d7%91%d7%9e%d7%9f-3/
CATEGORIES:מוזיקה קלאסית
ATTACH;FMTTYPE=image/webp:https://kikar-hamusica.com/shows/he/wp-content/uploads/2025/03/frida-libman-2025-kikar-hamusica.webp
END:VEVENT
BEGIN:VEVENT
DTSTART;TZID=Asia/Jerusalem:20260517T200000
DTEND;TZID=Asia/Jerusalem:20260517T220000
DTSTAMP:20260423T010657
CREATED:20260416T123413Z
LAST-MODIFIED:20260416T123413Z
UID:10003290-1779048000-1779055200@kikar-hamusica.com
SUMMARY:שוקי מילצקי והאחים ארז
DESCRIPTION:נביא אליכם מופע מרגש וסוחף ממוזיקה יהודית אותנטית עד קאנטרי נעים וממכר\nשירים רגועים ומרגשים לצד שירים שמחים ומקפיצים.באנו לשמוח איתכם\nתהנו!!
URL:https://kikar-hamusica.com/shows/he/event/%d7%a9%d7%95%d7%a7%d7%99-%d7%9e%d7%99%d7%9c%d7%a6%d7%a7%d7%99-%d7%95%d7%94%d7%90%d7%97%d7%99%d7%9d-%d7%90%d7%a8%d7%96/
CATEGORIES:מוזיקה ישראלית
ATTACH;FMTTYPE=image/webp:https://kikar-hamusica.com/shows/he/wp-content/uploads/2025/03/Shuki-Miletski-freres-Erez-kikar-hamusica-jerusalem.webp
END:VEVENT
BEGIN:VEVENT
DTSTART;TZID=Asia/Jerusalem:20260518T120000
DTEND;TZID=Asia/Jerusalem:20260518T140000
DTSTAMP:20260423T010657
CREATED:20260416T123414Z
LAST-MODIFIED:20260416T123414Z
UID:10003291-1779105600-1779112800@kikar-hamusica.com
SUMMARY:ג׳ק לב
DESCRIPTION:אהלן אני ג׳ק לב\, זמר אמריקאי שפה לנגן לאות נפשכם. משירים ישנים ועד להיטים עדכניים\, אנגלית או עברית\, פשוט תבקשו וכנראה שתקבלו
URL:https://kikar-hamusica.com/shows/he/event/%d7%92%d7%b3%d7%a7-%d7%9c%d7%91-4/
CATEGORIES:מוסיקת פופ
ATTACH;FMTTYPE=image/webp:https://kikar-hamusica.com/shows/he/wp-content/uploads/2024/12/jack-lev-kikar-hamusica-fC2csL.tmp_.webp
END:VEVENT
BEGIN:VEVENT
DTSTART;TZID=Asia/Jerusalem:20260518T173000
DTEND;TZID=Asia/Jerusalem:20260518T193000
DTSTAMP:20260423T010657
CREATED:20260416T123415Z
LAST-MODIFIED:20260416T123415Z
UID:10003292-1779125400-1779132600@kikar-hamusica.com
SUMMARY:ג׳יזון רוזנבלת
DESCRIPTION:
URL:https://kikar-hamusica.com/shows/he/event/%d7%92%d7%b3%d7%99%d7%96%d7%95%d7%9f-%d7%a8%d7%95%d7%96%d7%a0%d7%91%d7%9c%d7%aa-3/
CATEGORIES:מוזיקת ​​ג'אז,מוזיקת ​​כליזמרים
ATTACH;FMTTYPE=image/webp:https://kikar-hamusica.com/shows/he/wp-content/uploads/2026/03/quartet-jason-rosenblatt-kikar-hamusica-XDoEaj.webp
END:VEVENT
BEGIN:VEVENT
DTSTART;TZID=Asia/Jerusalem:20260518T200000
DTEND;TZID=Asia/Jerusalem:20260518T220000
DTSTAMP:20260423T010657
CREATED:20260416T123416Z
LAST-MODIFIED:20260416T123416Z
UID:10003293-1779134400-1779141600@kikar-hamusica.com
SUMMARY:אמיר שרייבר והגרוב ביווני
DESCRIPTION:אמיר שרייבר והגרוב היווני… מופע אנרגטי של שירים וקלאסיקות יווניות וצועניות שתורגמו לעברית… ברפרטואר היווני -שירים של אריס סאן..יהודה פוליקר…ולחנים יוונים עממיים. ברפרטואר הצועני ….שירים של הגיפסי קינגס…בספרדית צוענית .וקלאסיקות . אמיר שרייבר שירה וגיטרה יובל מאירי -נגן בוזוקי אורח ניסן לוי -כחון וכלי הקשה
URL:https://kikar-hamusica.com/shows/he/event/%d7%90%d7%9e%d7%99%d7%a8-%d7%a9%d7%a8%d7%99%d7%99%d7%91%d7%a8-%d7%95%d7%94%d7%92%d7%a8%d7%95%d7%91-%d7%91%d7%99%d7%95%d7%95%d7%a0%d7%99-2/
CATEGORIES:מוזיקה יוונית
ATTACH;FMTTYPE=image/webp:https://kikar-hamusica.com/shows/he/wp-content/uploads/2024/12/amir-shreiber-grec-kikar-hamusica-V6bes9.tmp_.webp
END:VEVENT
BEGIN:VEVENT
DTSTART;TZID=Asia/Jerusalem:20260519T120000
DTEND;TZID=Asia/Jerusalem:20260519T140000
DTSTAMP:20260423T010657
CREATED:20260416T123613Z
LAST-MODIFIED:20260416T123613Z
UID:10003294-1779192000-1779199200@kikar-hamusica.com
SUMMARY:גיל שפירא
DESCRIPTION:גיל שפירא – מופע סולו אקוסטי מופע נעים וסוחף של זמר יוצר\, מבצע שירים בעברית ובאנגלית בעיבודים מיוחדים.
URL:https://kikar-hamusica.com/shows/he/event/%d7%92%d7%99%d7%9c-%d7%a9%d7%a4%d7%99%d7%a8%d7%90-2/
CATEGORIES:מוסיקת פופ
ATTACH;FMTTYPE=image/webp:https://kikar-hamusica.com/shows/he/wp-content/uploads/2024/10/gil-shapira-kikar-hamusica.webp
END:VEVENT
BEGIN:VEVENT
DTSTART;TZID=Asia/Jerusalem:20260519T173000
DTEND;TZID=Asia/Jerusalem:20260519T193000
DTSTAMP:20260423T010657
CREATED:20260416T123614Z
LAST-MODIFIED:20260416T123614Z
UID:10003295-1779211800-1779219000@kikar-hamusica.com
SUMMARY:איב & הצ׳לו
DESCRIPTION:סקירה כללית של הסטנדרטים הגדולים ביותר פופ (ביטלס)/סול (סטיבי וונדר\, ביל ווית'רס)/בוסה נובה (טום ג'ובים)/שירים צרפתים (ס.גינסבורג) בדואט "יוקרה" בעדינות: גיטרה אקוסטית/קול וצ'לו\, תענוג לאוזניים.
URL:https://kikar-hamusica.com/shows/he/event/%d7%90%d7%99%d7%91-%d7%94%d7%a6%d7%b3%d7%9c%d7%95-3/
CATEGORIES:מוסיקת פופ
ATTACH;FMTTYPE=image/webp:https://kikar-hamusica.com/shows/he/wp-content/uploads/2025/10/איב-והצ׳לו.webp
END:VEVENT
BEGIN:VEVENT
DTSTART;TZID=Asia/Jerusalem:20260519T200000
DTEND;TZID=Asia/Jerusalem:20260519T220000
DTSTAMP:20260423T010657
CREATED:20260416T123615Z
LAST-MODIFIED:20260416T123615Z
UID:10003296-1779220800-1779228000@kikar-hamusica.com
SUMMARY:גיל ולינוי
DESCRIPTION:הצמד המוזיקלי גיל שפירא ולינוי אקלה – התחילו את דרכם המשותפת בשנת 2015 על הציר שבין תל אביב לירושלים. גיל שפירא – מוזיקאי ירושלמי בן 28 (גידי גוב\, יוני רכטר\, דני סנדרסון ועוד) לינוי אקלה – מוזיקאית בת 25 (כוכב נולד\, הפרויקט של עידן רייכל ועוד) השניים התמזגו כבר מהצליל הראשון והרגישו בחיבור המיוחד ביניהם\, מאותו הרגע התחילה יצירתם המשותפת. הצמד מעלה רפרטואר רחב של שירים באנגלית ובעברית\, שירים של מיטב האמנים בארץ ובעולם\, בעיבוד לשתי גיטרות ושתי קולות.
URL:https://kikar-hamusica.com/shows/he/event/%d7%92%d7%99%d7%9c-%d7%95%d7%9c%d7%99%d7%a0%d7%95%d7%99-2/
CATEGORIES:מוסיקת פופ
ATTACH;FMTTYPE=image/webp:https://kikar-hamusica.com/shows/he/wp-content/uploads/2024/12/gil-linoy-kikar-hamusica-SjZwdM.tmp_.webp
END:VEVENT
BEGIN:VEVENT
DTSTART;TZID=Asia/Jerusalem:20260520T120000
DTEND;TZID=Asia/Jerusalem:20260520T140000
DTSTAMP:20260423T010657
CREATED:20260416T123616Z
LAST-MODIFIED:20260416T123616Z
UID:10003297-1779278400-1779285600@kikar-hamusica.com
SUMMARY:מארק בנטאס
DESCRIPTION:מרק בנטאס\, פסנתרן וזמר ענק של מוזיקת פופ\, נשמה\, וג׳אז. הוא חי את הביטלס את פול מקרטני את סטיבי וונדר\, ג׳ורג׳ בנסון\, פרינס\, מייקל ג׳ונסון\, ג׳יימס טיילור\, מייקל מקדונלד\, ועוד רבים אחרים מאותם הז׳אנרים… בואו לצלול איתנו ביחד איתו לתקופה הכי יפה ויצירתית שהתחילה בשנות ה-70 והמשיכה עד לשנות ה-90\, אנחנו ניהיה בכיכר המוזיקה כל יום שלישי בין השעות 12:00-14:00.
URL:https://kikar-hamusica.com/shows/he/event/%d7%9e%d7%90%d7%a8%d7%a7-%d7%91%d7%a0%d7%98%d7%90%d7%a1-3/
CATEGORIES:מוזיקת ​​R&B,מוסיקת פופ
ATTACH;FMTTYPE=image/webp:https://kikar-hamusica.com/shows/he/wp-content/uploads/2024/06/marc-benetasse-kikar-hamusica.webp
END:VEVENT
BEGIN:VEVENT
DTSTART;TZID=Asia/Jerusalem:20260520T173000
DTEND;TZID=Asia/Jerusalem:20260520T193000
DTSTAMP:20260423T010657
CREATED:20260416T123617Z
LAST-MODIFIED:20260416T123617Z
UID:10003298-1779298200-1779305400@kikar-hamusica.com
SUMMARY:סולמייט
DESCRIPTION:"סולמייט מציעה מסע מוזיקלי דרך הטרנדים המוזיקליים הבינלאומיים הגדולים ביותר של זמננו! מסטיבי וונדר ועד הביטלס ובמיוחד להיטים ישראליים מכל התקופות\, אנו מזמינים אתכם להצטרף אלינו.
URL:https://kikar-hamusica.com/shows/he/event/%d7%a1%d7%95%d7%9c%d7%9e%d7%99%d7%99%d7%98-5/
CATEGORIES:מוזיקה ישראלית,מוסיקת פופ
ATTACH;FMTTYPE=image/webp:https://kikar-hamusica.com/shows/he/wp-content/uploads/2026/04/soul-mate-kikar-hamusica.webp
END:VEVENT
BEGIN:VEVENT
DTSTART;TZID=Asia/Jerusalem:20260520T200000
DTEND;TZID=Asia/Jerusalem:20260520T220000
DTSTAMP:20260423T010657
CREATED:20260416T123814Z
LAST-MODIFIED:20260416T123814Z
UID:10003299-1779307200-1779314400@kikar-hamusica.com
SUMMARY:שלישיית בוסה ג׳יבה פרלמאן
DESCRIPTION:בוסה טריו מציעה רפרטואר מגוון ורחב של מוזיקה לטינית ברזילאית החל מהלהיטים הגדולים של מתי כספי ועד לבוסה נובה (טום ג׳ובים\, ג׳ואו ג׳יברטו) וג׳אז\, מסמבה ועד מוזיקה פופ\, הלהקה מציעה אווירה נעימה בשילוב מוזיקה שמחה ואנרגטית\, כמו שרק להקה ברזילאית אותנטית יכולה לבצע.
URL:https://kikar-hamusica.com/shows/he/event/%d7%a9%d7%9c%d7%99%d7%a9%d7%99%d7%99%d7%aa-%d7%91%d7%95%d7%a1%d7%94-%d7%92%d7%b3%d7%99%d7%91%d7%94-%d7%a4%d7%a8%d7%9c%d7%9e%d7%90%d7%9f/
CATEGORIES:מוזיקה ברזילאית
ATTACH;FMTTYPE=image/webp:https://kikar-hamusica.com/shows/he/wp-content/uploads/2025/03/giba-perelman-bossa-kikar-hamusika-O5T1XJ.tmp_.webp
END:VEVENT
BEGIN:VEVENT
DTSTART;TZID=Asia/Jerusalem:20260521T120000
DTEND;TZID=Asia/Jerusalem:20260521T140000
DTSTAMP:20260423T010657
CREATED:20260416T123815Z
LAST-MODIFIED:20260416T123815Z
UID:10003300-1779364800-1779372000@kikar-hamusica.com
SUMMARY:יהודה אשש
DESCRIPTION:יהודה אשש – מוסיקאי ירושלמי ותיק.למד מוסיקה ועיצוב סאונד בארהב.במשך שנים רבות הפיק וניגן בהרכבים שונים בארץ ובעולם בתחום הרוק ובתחום מוסיקת עולם.היום בעיקר מלחין ויוצר מוסיקה לסרטים ותכניות טלויזיה. בכיכר המוסיקה יהודה אשש מנגן ושר מבחר שירים בעברית ובאנגלית מהקלסיקות של עולם הרוק והפופ.
URL:https://kikar-hamusica.com/shows/he/event/%d7%99%d7%94%d7%95%d7%93%d7%94-%d7%90%d7%a9%d7%a9-6/
CATEGORIES:מוזיקה ישראלית
ATTACH;FMTTYPE=image/webp:https://kikar-hamusica.com/shows/he/wp-content/uploads/2024/07/yehuda-ashash-kikar-hamusica.webp
END:VEVENT
BEGIN:VEVENT
DTSTART;TZID=Asia/Jerusalem:20260521T203000
DTEND;TZID=Asia/Jerusalem:20260521T223000
DTSTAMP:20260423T010657
CREATED:20260416T123816Z
LAST-MODIFIED:20260416T123816Z
UID:10003301-1779395400-1779402600@kikar-hamusica.com
SUMMARY:שבועות
DESCRIPTION:אין מוזיקה
URL:https://kikar-hamusica.com/shows/he/event/%d7%a9%d7%91%d7%95%d7%a2%d7%95%d7%aa/
ATTACH;FMTTYPE=image/webp:https://kikar-hamusica.com/shows/he/wp-content/uploads/2025/02/shavouot-kikar-hamusica.webp
END:VEVENT
BEGIN:VEVENT
DTSTART;TZID=Asia/Jerusalem:20260522T120000
DTEND;TZID=Asia/Jerusalem:20260522T140000
DTSTAMP:20260423T010657
CREATED:20260416T123817Z
LAST-MODIFIED:20260416T123817Z
UID:10003302-1779451200-1779458400@kikar-hamusica.com
SUMMARY:שבועות
DESCRIPTION:אין מוזיקה
URL:https://kikar-hamusica.com/shows/he/event/%d7%a9%d7%91%d7%95%d7%a2%d7%95%d7%aa-2/
ATTACH;FMTTYPE=image/webp:https://kikar-hamusica.com/shows/he/wp-content/uploads/2025/02/shavouot-kikar-hamusica.webp
END:VEVENT
BEGIN:VEVENT
DTSTART;TZID=Asia/Jerusalem:20260523T200000
DTEND;TZID=Asia/Jerusalem:20260523T220000
DTSTAMP:20260423T010657
CREATED:20260416T123818Z
LAST-MODIFIED:20260416T123818Z
UID:10003303-1779566400-1779573600@kikar-hamusica.com
SUMMARY:שבת
DESCRIPTION:אין הופעות
URL:https://kikar-hamusica.com/shows/he/event/%d7%a9%d7%91%d7%aa-4/
ATTACH;FMTTYPE=image/webp:https://kikar-hamusica.com/shows/he/wp-content/uploads/2025/02/chabath-kikar-hamusica.webp
END:VEVENT
BEGIN:VEVENT
DTSTART;TZID=Asia/Jerusalem:20260524T120000
DTEND;TZID=Asia/Jerusalem:20260524T140000
DTSTAMP:20260423T010657
CREATED:20260416T124014Z
LAST-MODIFIED:20260416T124014Z
UID:10003304-1779624000-1779631200@kikar-hamusica.com
SUMMARY:עידו כהן
DESCRIPTION:מהקלאסיקות  של פעם ועד הלהיטים של היום.\nעידו משתדל לגעת בכל עולמות המוזיקה כדי שכולם יהנו ויקבלו חוויה מוזיקלית נעימה\nמשלמה ארצי וקראנק סינטרה  ועד עידן רייכל וקולדפליי…\nכל העולמות במקום אחד
URL:https://kikar-hamusica.com/shows/he/event/%d7%a2%d7%99%d7%93%d7%95-%d7%9b%d7%94%d7%9f-5/
CATEGORIES:מוזיקה ישראלית
ATTACH;FMTTYPE=image/webp:https://kikar-hamusica.com/shows/he/wp-content/uploads/2024/10/ido-cohen-kikar-hamusica.webp
END:VEVENT
BEGIN:VEVENT
DTSTART;TZID=Asia/Jerusalem:20260524T173000
DTEND;TZID=Asia/Jerusalem:20260524T193000
DTSTAMP:20260423T010657
CREATED:20260416T124015Z
LAST-MODIFIED:20260416T124015Z
UID:10003305-1779643800-1779651000@kikar-hamusica.com
SUMMARY:פרידה ליבמן
DESCRIPTION:פרידה ליבמן בעלת תואר אומן באומנות הביצוע. פסנתרנית ומוסיקאית עם ניסיון עשיר בעיבודים והופעות. את השכלתה המוסיקלית רכשה בברה"מ וישראל
URL:https://kikar-hamusica.com/shows/he/event/%d7%a4%d7%a8%d7%99%d7%93%d7%94-%d7%9c%d7%99%d7%91%d7%9e%d7%9f-4/
CATEGORIES:מוזיקה קלאסית
ATTACH;FMTTYPE=image/webp:https://kikar-hamusica.com/shows/he/wp-content/uploads/2025/03/frida-libman-2025-kikar-hamusica.webp
END:VEVENT
END:VCALENDAR