BEGIN:VCALENDAR
VERSION:2.0
PRODID:-//קונצרטים ואירועים לכיככר המוזיקה - ECPv6.15.20//NONSGML v1.0//EN
CALSCALE:GREGORIAN
METHOD:PUBLISH
X-WR-CALNAME:קונצרטים ואירועים לכיככר המוזיקה
X-ORIGINAL-URL:https://kikar-hamusica.com/shows/he
X-WR-CALDESC:Events for קונצרטים ואירועים לכיככר המוזיקה
REFRESH-INTERVAL;VALUE=DURATION:PT1H
X-Robots-Tag:noindex
X-PUBLISHED-TTL:PT1H
BEGIN:VTIMEZONE
TZID:Asia/Jerusalem
BEGIN:DAYLIGHT
TZOFFSETFROM:+0200
TZOFFSETTO:+0300
TZNAME:IDT
DTSTART:20250328T000000
END:DAYLIGHT
BEGIN:STANDARD
TZOFFSETFROM:+0300
TZOFFSETTO:+0200
TZNAME:IST
DTSTART:20251025T230000
END:STANDARD
BEGIN:DAYLIGHT
TZOFFSETFROM:+0200
TZOFFSETTO:+0300
TZNAME:IDT
DTSTART:20260327T000000
END:DAYLIGHT
BEGIN:STANDARD
TZOFFSETFROM:+0300
TZOFFSETTO:+0200
TZNAME:IST
DTSTART:20261024T230000
END:STANDARD
BEGIN:DAYLIGHT
TZOFFSETFROM:+0200
TZOFFSETTO:+0300
TZNAME:IDT
DTSTART:20270326T000000
END:DAYLIGHT
BEGIN:STANDARD
TZOFFSETFROM:+0300
TZOFFSETTO:+0200
TZNAME:IST
DTSTART:20271030T230000
END:STANDARD
END:VTIMEZONE
BEGIN:VEVENT
DTSTART;TZID=Asia/Jerusalem:20260423T203000
DTEND;TZID=Asia/Jerusalem:20260423T223000
DTSTAMP:20260422T163717
CREATED:20260315T132226Z
LAST-MODIFIED:20260315T132226Z
UID:10003230-1776976200-1776983400@kikar-hamusica.com
SUMMARY:סיהרא
DESCRIPTION:סיהרא-רוק פופ ומוזיקת עולם ארבעה מוסיקאים ירושלמים במופע אנרגטי של רוק פופ ומוסיקת עולם. סיהרא מבצעת גרסאות כיסוי לשירים מוכרים וכן קטעים מקוריים מעוררי השראה. יהודה אשש: עוד\,גיטרה ושירה\, גיל שפירא: גיטרה ושירה\, נועם ידגר: בס וניסן לוי: תופים וכלי הקשה.
URL:https://kikar-hamusica.com/shows/he/event/%d7%a1%d7%99%d7%94%d7%a8%d7%90-23/
CATEGORIES:מוסיקת עולם
ATTACH;FMTTYPE=image/webp:https://kikar-hamusica.com/shows/he/wp-content/uploads/2024/12/sihara-kikar-hamusica-p12Z4I.tmp_.webp
END:VEVENT
BEGIN:VEVENT
DTSTART;TZID=Asia/Jerusalem:20260430T203000
DTEND;TZID=Asia/Jerusalem:20260430T223000
DTSTAMP:20260422T163717
CREATED:20260315T133027Z
LAST-MODIFIED:20260315T133027Z
UID:10003248-1777581000-1777588200@kikar-hamusica.com
SUMMARY:סיהרא
DESCRIPTION:סיהרא-רוק פופ ומוזיקת עולם ארבעה מוסיקאים ירושלמים במופע אנרגטי של רוק פופ ומוסיקת עולם. סיהרא מבצעת גרסאות כיסוי לשירים מוכרים וכן קטעים מקוריים מעוררי השראה. יהודה אשש: עוד\,גיטרה ושירה\, גיל שפירא: גיטרה ושירה\, נועם ידגר: בס וניסן לוי: תופים וכלי הקשה.
URL:https://kikar-hamusica.com/shows/he/event/%d7%a1%d7%99%d7%94%d7%a8%d7%90-24/
CATEGORIES:מוסיקת עולם
ATTACH;FMTTYPE=image/webp:https://kikar-hamusica.com/shows/he/wp-content/uploads/2024/12/sihara-kikar-hamusica-p12Z4I.tmp_.webp
END:VEVENT
BEGIN:VEVENT
DTSTART;TZID=Asia/Jerusalem:20260501T120000
DTEND;TZID=Asia/Jerusalem:20260501T140000
DTSTAMP:20260422T163717
CREATED:20260416T122003Z
LAST-MODIFIED:20260416T122003Z
UID:10003250-1777636800-1777644000@kikar-hamusica.com
SUMMARY:סיהרא
DESCRIPTION:סיהרא-רוק פופ ומוזיקת עולם ארבעה מוסיקאים ירושלמים במופע אנרגטי של רוק פופ ומוסיקת עולם. סיהרא מבצעת גרסאות כיסוי לשירים מוכרים וכן קטעים מקוריים מעוררי השראה. יהודה אשש: עוד\,גיטרה ושירה\, גיל שפירא: גיטרה ושירה\, נועם ידגר: בס וניסן לוי: תופים וכלי הקשה.
URL:https://kikar-hamusica.com/shows/he/event/%d7%a1%d7%99%d7%94%d7%a8%d7%90/
CATEGORIES:מוסיקת עולם
ATTACH;FMTTYPE=image/webp:https://kikar-hamusica.com/shows/he/wp-content/uploads/2024/12/sihara-kikar-hamusica-p12Z4I.tmp_.webp
END:VEVENT
BEGIN:VEVENT
DTSTART;TZID=Asia/Jerusalem:20260505T120000
DTEND;TZID=Asia/Jerusalem:20260505T140000
DTSTAMP:20260422T163717
CREATED:20260416T122013Z
LAST-MODIFIED:20260416T122013Z
UID:10003258-1777982400-1777989600@kikar-hamusica.com
SUMMARY:גיל שפירא
DESCRIPTION:גיל שפירא – מופע סולו אקוסטי מופע נעים וסוחף של זמר יוצר\, מבצע שירים בעברית ובאנגלית בעיבודים מיוחדים.
URL:https://kikar-hamusica.com/shows/he/event/%d7%92%d7%99%d7%9c-%d7%a9%d7%a4%d7%99%d7%a8%d7%90/
CATEGORIES:מוסיקת פופ
ATTACH;FMTTYPE=image/webp:https://kikar-hamusica.com/shows/he/wp-content/uploads/2024/10/gil-shapira-kikar-hamusica.webp
END:VEVENT
BEGIN:VEVENT
DTSTART;TZID=Asia/Jerusalem:20260505T200000
DTEND;TZID=Asia/Jerusalem:20260505T220000
DTSTAMP:20260422T163717
CREATED:20260416T122210Z
LAST-MODIFIED:20260416T122210Z
UID:10003260-1778011200-1778018400@kikar-hamusica.com
SUMMARY:גיל ולינוי
DESCRIPTION:הצמד המוזיקלי גיל שפירא ולינוי אקלה – התחילו את דרכם המשותפת בשנת 2015 על הציר שבין תל אביב לירושלים. גיל שפירא – מוזיקאי ירושלמי בן 28 (גידי גוב\, יוני רכטר\, דני סנדרסון ועוד) לינוי אקלה – מוזיקאית בת 25 (כוכב נולד\, הפרויקט של עידן רייכל ועוד) השניים התמזגו כבר מהצליל הראשון והרגישו בחיבור המיוחד ביניהם\, מאותו הרגע התחילה יצירתם המשותפת. הצמד מעלה רפרטואר רחב של שירים באנגלית ובעברית\, שירים של מיטב האמנים בארץ ובעולם\, בעיבוד לשתי גיטרות ושתי קולות.
URL:https://kikar-hamusica.com/shows/he/event/%d7%92%d7%99%d7%9c-%d7%95%d7%9c%d7%99%d7%a0%d7%95%d7%99/
CATEGORIES:מוסיקת פופ
ATTACH;FMTTYPE=image/webp:https://kikar-hamusica.com/shows/he/wp-content/uploads/2024/12/gil-linoy-kikar-hamusica-SjZwdM.tmp_.webp
END:VEVENT
BEGIN:VEVENT
DTSTART;TZID=Asia/Jerusalem:20260507T203000
DTEND;TZID=Asia/Jerusalem:20260507T223000
DTSTAMP:20260422T163717
CREATED:20260416T122412Z
LAST-MODIFIED:20260416T122412Z
UID:10003266-1778185800-1778193000@kikar-hamusica.com
SUMMARY:סיהרא
DESCRIPTION:סיהרא-רוק פופ ומוזיקת עולם ארבעה מוסיקאים ירושלמים במופע אנרגטי של רוק פופ ומוסיקת עולם. סיהרא מבצעת גרסאות כיסוי לשירים מוכרים וכן קטעים מקוריים מעוררי השראה. יהודה אשש: עוד\,גיטרה ושירה\, גיל שפירא: גיטרה ושירה\, נועם ידגר: בס וניסן לוי: תופים וכלי הקשה.
URL:https://kikar-hamusica.com/shows/he/event/%d7%a1%d7%99%d7%94%d7%a8%d7%90-2/
CATEGORIES:מוסיקת עולם
ATTACH;FMTTYPE=image/webp:https://kikar-hamusica.com/shows/he/wp-content/uploads/2024/12/sihara-kikar-hamusica-p12Z4I.tmp_.webp
END:VEVENT
BEGIN:VEVENT
DTSTART;TZID=Asia/Jerusalem:20260514T203000
DTEND;TZID=Asia/Jerusalem:20260514T223000
DTSTAMP:20260422T163717
CREATED:20260416T123210Z
LAST-MODIFIED:20260416T123210Z
UID:10003284-1778790600-1778797800@kikar-hamusica.com
SUMMARY:סיהרא
DESCRIPTION:סיהרא-רוק פופ ומוזיקת עולם ארבעה מוסיקאים ירושלמים במופע אנרגטי של רוק פופ ומוסיקת עולם. סיהרא מבצעת גרסאות כיסוי לשירים מוכרים וכן קטעים מקוריים מעוררי השראה. יהודה אשש: עוד\,גיטרה ושירה\, גיל שפירא: גיטרה ושירה\, נועם ידגר: בס וניסן לוי: תופים וכלי הקשה.
URL:https://kikar-hamusica.com/shows/he/event/%d7%a1%d7%99%d7%94%d7%a8%d7%90-3/
CATEGORIES:מוסיקת עולם
ATTACH;FMTTYPE=image/webp:https://kikar-hamusica.com/shows/he/wp-content/uploads/2024/12/sihara-kikar-hamusica-p12Z4I.tmp_.webp
END:VEVENT
BEGIN:VEVENT
DTSTART;TZID=Asia/Jerusalem:20260515T120000
DTEND;TZID=Asia/Jerusalem:20260515T140000
DTSTAMP:20260422T163717
CREATED:20260416T123213Z
LAST-MODIFIED:20260416T123213Z
UID:10003286-1778846400-1778853600@kikar-hamusica.com
SUMMARY:סיהרא
DESCRIPTION:סיהרא-רוק פופ ומוזיקת עולם ארבעה מוסיקאים ירושלמים במופע אנרגטי של רוק פופ ומוסיקת עולם. סיהרא מבצעת גרסאות כיסוי לשירים מוכרים וכן קטעים מקוריים מעוררי השראה. יהודה אשש: עוד\,גיטרה ושירה\, גיל שפירא: גיטרה ושירה\, נועם ידגר: בס וניסן לוי: תופים וכלי הקשה.
URL:https://kikar-hamusica.com/shows/he/event/%d7%a1%d7%99%d7%94%d7%a8%d7%90-4/
CATEGORIES:מוסיקת עולם
ATTACH;FMTTYPE=image/webp:https://kikar-hamusica.com/shows/he/wp-content/uploads/2024/12/sihara-kikar-hamusica-p12Z4I.tmp_.webp
END:VEVENT
BEGIN:VEVENT
DTSTART;TZID=Asia/Jerusalem:20260519T120000
DTEND;TZID=Asia/Jerusalem:20260519T140000
DTSTAMP:20260422T163717
CREATED:20260416T123613Z
LAST-MODIFIED:20260416T123613Z
UID:10003294-1779192000-1779199200@kikar-hamusica.com
SUMMARY:גיל שפירא
DESCRIPTION:גיל שפירא – מופע סולו אקוסטי מופע נעים וסוחף של זמר יוצר\, מבצע שירים בעברית ובאנגלית בעיבודים מיוחדים.
URL:https://kikar-hamusica.com/shows/he/event/%d7%92%d7%99%d7%9c-%d7%a9%d7%a4%d7%99%d7%a8%d7%90-2/
CATEGORIES:מוסיקת פופ
ATTACH;FMTTYPE=image/webp:https://kikar-hamusica.com/shows/he/wp-content/uploads/2024/10/gil-shapira-kikar-hamusica.webp
END:VEVENT
BEGIN:VEVENT
DTSTART;TZID=Asia/Jerusalem:20260519T200000
DTEND;TZID=Asia/Jerusalem:20260519T220000
DTSTAMP:20260422T163717
CREATED:20260416T123615Z
LAST-MODIFIED:20260416T123615Z
UID:10003296-1779220800-1779228000@kikar-hamusica.com
SUMMARY:גיל ולינוי
DESCRIPTION:הצמד המוזיקלי גיל שפירא ולינוי אקלה – התחילו את דרכם המשותפת בשנת 2015 על הציר שבין תל אביב לירושלים. גיל שפירא – מוזיקאי ירושלמי בן 28 (גידי גוב\, יוני רכטר\, דני סנדרסון ועוד) לינוי אקלה – מוזיקאית בת 25 (כוכב נולד\, הפרויקט של עידן רייכל ועוד) השניים התמזגו כבר מהצליל הראשון והרגישו בחיבור המיוחד ביניהם\, מאותו הרגע התחילה יצירתם המשותפת. הצמד מעלה רפרטואר רחב של שירים באנגלית ובעברית\, שירים של מיטב האמנים בארץ ובעולם\, בעיבוד לשתי גיטרות ושתי קולות.
URL:https://kikar-hamusica.com/shows/he/event/%d7%92%d7%99%d7%9c-%d7%95%d7%9c%d7%99%d7%a0%d7%95%d7%99-2/
CATEGORIES:מוסיקת פופ
ATTACH;FMTTYPE=image/webp:https://kikar-hamusica.com/shows/he/wp-content/uploads/2024/12/gil-linoy-kikar-hamusica-SjZwdM.tmp_.webp
END:VEVENT
BEGIN:VEVENT
DTSTART;TZID=Asia/Jerusalem:20260528T203000
DTEND;TZID=Asia/Jerusalem:20260528T223000
DTSTAMP:20260422T163717
CREATED:20260416T132206Z
LAST-MODIFIED:20260416T132206Z
UID:10003318-1780000200-1780007400@kikar-hamusica.com
SUMMARY:סיהרא
DESCRIPTION:סיהרא-רוק פופ ומוזיקת עולם ארבעה מוסיקאים ירושלמים במופע אנרגטי של רוק פופ ומוסיקת עולם. סיהרא מבצעת גרסאות כיסוי לשירים מוכרים וכן קטעים מקוריים מעוררי השראה. יהודה אשש: עוד\,גיטרה ושירה\, גיל שפירא: גיטרה ושירה\, נועם ידגר: בס וניסן לוי: תופים וכלי הקשה.
URL:https://kikar-hamusica.com/shows/he/event/%d7%a1%d7%99%d7%94%d7%a8%d7%90-5/
CATEGORIES:מוסיקת עולם
ATTACH;FMTTYPE=image/webp:https://kikar-hamusica.com/shows/he/wp-content/uploads/2024/12/sihara-kikar-hamusica-p12Z4I.tmp_.webp
END:VEVENT
END:VCALENDAR